xen-devel.lists.xenproject.org archive mirror
 help / color / mirror / Atom feed
* [seabios baseline-only test] 68387: trouble: blocked/broken
@ 2017-01-18 11:30 Platform Team regression test user
  0 siblings, 0 replies; only message in thread
From: Platform Team regression test user @ 2017-01-18 11:30 UTC (permalink / raw)
  To: xen-devel, osstest-admin

This run is configured for baseline tests only.

flight 68387 seabios real [real]
http://osstest.xs.citrite.net/~osstest/testlogs/logs/68387/

Failures and problems with tests :-(

Tests which did not succeed and are blocking,
including tests which could not be run:
 build-i386-xsm                3 host-install(3)         broken REGR. vs. 68297
 build-amd64-xsm               3 host-install(3)         broken REGR. vs. 68297
 build-i386-pvops              3 host-install(3)         broken REGR. vs. 68297
 build-i386                    3 host-install(3)         broken REGR. vs. 68297
 build-amd64-pvops             3 host-install(3)         broken REGR. vs. 68297
 build-amd64                   3 host-install(3)         broken REGR. vs. 68297

Tests which did not succeed, but are not blocking:
 test-amd64-i386-xl-qemuu-win7-amd64  1 build-check(1)              blocked n/a
 test-amd64-amd64-xl-qemuu-debianhvm-amd64  1 build-check(1)        blocked n/a
 test-amd64-amd64-qemuu-nested-intel  1 build-check(1)              blocked n/a
 test-amd64-i386-libvirt-qemuu-debianhvm-amd64-xsm 1 build-check(1) blocked n/a
 build-amd64-libvirt           1 build-check(1)               blocked  n/a
 test-amd64-amd64-xl-qemuu-debianhvm-amd64-xsm  1 build-check(1)    blocked n/a
 test-amd64-i386-qemuu-rhel6hvm-amd  1 build-check(1)               blocked n/a
 test-amd64-amd64-xl-qemuu-win7-amd64  1 build-check(1)             blocked n/a
 test-amd64-amd64-qemuu-nested-amd  1 build-check(1)               blocked  n/a
 test-amd64-amd64-libvirt-qemuu-debianhvm-amd64-xsm 1 build-check(1) blocked n/a
 test-amd64-i386-xl-qemuu-debianhvm-amd64-xsm  1 build-check(1)     blocked n/a
 test-amd64-amd64-xl-qemuu-winxpsp3  1 build-check(1)               blocked n/a
 test-amd64-i386-xl-qemuu-winxpsp3-vcpus1  1 build-check(1)         blocked n/a
 test-amd64-i386-xl-qemuu-debianhvm-amd64  1 build-check(1)         blocked n/a
 build-i386-libvirt            1 build-check(1)               blocked  n/a
 test-amd64-i386-xl-qemuu-winxpsp3  1 build-check(1)               blocked  n/a
 test-amd64-i386-qemuu-rhel6hvm-intel  1 build-check(1)             blocked n/a

version targeted for testing:
 seabios              106543deb447c4005f9a9845f1f43a72547f6209
baseline version:
 seabios              9332965e1c46ddf4e19d7050f1e957a195c703fa

Last test of basis    68297  2016-12-30 19:17:33 Z   18 days
Testing same since    68387  2017-01-17 21:19:56 Z    0 days    1 attempts

------------------------------------------------------------
People who touched revisions under test:
  Ladi Prosek <lprosek@redhat.com>

jobs:
 build-amd64-xsm                                              broken  
 build-i386-xsm                                               broken  
 build-amd64                                                  broken  
 build-i386                                                   broken  
 build-amd64-libvirt                                          blocked 
 build-i386-libvirt                                           blocked 
 build-amd64-pvops                                            broken  
 build-i386-pvops                                             broken  
 test-amd64-amd64-libvirt-qemuu-debianhvm-amd64-xsm           blocked 
 test-amd64-i386-libvirt-qemuu-debianhvm-amd64-xsm            blocked 
 test-amd64-amd64-xl-qemuu-debianhvm-amd64-xsm                blocked 
 test-amd64-i386-xl-qemuu-debianhvm-amd64-xsm                 blocked 
 test-amd64-amd64-qemuu-nested-amd                            blocked 
 test-amd64-i386-qemuu-rhel6hvm-amd                           blocked 
 test-amd64-amd64-xl-qemuu-debianhvm-amd64                    blocked 
 test-amd64-i386-xl-qemuu-debianhvm-amd64                     blocked 
 test-amd64-amd64-xl-qemuu-win7-amd64                         blocked 
 test-amd64-i386-xl-qemuu-win7-amd64                          blocked 
 test-amd64-amd64-qemuu-nested-intel                          blocked 
 test-amd64-i386-qemuu-rhel6hvm-intel                         blocked 
 test-amd64-i386-xl-qemuu-winxpsp3-vcpus1                     blocked 
 test-amd64-amd64-xl-qemuu-winxpsp3                           blocked 
 test-amd64-i386-xl-qemuu-winxpsp3                            blocked 


------------------------------------------------------------
sg-report-flight on osstest.xs.citrite.net
logs: /home/osstest/logs
images: /home/osstest/images

Logs, config files, etc. are available at
    http://osstest.xs.citrite.net/~osstest/testlogs/logs

Test harness code can be found at
    http://xenbits.xensource.com/gitweb?p=osstest.git;a=summary

broken-step build-i386-xsm host-install(3)
broken-step build-amd64-xsm host-install(3)
broken-step build-i386-pvops host-install(3)
broken-step build-i386 host-install(3)
broken-step build-amd64-pvops host-install(3)
broken-step build-amd64 host-install(3)

Push not applicable.

------------------------------------------------------------
commit 106543deb447c4005f9a9845f1f43a72547f6209
Author: Ladi Prosek <lprosek@redhat.com>
Date:   Fri Jan 13 10:48:29 2017 +0100

    ahci: Set upper 32-bit registers to zero
    
    If the HBA supports 64-bit addressing, the registers may contain
    non-zero values, for example after reboot as a leftover from the
    OS driving the adapter.
    
    Reviewed-by: Paolo Bonzini <pbonzini@redhat.com>
    Signed-off-by: Ladi Prosek <lprosek@redhat.com>

_______________________________________________
Xen-devel mailing list
Xen-devel@lists.xen.org
https://lists.xen.org/xen-devel

^ permalink raw reply	[flat|nested] only message in thread

only message in thread, other threads:[~2017-01-18 11:30 UTC | newest]

Thread overview: (only message) (download: mbox.gz follow: Atom feed
-- links below jump to the message on this page --
2017-01-18 11:30 [seabios baseline-only test] 68387: trouble: blocked/broken Platform Team regression test user

This is a public inbox, see mirroring instructions
for how to clone and mirror all data and code used for this inbox;
as well as URLs for NNTP newsgroup(s).