* [xen-unstable baseline-only test] 68389: tolerable trouble: blocked/broken
@ 2017-01-18 22:26 Platform Team regression test user
0 siblings, 0 replies; only message in thread
From: Platform Team regression test user @ 2017-01-18 22:26 UTC (permalink / raw)
To: xen-devel, osstest-admin
This run is configured for baseline tests only.
flight 68389 xen-unstable real [real]
http://osstest.xs.citrite.net/~osstest/testlogs/logs/68389/
Failures :-/ but no regressions.
Regressions which are regarded as allowable (not blocking):
build-armhf-xsm 3 host-install(3) broken baseline untested
build-armhf 3 host-install(3) broken baseline untested
build-armhf-pvops 3 host-install(3) broken baseline untested
build-i386-oldkern 3 host-install(3) broken baseline untested
build-i386-pvops 3 host-install(3) broken baseline untested
build-i386-xsm 3 host-install(3) broken baseline untested
build-i386-prev 3 host-install(3) broken baseline untested
build-amd64-xsm 3 host-install(3) broken baseline untested
build-amd64-oldkern 3 host-install(3) broken baseline untested
build-amd64-xtf 3 host-install(3) broken baseline untested
build-amd64-pvops 3 host-install(3) broken baseline untested
build-i386 3 host-install(3) broken baseline untested
build-amd64-prev 3 host-install(3) broken baseline untested
build-amd64 3 host-install(3) broken baseline untested
Tests which did not succeed, but are not blocking:
test-amd64-amd64-xl-qemuu-debianhvm-amd64 1 build-check(1) blocked n/a
test-amd64-i386-freebsd10-i386 1 build-check(1) blocked n/a
test-amd64-amd64-qemuu-nested-intel 1 build-check(1) blocked n/a
test-amd64-i386-libvirt-qemuu-debianhvm-amd64-xsm 1 build-check(1) blocked n/a
test-xtf-amd64-amd64-1 1 build-check(1) blocked n/a
test-armhf-armhf-xl-midway 1 build-check(1) blocked n/a
test-armhf-armhf-libvirt 1 build-check(1) blocked n/a
test-amd64-i386-xl-qemuu-debianhvm-amd64-xsm 1 build-check(1) blocked n/a
test-amd64-i386-xl-qemut-debianhvm-amd64-xsm 1 build-check(1) blocked n/a
test-amd64-amd64-migrupgrade 1 build-check(1) blocked n/a
test-amd64-amd64-xl-qemut-stubdom-debianhvm-amd64-xsm 1 build-check(1) blocked n/a
test-amd64-i386-xl-qemuu-winxpsp3-vcpus1 1 build-check(1) blocked n/a
test-armhf-armhf-libvirt-raw 1 build-check(1) blocked n/a
test-amd64-i386-libvirt-xsm 1 build-check(1) blocked n/a
test-amd64-amd64-xl-multivcpu 1 build-check(1) blocked n/a
test-amd64-i386-xl-qemuu-winxpsp3 1 build-check(1) blocked n/a
test-amd64-amd64-libvirt 1 build-check(1) blocked n/a
test-amd64-i386-xl-qemut-winxpsp3 1 build-check(1) blocked n/a
test-amd64-amd64-xl-pvh-amd 1 build-check(1) blocked n/a
test-amd64-i386-xl-qemut-debianhvm-amd64 1 build-check(1) blocked n/a
test-amd64-i386-qemut-rhel6hvm-intel 1 build-check(1) blocked n/a
test-amd64-i386-freebsd10-amd64 1 build-check(1) blocked n/a
test-amd64-amd64-pair 1 build-check(1) blocked n/a
test-armhf-armhf-xl-credit2 1 build-check(1) blocked n/a
build-i386-rumprun 1 build-check(1) blocked n/a
test-amd64-amd64-xl-qemuu-win7-amd64 1 build-check(1) blocked n/a
test-amd64-amd64-libvirt-qemuu-debianhvm-amd64-xsm 1 build-check(1) blocked n/a
test-amd64-amd64-pygrub 1 build-check(1) blocked n/a
test-amd64-amd64-xl-qemuu-winxpsp3 1 build-check(1) blocked n/a
test-amd64-amd64-xl-qcow2 1 build-check(1) blocked n/a
test-amd64-amd64-amd64-pvgrub 1 build-check(1) blocked n/a
test-xtf-amd64-amd64-2 1 build-check(1) blocked n/a
test-amd64-amd64-xl-qemut-win7-amd64 1 build-check(1) blocked n/a
test-amd64-i386-xl-qemuu-debianhvm-amd64 1 build-check(1) blocked n/a
test-armhf-armhf-libvirt-xsm 1 build-check(1) blocked n/a
build-amd64-rumprun 1 build-check(1) blocked n/a
build-i386-libvirt 1 build-check(1) blocked n/a
test-amd64-i386-xl 1 build-check(1) blocked n/a
test-amd64-i386-libvirt-pair 1 build-check(1) blocked n/a
test-xtf-amd64-amd64-4 1 build-check(1) blocked n/a
test-amd64-amd64-xl-qemuu-ovmf-amd64 1 build-check(1) blocked n/a
test-amd64-amd64-libvirt-vhd 1 build-check(1) blocked n/a
test-amd64-amd64-xl-credit2 1 build-check(1) blocked n/a
test-armhf-armhf-xl-multivcpu 1 build-check(1) blocked n/a
test-amd64-i386-xl-xsm 1 build-check(1) blocked n/a
build-amd64-libvirt 1 build-check(1) blocked n/a
test-amd64-amd64-xl-qemuu-debianhvm-amd64-xsm 1 build-check(1) blocked n/a
test-amd64-amd64-rumprun-amd64 1 build-check(1) blocked n/a
test-xtf-amd64-amd64-3 1 build-check(1) blocked n/a
test-amd64-i386-xl-qemuu-ovmf-amd64 1 build-check(1) blocked n/a
test-amd64-amd64-xl-pvh-intel 1 build-check(1) blocked n/a
test-amd64-i386-xl-raw 1 build-check(1) blocked n/a
test-amd64-amd64-i386-pvgrub 1 build-check(1) blocked n/a
test-amd64-i386-qemuu-rhel6hvm-amd 1 build-check(1) blocked n/a
test-amd64-amd64-xl-qemut-winxpsp3 1 build-check(1) blocked n/a
test-xtf-amd64-amd64-5 1 build-check(1) blocked n/a
build-armhf-libvirt 1 build-check(1) blocked n/a
test-armhf-armhf-libvirt-qcow2 1 build-check(1) blocked n/a
test-amd64-amd64-libvirt-pair 1 build-check(1) blocked n/a
test-amd64-i386-libvirt 1 build-check(1) blocked n/a
test-armhf-armhf-xl 1 build-check(1) blocked n/a
test-amd64-amd64-libvirt-xsm 1 build-check(1) blocked n/a
test-amd64-amd64-xl-xsm 1 build-check(1) blocked n/a
test-amd64-i386-xl-qemut-winxpsp3-vcpus1 1 build-check(1) blocked n/a
test-amd64-i386-qemuu-rhel6hvm-intel 1 build-check(1) blocked n/a
test-armhf-armhf-xl-vhd 1 build-check(1) blocked n/a
test-amd64-i386-migrupgrade 1 build-check(1) blocked n/a
test-amd64-i386-xl-qemuu-win7-amd64 1 build-check(1) blocked n/a
test-amd64-amd64-xl 1 build-check(1) blocked n/a
test-amd64-i386-pair 1 build-check(1) blocked n/a
test-amd64-i386-rumprun-i386 1 build-check(1) blocked n/a
test-amd64-amd64-qemuu-nested-amd 1 build-check(1) blocked n/a
test-amd64-i386-xl-qemut-stubdom-debianhvm-amd64-xsm 1 build-check(1) blocked n/a
test-amd64-i386-xl-qemut-win7-amd64 1 build-check(1) blocked n/a
test-amd64-i386-qemut-rhel6hvm-amd 1 build-check(1) blocked n/a
test-armhf-armhf-xl-rtds 1 build-check(1) blocked n/a
test-amd64-amd64-xl-qemut-debianhvm-amd64-xsm 1 build-check(1) blocked n/a
test-amd64-amd64-xl-qemut-debianhvm-amd64 1 build-check(1) blocked n/a
test-armhf-armhf-xl-xsm 1 build-check(1) blocked n/a
test-amd64-amd64-xl-rtds 1 build-check(1) blocked n/a
version targeted for testing:
xen 5ad98e3c7fa92f46d77a788e1109b7d282bd1256
baseline version:
xen c33b5f013db3460c07c017dea45a1c010c3dacc0
Last test of basis 68385 2017-01-17 19:17:05 Z 1 days
Testing same since 68389 2017-01-18 07:16:44 Z 0 days 1 attempts
------------------------------------------------------------
People who touched revisions under test:
Jan Beulich <jbeulich@suse.com>
jobs:
build-amd64-xsm broken
build-armhf-xsm broken
build-i386-xsm broken
build-amd64-xtf broken
build-amd64 broken
build-armhf broken
build-i386 broken
build-amd64-libvirt blocked
build-armhf-libvirt blocked
build-i386-libvirt blocked
build-amd64-oldkern broken
build-i386-oldkern broken
build-amd64-prev broken
build-i386-prev broken
build-amd64-pvops broken
build-armhf-pvops broken
build-i386-pvops broken
build-amd64-rumprun blocked
build-i386-rumprun blocked
test-xtf-amd64-amd64-1 blocked
test-xtf-amd64-amd64-2 blocked
test-xtf-amd64-amd64-3 blocked
test-xtf-amd64-amd64-4 blocked
test-xtf-amd64-amd64-5 blocked
test-amd64-amd64-xl blocked
test-armhf-armhf-xl blocked
test-amd64-i386-xl blocked
test-amd64-amd64-xl-qemut-debianhvm-amd64-xsm blocked
test-amd64-i386-xl-qemut-debianhvm-amd64-xsm blocked
test-amd64-amd64-libvirt-qemuu-debianhvm-amd64-xsm blocked
test-amd64-i386-libvirt-qemuu-debianhvm-amd64-xsm blocked
test-amd64-amd64-xl-qemuu-debianhvm-amd64-xsm blocked
test-amd64-i386-xl-qemuu-debianhvm-amd64-xsm blocked
test-amd64-amd64-xl-qemut-stubdom-debianhvm-amd64-xsm blocked
test-amd64-i386-xl-qemut-stubdom-debianhvm-amd64-xsm blocked
test-amd64-amd64-libvirt-xsm blocked
test-armhf-armhf-libvirt-xsm blocked
test-amd64-i386-libvirt-xsm blocked
test-amd64-amd64-xl-xsm blocked
test-armhf-armhf-xl-xsm blocked
test-amd64-i386-xl-xsm blocked
test-amd64-amd64-qemuu-nested-amd blocked
test-amd64-amd64-xl-pvh-amd blocked
test-amd64-i386-qemut-rhel6hvm-amd blocked
test-amd64-i386-qemuu-rhel6hvm-amd blocked
test-amd64-amd64-xl-qemut-debianhvm-amd64 blocked
test-amd64-i386-xl-qemut-debianhvm-amd64 blocked
test-amd64-amd64-xl-qemuu-debianhvm-amd64 blocked
test-amd64-i386-xl-qemuu-debianhvm-amd64 blocked
test-amd64-i386-freebsd10-amd64 blocked
test-amd64-amd64-xl-qemuu-ovmf-amd64 blocked
test-amd64-i386-xl-qemuu-ovmf-amd64 blocked
test-amd64-amd64-rumprun-amd64 blocked
test-amd64-amd64-xl-qemut-win7-amd64 blocked
test-amd64-i386-xl-qemut-win7-amd64 blocked
test-amd64-amd64-xl-qemuu-win7-amd64 blocked
test-amd64-i386-xl-qemuu-win7-amd64 blocked
test-amd64-amd64-xl-credit2 blocked
test-armhf-armhf-xl-credit2 blocked
test-amd64-i386-freebsd10-i386 blocked
test-amd64-i386-rumprun-i386 blocked
test-amd64-amd64-qemuu-nested-intel blocked
test-amd64-amd64-xl-pvh-intel blocked
test-amd64-i386-qemut-rhel6hvm-intel blocked
test-amd64-i386-qemuu-rhel6hvm-intel blocked
test-amd64-amd64-libvirt blocked
test-armhf-armhf-libvirt blocked
test-amd64-i386-libvirt blocked
test-armhf-armhf-xl-midway blocked
test-amd64-amd64-migrupgrade blocked
test-amd64-i386-migrupgrade blocked
test-amd64-amd64-xl-multivcpu blocked
test-armhf-armhf-xl-multivcpu blocked
test-amd64-amd64-pair blocked
test-amd64-i386-pair blocked
test-amd64-amd64-libvirt-pair blocked
test-amd64-i386-libvirt-pair blocked
test-amd64-amd64-amd64-pvgrub blocked
test-amd64-amd64-i386-pvgrub blocked
test-amd64-amd64-pygrub blocked
test-armhf-armhf-libvirt-qcow2 blocked
test-amd64-amd64-xl-qcow2 blocked
test-armhf-armhf-libvirt-raw blocked
test-amd64-i386-xl-raw blocked
test-amd64-amd64-xl-rtds blocked
test-armhf-armhf-xl-rtds blocked
test-amd64-i386-xl-qemut-winxpsp3-vcpus1 blocked
test-amd64-i386-xl-qemuu-winxpsp3-vcpus1 blocked
test-amd64-amd64-libvirt-vhd blocked
test-armhf-armhf-xl-vhd blocked
test-amd64-amd64-xl-qemut-winxpsp3 blocked
test-amd64-i386-xl-qemut-winxpsp3 blocked
test-amd64-amd64-xl-qemuu-winxpsp3 blocked
test-amd64-i386-xl-qemuu-winxpsp3 blocked
------------------------------------------------------------
sg-report-flight on osstest.xs.citrite.net
logs: /home/osstest/logs
images: /home/osstest/images
Logs, config files, etc. are available at
http://osstest.xs.citrite.net/~osstest/testlogs/logs
Test harness code can be found at
http://xenbits.xensource.com/gitweb?p=osstest.git;a=summary
broken-step build-armhf-xsm host-install(3)
broken-step build-armhf host-install(3)
broken-step build-armhf-pvops host-install(3)
broken-step build-i386-oldkern host-install(3)
broken-step build-i386-pvops host-install(3)
broken-step build-i386-xsm host-install(3)
broken-step build-i386-prev host-install(3)
broken-step build-amd64-xsm host-install(3)
broken-step build-amd64-oldkern host-install(3)
broken-step build-amd64-xtf host-install(3)
broken-step build-amd64-pvops host-install(3)
broken-step build-i386 host-install(3)
broken-step build-amd64-prev host-install(3)
broken-step build-amd64 host-install(3)
Push not applicable.
------------------------------------------------------------
commit 5ad98e3c7fa92f46d77a788e1109b7d282bd1256
Author: Jan Beulich <jbeulich@suse.com>
Date: Tue Jan 17 10:33:25 2017 +0100
x86emul: support ADCX/ADOX
Signed-off-by: Jan Beulich <jbeulich@suse.com>
Reviewed-by: Andrew Cooper <andrew.cooper3@citrix.com>
commit f88e810cc130d919dc69dfb1e632a602c9d10823
Author: Jan Beulich <jbeulich@suse.com>
Date: Tue Jan 17 10:32:54 2017 +0100
x86emul: support POPCNT
Signed-off-by: Jan Beulich <jbeulich@suse.com>
Reviewed-by: Andrew Cooper <andrew.cooper3@citrix.com>
commit 89c76ee7f60777b81c8fd0475a6af7c84e72a791
Author: Jan Beulich <jbeulich@suse.com>
Date: Tue Jan 17 10:32:25 2017 +0100
x86emul: VEX.B is ignored in compatibility mode
While VEX.R and VEX.X are guaranteed to be 1 in compatibility mode
(and hence a respective mode_64bit() check can be dropped), VEX.B can
be encoded as zero, but would be ignored by the processor. Since we
emulate instructions in 64-bit mode (except possibly in the test
harness), we need to force the bit to 1 in order to not act on the
wrong {X,Y,Z}MM register (which has no bad effect on 32-bit test
harness builds, as there the bit would again be ignored by the
hardware, and would by default be expected to be 1 anyway).
We must not, however, fiddle with the high bit of VEX.VVVV in the
decode phase, as that would undermine the checking of instructions
requiring the field to be all ones independent of mode. This is
being enforced in copy_REX_VEX() instead.
Signed-off-by: Jan Beulich <jbeulich@suse.com>
Reviewed-by: Andrew Cooper <andrew.cooper3@citrix.com>
commit 48965ec2c624d15b0e10ca21da379f45c77f35c4
Author: Jan Beulich <jbeulich@suse.com>
Date: Tue Jan 17 10:31:39 2017 +0100
x86emul: suppress memory writes after faulting FPU insns
FPU insns writing to memory must not touch memory if they latch #MF (to
be delivered on the next waiting FPU insn). Note that inspecting FSW.ES
needs to be avoided for all FNST* insns, as they don't raise exceptions
themselves, but may instead be invoked with the bit already set.
Signed-off-by: Jan Beulich <jbeulich@suse.com>
Reviewed-by: Andrew Cooper <andrew.cooper3@citrix.com>
(qemu changes not included)
_______________________________________________
Xen-devel mailing list
Xen-devel@lists.xen.org
https://lists.xen.org/xen-devel
^ permalink raw reply [flat|nested] only message in thread
only message in thread, other threads:[~2017-01-18 22:26 UTC | newest]
Thread overview: (only message) (download: mbox.gz follow: Atom feed
-- links below jump to the message on this page --
2017-01-18 22:26 [xen-unstable baseline-only test] 68389: tolerable trouble: blocked/broken Platform Team regression test user
This is a public inbox, see mirroring instructions
for how to clone and mirror all data and code used for this inbox;
as well as URLs for NNTP newsgroup(s).