xen-devel.lists.xenproject.org archive mirror
 help / color / mirror / Atom feed
* [ovmf baseline-only test] 68391: tolerable trouble: blocked/broken
@ 2017-01-19  4:48 Platform Team regression test user
  0 siblings, 0 replies; only message in thread
From: Platform Team regression test user @ 2017-01-19  4:48 UTC (permalink / raw)
  To: xen-devel, osstest-admin

This run is configured for baseline tests only.

flight 68391 ovmf real [real]
http://osstest.xs.citrite.net/~osstest/testlogs/logs/68391/

Failures :-/ but no regressions.

Regressions which are regarded as allowable (not blocking):
 build-i386                    3 host-install(3)       broken baseline untested
 build-amd64                   3 host-install(3)       broken baseline untested
 build-i386-pvops              3 host-install(3)       broken baseline untested
 build-i386-xsm                3 host-install(3)       broken baseline untested
 build-amd64-pvops             3 host-install(3)       broken baseline untested
 build-amd64-xsm               3 host-install(3)       broken baseline untested

Tests which did not succeed, but are not blocking:
 test-amd64-amd64-xl-qemuu-ovmf-amd64  1 build-check(1)             blocked n/a
 build-amd64-libvirt           1 build-check(1)               blocked  n/a
 test-amd64-i386-xl-qemuu-ovmf-amd64  1 build-check(1)              blocked n/a
 build-i386-libvirt            1 build-check(1)               blocked  n/a

version targeted for testing:
 ovmf                 7be6e6776253d3638f03375e346e978228af5edb
baseline version:
 ovmf                 315d9d08fd77db1024ccc5307823da8aaed85e2f

Last test of basis    68383  2017-01-17 14:46:21 Z    1 days
Testing same since    68391  2017-01-18 11:19:02 Z    0 days    1 attempts

------------------------------------------------------------
People who touched revisions under test:
  Gary Lin <glin@suse.com>

jobs:
 build-amd64-xsm                                              broken  
 build-i386-xsm                                               broken  
 build-amd64                                                  broken  
 build-i386                                                   broken  
 build-amd64-libvirt                                          blocked 
 build-i386-libvirt                                           blocked 
 build-amd64-pvops                                            broken  
 build-i386-pvops                                             broken  
 test-amd64-amd64-xl-qemuu-ovmf-amd64                         blocked 
 test-amd64-i386-xl-qemuu-ovmf-amd64                          blocked 


------------------------------------------------------------
sg-report-flight on osstest.xs.citrite.net
logs: /home/osstest/logs
images: /home/osstest/images

Logs, config files, etc. are available at
    http://osstest.xs.citrite.net/~osstest/testlogs/logs

Test harness code can be found at
    http://xenbits.xensource.com/gitweb?p=osstest.git;a=summary

broken-step build-i386 host-install(3)
broken-step build-amd64 host-install(3)
broken-step build-i386-pvops host-install(3)
broken-step build-i386-xsm host-install(3)
broken-step build-amd64-pvops host-install(3)
broken-step build-amd64-xsm host-install(3)

Push not applicable.

------------------------------------------------------------
commit 7be6e6776253d3638f03375e346e978228af5edb
Author: Gary Lin <glin@suse.com>
Date:   Mon Jan 16 14:30:10 2017 +0800

    NetworkPkg/TlsAuthConfigDxe: Declare EFIAPI for the ChooseFile handler
    
    The ChooseFile handler, UpdateCAFromFile, has to be EFIAPI or gcc would
    use the wrong ABI and cause the crash of the firmware. This commit also
    removes the unnecessary type casting in ChooseFile.
    
    Cc: Siyuan Fu <siyuan.fu@intel.com>
    Cc: Jiaxin Wu <jiaxin.wu@intel.com>
    Contributed-under: TianoCore Contribution Agreement 1.0
    Signed-off-by: Gary Lin <glin@suse.com>
    Reviewed-by: Siyuan Fu <siyuan.fu@intel.com>
    Reviewed-by: Jiaxin Wu <jiaxin.wu@intel.com>

_______________________________________________
Xen-devel mailing list
Xen-devel@lists.xen.org
https://lists.xen.org/xen-devel

^ permalink raw reply	[flat|nested] only message in thread

only message in thread, other threads:[~2017-01-19  4:48 UTC | newest]

Thread overview: (only message) (download: mbox.gz follow: Atom feed
-- links below jump to the message on this page --
2017-01-19  4:48 [ovmf baseline-only test] 68391: tolerable trouble: blocked/broken Platform Team regression test user

This is a public inbox, see mirroring instructions
for how to clone and mirror all data and code used for this inbox;
as well as URLs for NNTP newsgroup(s).