* [ovmf baseline-only test] 68398: tolerable trouble: blocked/broken
@ 2017-01-19 23:48 Platform Team regression test user
0 siblings, 0 replies; only message in thread
From: Platform Team regression test user @ 2017-01-19 23:48 UTC (permalink / raw)
To: xen-devel, osstest-admin
This run is configured for baseline tests only.
flight 68398 ovmf real [real]
http://osstest.xs.citrite.net/~osstest/testlogs/logs/68398/
Failures :-/ but no regressions.
Regressions which are regarded as allowable (not blocking):
build-i386 3 host-install(3) broken baseline untested
build-amd64 3 host-install(3) broken baseline untested
build-i386-pvops 3 host-install(3) broken baseline untested
build-i386-xsm 3 host-install(3) broken baseline untested
build-amd64-pvops 3 host-install(3) broken baseline untested
build-amd64-xsm 3 host-install(3) broken baseline untested
Tests which did not succeed, but are not blocking:
test-amd64-amd64-xl-qemuu-ovmf-amd64 1 build-check(1) blocked n/a
build-amd64-libvirt 1 build-check(1) blocked n/a
test-amd64-i386-xl-qemuu-ovmf-amd64 1 build-check(1) blocked n/a
build-i386-libvirt 1 build-check(1) blocked n/a
version targeted for testing:
ovmf 5ab0ffc9f64f5a539a9bdb50446b7fbf92b845d6
baseline version:
ovmf 88fd27e5b2cae68ff5a11cd5560ef5f98d001c42
Last test of basis 68395 2017-01-19 05:18:18 Z 0 days
Testing same since 68398 2017-01-19 17:19:17 Z 0 days 1 attempts
------------------------------------------------------------
People who touched revisions under test:
Star Zeng <star.zeng@intel.com>
jobs:
build-amd64-xsm broken
build-i386-xsm broken
build-amd64 broken
build-i386 broken
build-amd64-libvirt blocked
build-i386-libvirt blocked
build-amd64-pvops broken
build-i386-pvops broken
test-amd64-amd64-xl-qemuu-ovmf-amd64 blocked
test-amd64-i386-xl-qemuu-ovmf-amd64 blocked
------------------------------------------------------------
sg-report-flight on osstest.xs.citrite.net
logs: /home/osstest/logs
images: /home/osstest/images
Logs, config files, etc. are available at
http://osstest.xs.citrite.net/~osstest/testlogs/logs
Test harness code can be found at
http://xenbits.xensource.com/gitweb?p=osstest.git;a=summary
broken-step build-i386 host-install(3)
broken-step build-amd64 host-install(3)
broken-step build-i386-pvops host-install(3)
broken-step build-i386-xsm host-install(3)
broken-step build-amd64-pvops host-install(3)
broken-step build-amd64-xsm host-install(3)
Push not applicable.
------------------------------------------------------------
commit 5ab0ffc9f64f5a539a9bdb50446b7fbf92b845d6
Author: Star Zeng <star.zeng@intel.com>
Date: Fri Jan 13 16:14:54 2017 +0800
ShellPkg SmbiosView: Add missing decoding of SlotType AGP8X
REF: https://bugzilla.tianocore.org/show_bug.cgi?id=344
SlotType AGP8X was added in SMBIOS spec 2.3.4, but the decoding
of it is missing. I found it when I am adding SMBIOS spec 3.1.0
support.
Cc: Jaben Carsey <jaben.carsey@intel.com>
Cc: Ruiyu Ni <ruiyu.ni@intel.com>
Contributed-under: TianoCore Contribution Agreement 1.0
Signed-off-by: Star Zeng <star.zeng@intel.com>
Reviewed-by: Jaben Carsey <jaben.carsey@intel.com>
_______________________________________________
Xen-devel mailing list
Xen-devel@lists.xen.org
https://lists.xen.org/xen-devel
^ permalink raw reply [flat|nested] only message in thread
only message in thread, other threads:[~2017-01-19 23:48 UTC | newest]
Thread overview: (only message) (download: mbox.gz follow: Atom feed
-- links below jump to the message on this page --
2017-01-19 23:48 [ovmf baseline-only test] 68398: tolerable trouble: blocked/broken Platform Team regression test user
This is a public inbox, see mirroring instructions
for how to clone and mirror all data and code used for this inbox;
as well as URLs for NNTP newsgroup(s).