From mboxrd@z Thu Jan 1 00:00:00 1970 From: Platform Team regression test user Subject: [qemu-mainline baseline-only test] 68414: tolerable trouble: blocked/broken Date: Sun, 22 Jan 2017 15:06:15 +0000 Message-ID: Mime-Version: 1.0 Content-Type: multipart/mixed; boundary="===============1601960211615013182==" Return-path: List-Unsubscribe: , List-Post: List-Help: List-Subscribe: , Errors-To: xen-devel-bounces@lists.xen.org Sender: "Xen-devel" To: xen-devel@lists.xensource.com, osstest-admin@xenproject.org List-Id: xen-devel@lists.xenproject.org --===============1601960211615013182== Content-Type: text/plain This run is configured for baseline tests only. flight 68414 qemu-mainline real [real] http://osstest.xs.citrite.net/~osstest/testlogs/logs/68414/ Failures :-/ but no regressions. Regressions which are regarded as allowable (not blocking): build-armhf-xsm 3 host-install(3) broken baseline untested build-armhf-pvops 3 host-install(3) broken baseline untested build-armhf 3 host-install(3) broken baseline untested build-i386 3 host-install(3) broken baseline untested build-i386-pvops 3 host-install(3) broken baseline untested build-amd64 3 host-install(3) broken baseline untested build-amd64-pvops 3 host-install(3) broken baseline untested build-i386-xsm 3 host-install(3) broken baseline untested build-amd64-xsm 3 host-install(3) broken baseline untested Tests which did not succeed, but are not blocking: test-amd64-amd64-xl-qemuu-debianhvm-amd64 1 build-check(1) blocked n/a test-amd64-i386-freebsd10-i386 1 build-check(1) blocked n/a test-amd64-amd64-qemuu-nested-intel 1 build-check(1) blocked n/a test-amd64-i386-libvirt-qemuu-debianhvm-amd64-xsm 1 build-check(1) blocked n/a test-armhf-armhf-xl-midway 1 build-check(1) blocked n/a test-armhf-armhf-libvirt 1 build-check(1) blocked n/a test-amd64-i386-xl-qemuu-debianhvm-amd64-xsm 1 build-check(1) blocked n/a test-amd64-i386-xl-qemuu-winxpsp3-vcpus1 1 build-check(1) blocked n/a test-armhf-armhf-libvirt-raw 1 build-check(1) blocked n/a test-amd64-i386-libvirt-xsm 1 build-check(1) blocked n/a test-amd64-amd64-xl-multivcpu 1 build-check(1) blocked n/a test-amd64-i386-xl-qemuu-winxpsp3 1 build-check(1) blocked n/a test-amd64-amd64-libvirt 1 build-check(1) blocked n/a test-amd64-amd64-xl-pvh-amd 1 build-check(1) blocked n/a test-amd64-i386-freebsd10-amd64 1 build-check(1) blocked n/a test-amd64-amd64-pair 1 build-check(1) blocked n/a test-armhf-armhf-xl-credit2 1 build-check(1) blocked n/a test-amd64-amd64-xl-qemuu-win7-amd64 1 build-check(1) blocked n/a test-amd64-amd64-libvirt-qemuu-debianhvm-amd64-xsm 1 build-check(1) blocked n/a test-amd64-amd64-pygrub 1 build-check(1) blocked n/a test-amd64-amd64-xl-qemuu-winxpsp3 1 build-check(1) blocked n/a test-amd64-amd64-xl-qcow2 1 build-check(1) blocked n/a test-amd64-amd64-amd64-pvgrub 1 build-check(1) blocked n/a test-amd64-i386-xl-qemuu-debianhvm-amd64 1 build-check(1) blocked n/a test-armhf-armhf-libvirt-xsm 1 build-check(1) blocked n/a test-amd64-i386-xl 1 build-check(1) blocked n/a build-i386-libvirt 1 build-check(1) blocked n/a test-amd64-i386-libvirt-pair 1 build-check(1) blocked n/a test-amd64-amd64-xl-qemuu-ovmf-amd64 1 build-check(1) blocked n/a test-amd64-amd64-libvirt-vhd 1 build-check(1) blocked n/a test-amd64-amd64-xl-credit2 1 build-check(1) blocked n/a test-armhf-armhf-xl-multivcpu 1 build-check(1) blocked n/a test-amd64-i386-xl-xsm 1 build-check(1) blocked n/a build-amd64-libvirt 1 build-check(1) blocked n/a test-amd64-amd64-xl-qemuu-debianhvm-amd64-xsm 1 build-check(1) blocked n/a test-amd64-i386-xl-qemuu-ovmf-amd64 1 build-check(1) blocked n/a test-amd64-amd64-xl-pvh-intel 1 build-check(1) blocked n/a test-amd64-i386-xl-raw 1 build-check(1) blocked n/a test-amd64-i386-qemuu-rhel6hvm-amd 1 build-check(1) blocked n/a test-amd64-amd64-i386-pvgrub 1 build-check(1) blocked n/a build-armhf-libvirt 1 build-check(1) blocked n/a test-amd64-i386-libvirt 1 build-check(1) blocked n/a test-amd64-amd64-libvirt-pair 1 build-check(1) blocked n/a test-armhf-armhf-libvirt-qcow2 1 build-check(1) blocked n/a test-armhf-armhf-xl 1 build-check(1) blocked n/a test-amd64-amd64-libvirt-xsm 1 build-check(1) blocked n/a test-amd64-amd64-xl-xsm 1 build-check(1) blocked n/a test-amd64-i386-qemuu-rhel6hvm-intel 1 build-check(1) blocked n/a test-armhf-armhf-xl-vhd 1 build-check(1) blocked n/a test-amd64-i386-xl-qemuu-win7-amd64 1 build-check(1) blocked n/a test-amd64-amd64-xl 1 build-check(1) blocked n/a test-amd64-i386-pair 1 build-check(1) blocked n/a test-amd64-amd64-qemuu-nested-amd 1 build-check(1) blocked n/a test-armhf-armhf-xl-rtds 1 build-check(1) blocked n/a test-armhf-armhf-xl-xsm 1 build-check(1) blocked n/a test-amd64-amd64-xl-rtds 1 build-check(1) blocked n/a version targeted for testing: qemuu d1c82f7cc34443841095f490345f86c9d8baca34 baseline version: qemuu ab4b92760498e097ff668f0e9c83aa87a2ec1128 Last test of basis 68401 2017-01-20 07:17:15 Z 2 days Testing same since 68414 2017-01-22 05:14:53 Z 0 days 1 attempts ------------------------------------------------------------ People who touched revisions under test: Alastair D'Silva Alex Kompel Alistair Francis Andrew Jones Ard Biesheuvel Artyom Tarasenko Christian Borntraeger Cornelia Huck Cédric Le Goater Eduardo Habkost Eric Blake Fei Li Gabriel Somlo Gonglei Jason Wang Ladi Prosek Laszlo Ersek Laurent Vivier Marc-André Lureau Marcin Krzeminski Marcin Krzemiński Markus Armbruster Michael S. Tsirkin Paolo Bonzini Peter Maydell Pierre Morel Richard Henderson Sascha Silbe Shannon Zhao Stefan Hajnoczi Stefan Weil Thomas Huth Yi Min Zhao Zhang Chen jobs: build-amd64-xsm broken build-armhf-xsm broken build-i386-xsm broken build-amd64 broken build-armhf broken build-i386 broken build-amd64-libvirt blocked build-armhf-libvirt blocked build-i386-libvirt blocked build-amd64-pvops broken build-armhf-pvops broken build-i386-pvops broken test-amd64-amd64-xl blocked test-armhf-armhf-xl blocked test-amd64-i386-xl blocked test-amd64-amd64-libvirt-qemuu-debianhvm-amd64-xsm blocked test-amd64-i386-libvirt-qemuu-debianhvm-amd64-xsm blocked test-amd64-amd64-xl-qemuu-debianhvm-amd64-xsm blocked test-amd64-i386-xl-qemuu-debianhvm-amd64-xsm blocked test-amd64-amd64-libvirt-xsm blocked test-armhf-armhf-libvirt-xsm blocked test-amd64-i386-libvirt-xsm blocked test-amd64-amd64-xl-xsm blocked test-armhf-armhf-xl-xsm blocked test-amd64-i386-xl-xsm blocked test-amd64-amd64-qemuu-nested-amd blocked test-amd64-amd64-xl-pvh-amd blocked test-amd64-i386-qemuu-rhel6hvm-amd blocked test-amd64-amd64-xl-qemuu-debianhvm-amd64 blocked test-amd64-i386-xl-qemuu-debianhvm-amd64 blocked test-amd64-i386-freebsd10-amd64 blocked test-amd64-amd64-xl-qemuu-ovmf-amd64 blocked test-amd64-i386-xl-qemuu-ovmf-amd64 blocked test-amd64-amd64-xl-qemuu-win7-amd64 blocked test-amd64-i386-xl-qemuu-win7-amd64 blocked test-amd64-amd64-xl-credit2 blocked test-armhf-armhf-xl-credit2 blocked test-amd64-i386-freebsd10-i386 blocked test-amd64-amd64-qemuu-nested-intel blocked test-amd64-amd64-xl-pvh-intel blocked test-amd64-i386-qemuu-rhel6hvm-intel blocked test-amd64-amd64-libvirt blocked test-armhf-armhf-libvirt blocked test-amd64-i386-libvirt blocked test-armhf-armhf-xl-midway blocked test-amd64-amd64-xl-multivcpu blocked test-armhf-armhf-xl-multivcpu blocked test-amd64-amd64-pair blocked test-amd64-i386-pair blocked test-amd64-amd64-libvirt-pair blocked test-amd64-i386-libvirt-pair blocked test-amd64-amd64-amd64-pvgrub blocked test-amd64-amd64-i386-pvgrub blocked test-amd64-amd64-pygrub blocked test-armhf-armhf-libvirt-qcow2 blocked test-amd64-amd64-xl-qcow2 blocked test-armhf-armhf-libvirt-raw blocked test-amd64-i386-xl-raw blocked test-amd64-amd64-xl-rtds blocked test-armhf-armhf-xl-rtds blocked test-amd64-i386-xl-qemuu-winxpsp3-vcpus1 blocked test-amd64-amd64-libvirt-vhd blocked test-armhf-armhf-xl-vhd blocked test-amd64-amd64-xl-qemuu-winxpsp3 blocked test-amd64-i386-xl-qemuu-winxpsp3 blocked ------------------------------------------------------------ sg-report-flight on osstest.xs.citrite.net logs: /home/osstest/logs images: /home/osstest/images Logs, config files, etc. are available at http://osstest.xs.citrite.net/~osstest/testlogs/logs Test harness code can be found at http://xenbits.xensource.com/gitweb?p=osstest.git;a=summary broken-step build-armhf-xsm host-install(3) broken-step build-armhf-pvops host-install(3) broken-step build-armhf host-install(3) broken-step build-i386 host-install(3) broken-step build-i386-pvops host-install(3) broken-step build-amd64 host-install(3) broken-step build-amd64-pvops host-install(3) broken-step build-i386-xsm host-install(3) broken-step build-amd64-xsm host-install(3) Push not applicable. (No revision log; it would be 1945 lines long.) --===============1601960211615013182== Content-Type: text/plain; charset="utf-8" MIME-Version: 1.0 Content-Transfer-Encoding: base64 Content-Disposition: inline X19fX19fX19fX19fX19fX19fX19fX19fX19fX19fX19fX19fX19fX19fX19fX18KWGVuLWRldmVs IG1haWxpbmcgbGlzdApYZW4tZGV2ZWxAbGlzdHMueGVuLm9yZwpodHRwczovL2xpc3RzLnhlbi5v cmcveGVuLWRldmVsCg== --===============1601960211615013182==--