xen-devel.lists.xenproject.org archive mirror
 help / color / mirror / Atom feed
* [ovmf baseline-only test] 68508: all pass
@ 2017-02-03 13:22 Platform Team regression test user
  0 siblings, 0 replies; only message in thread
From: Platform Team regression test user @ 2017-02-03 13:22 UTC (permalink / raw)
  To: xen-devel, osstest-admin

This run is configured for baseline tests only.

flight 68508 ovmf real [real]
http://osstest.xs.citrite.net/~osstest/testlogs/logs/68508/

Perfect :-)
All tests in this flight passed as required
version targeted for testing:
 ovmf                 f1d91f33a19b91a204237d9226cfc3351ec5f591
baseline version:
 ovmf                 7fcb735412998d536cb348049c4ea60897fa6886

Last test of basis    68501  2017-01-31 01:48:43 Z    3 days
Testing same since    68508  2017-02-03 11:16:44 Z    0 days    1 attempts

------------------------------------------------------------
People who touched revisions under test:
  Ruiyu Ni <ruiyu.ni@intel.com>

jobs:
 build-amd64-xsm                                              pass    
 build-i386-xsm                                               pass    
 build-amd64                                                  pass    
 build-i386                                                   pass    
 build-amd64-libvirt                                          pass    
 build-i386-libvirt                                           pass    
 build-amd64-pvops                                            pass    
 build-i386-pvops                                             pass    
 test-amd64-amd64-xl-qemuu-ovmf-amd64                         pass    
 test-amd64-i386-xl-qemuu-ovmf-amd64                          pass    


------------------------------------------------------------
sg-report-flight on osstest.xs.citrite.net
logs: /home/osstest/logs
images: /home/osstest/images

Logs, config files, etc. are available at
    http://osstest.xs.citrite.net/~osstest/testlogs/logs

Test harness code can be found at
    http://xenbits.xensource.com/gitweb?p=osstest.git;a=summary


Push not applicable.

------------------------------------------------------------
commit f1d91f33a19b91a204237d9226cfc3351ec5f591
Author: Ruiyu Ni <ruiyu.ni@intel.com>
Date:   Thu Jan 26 12:32:33 2017 +0800

    ShellPkg/cd: Do not print the destination dir when CD exits
    
    Before the "cd fs0:dir" fix, CD only prints destination directory
    when the destination contains ":".
    However, the "cd fs0:dir" fix changed CD to always print destination
    directory.
    
    This patch changes CD to never print destination directory.
    
    Contributed-under: TianoCore Contribution Agreement 1.0
    Signed-off-by: Ruiyu Ni <ruiyu.ni@intel.com>
    Reviewed-by: Jaben Carsey <jaben.carsey@intel.com>
    Cc: Chris J Phillips <chrisp@hpe.com>
    Reviewed-by: Tapan Shah <tapandshah@hpe.com>

_______________________________________________
Xen-devel mailing list
Xen-devel@lists.xen.org
https://lists.xen.org/xen-devel

^ permalink raw reply	[flat|nested] only message in thread

only message in thread, other threads:[~2017-02-03 13:22 UTC | newest]

Thread overview: (only message) (download: mbox.gz follow: Atom feed
-- links below jump to the message on this page --
2017-02-03 13:22 [ovmf baseline-only test] 68508: all pass Platform Team regression test user

This is a public inbox, see mirroring instructions
for how to clone and mirror all data and code used for this inbox;
as well as URLs for NNTP newsgroup(s).