From: Platform Team regression test user <citrix-osstest@xenproject.org>
To: xen-devel@lists.xensource.com, osstest-admin@xenproject.org
Subject: [ovmf baseline-only test] 68535: all pass
Date: Wed, 8 Feb 2017 15:00:37 +0000 [thread overview]
Message-ID: <osstest-68535-mainreport@xen.org> (raw)
This run is configured for baseline tests only.
flight 68535 ovmf real [real]
http://osstest.xs.citrite.net/~osstest/testlogs/logs/68535/
Perfect :-)
All tests in this flight passed as required
version targeted for testing:
ovmf d03c056b2946cc2f83b6d206297915dadc08f230
baseline version:
ovmf a316d7ac91d302085b5c35d76db703f2208ec026
Last test of basis 68532 2017-02-07 15:48:52 Z 0 days
Testing same since 68535 2017-02-08 07:47:26 Z 0 days 1 attempts
------------------------------------------------------------
People who touched revisions under test:
Yonghong Zhu <yonghong.zhu@intel.com>
jobs:
build-amd64-xsm pass
build-i386-xsm pass
build-amd64 pass
build-i386 pass
build-amd64-libvirt pass
build-i386-libvirt pass
build-amd64-pvops pass
build-i386-pvops pass
test-amd64-amd64-xl-qemuu-ovmf-amd64 pass
test-amd64-i386-xl-qemuu-ovmf-amd64 pass
------------------------------------------------------------
sg-report-flight on osstest.xs.citrite.net
logs: /home/osstest/logs
images: /home/osstest/images
Logs, config files, etc. are available at
http://osstest.xs.citrite.net/~osstest/testlogs/logs
Test harness code can be found at
http://xenbits.xensource.com/gitweb?p=osstest.git;a=summary
Push not applicable.
------------------------------------------------------------
commit d03c056b2946cc2f83b6d206297915dadc08f230
Author: Yonghong Zhu <yonghong.zhu@intel.com>
Date: Tue Feb 7 16:05:13 2017 +0800
BaseTools: Fix the bug to parse the short varname in map file
current in the map file, there have two ways for var to save its offset,
if the varname is short, then the offset will in the same line with
varname, otherwise, it saved in the next line.
Cc: Liming Gao <liming.gao@intel.com>
Contributed-under: TianoCore Contribution Agreement 1.0
Signed-off-by: Yonghong Zhu <yonghong.zhu@intel.com>
Reviewed-by: Liming Gao <liming.gao@intel.com>
_______________________________________________
Xen-devel mailing list
Xen-devel@lists.xen.org
https://lists.xen.org/xen-devel
reply other threads:[~2017-02-08 15:00 UTC|newest]
Thread overview: [no followups] expand[flat|nested] mbox.gz Atom feed
Reply instructions:
You may reply publicly to this message via plain-text email
using any one of the following methods:
* Save the following mbox file, import it into your mail client,
and reply-to-all from there: mbox
Avoid top-posting and favor interleaved quoting:
https://en.wikipedia.org/wiki/Posting_style#Interleaved_style
* Reply using the --to, --cc, and --in-reply-to
switches of git-send-email(1):
git send-email \
--in-reply-to=osstest-68535-mainreport@xen.org \
--to=citrix-osstest@xenproject.org \
--cc=osstest-admin@xenproject.org \
--cc=xen-devel@lists.xensource.com \
/path/to/YOUR_REPLY
https://kernel.org/pub/software/scm/git/docs/git-send-email.html
* If your mail client supports setting the In-Reply-To header
via mailto: links, try the mailto: link
Be sure your reply has a Subject: header at the top and a blank line
before the message body.
This is a public inbox, see mirroring instructions
for how to clone and mirror all data and code used for this inbox;
as well as URLs for NNTP newsgroup(s).