* [ovmf baseline-only test] 68538: all pass
@ 2017-02-08 22:42 Platform Team regression test user
0 siblings, 0 replies; only message in thread
From: Platform Team regression test user @ 2017-02-08 22:42 UTC (permalink / raw)
To: xen-devel, osstest-admin
This run is configured for baseline tests only.
flight 68538 ovmf real [real]
http://osstest.xs.citrite.net/~osstest/testlogs/logs/68538/
Perfect :-)
All tests in this flight passed as required
version targeted for testing:
ovmf cc20411062137e5d820a33db73d41f97dae74368
baseline version:
ovmf d03c056b2946cc2f83b6d206297915dadc08f230
Last test of basis 68535 2017-02-08 07:47:26 Z 0 days
Testing same since 68538 2017-02-08 15:21:15 Z 0 days 1 attempts
------------------------------------------------------------
People who touched revisions under test:
Liming Gao <liming.gao@intel.com>
lushifex <shifeix.a.lu@intel.com>
Rebecca Cran <rebecca@bluestop.org>
jobs:
build-amd64-xsm pass
build-i386-xsm pass
build-amd64 pass
build-i386 pass
build-amd64-libvirt pass
build-i386-libvirt pass
build-amd64-pvops pass
build-i386-pvops pass
test-amd64-amd64-xl-qemuu-ovmf-amd64 pass
test-amd64-i386-xl-qemuu-ovmf-amd64 pass
------------------------------------------------------------
sg-report-flight on osstest.xs.citrite.net
logs: /home/osstest/logs
images: /home/osstest/images
Logs, config files, etc. are available at
http://osstest.xs.citrite.net/~osstest/testlogs/logs
Test harness code can be found at
http://xenbits.xensource.com/gitweb?p=osstest.git;a=summary
Push not applicable.
------------------------------------------------------------
commit cc20411062137e5d820a33db73d41f97dae74368
Author: lushifex <shifeix.a.lu@intel.com>
Date: Wed Feb 8 10:42:35 2017 +0800
Vlv2DeviceRefCodePkg: Fixed thermal issue.
Fixed System auto shutdown when it reached minus 20 degree.
Contributed-under: TianoCore Contribution Agreement 1.0
Signed-off-by: lushifex <shifeix.a.lu@intel.com>
Reviewed-by: David Wei <david.wei@intel.com>
commit c6de4b9611e260d6147cea073183d9339e9b7c3e
Author: Liming Gao <liming.gao@intel.com>
Date: Wed Feb 8 14:49:21 2017 +0800
EdkCompatibilityPkg: Fix some typos of "according"
Cc: Feng Tian <feng.tian@intel.com>
Cc: Star Zeng <star.zeng@intel.com>
Cc: Siyuan Fu <siyuan.fu@intel.com>
Cc: Jiaxin Wu <jiaxin.wu@intel.com>
Cc: Liming Gao <liming.gao@intel.com>
Contributed-under: TianoCore Contribution Agreement 1.0
Signed-off-by: Rebecca Cran <rebecca@bluestop.org>
Reviewed-by: Liming Gao <liming.gao@intel.com>
Reviewed-by: Star Zeng <star.zeng@intel.com>
Reviewed-by: Feng Tian <feng.tian@intel.com>
Reviewed-by: He Junjie <junjie.he@intel.com>
Reviewed-by: Fu Siyuan <siyuan.fu@intel.com>
Reviewed-by: Wu Jiaxin <jiaxin.wu@intel.com>
commit b0206b16177ec1a08a600c404dc6870ddba58e4c
Author: Liming Gao <liming.gao@intel.com>
Date: Wed Feb 8 14:48:44 2017 +0800
NetworkPkg: Fix some typos of "according"
Cc: Feng Tian <feng.tian@intel.com>
Cc: Star Zeng <star.zeng@intel.com>
Cc: Siyuan Fu <siyuan.fu@intel.com>
Cc: Jiaxin Wu <jiaxin.wu@intel.com>
Cc: Liming Gao <liming.gao@intel.com>
Contributed-under: TianoCore Contribution Agreement 1.0
Signed-off-by: Rebecca Cran <rebecca@bluestop.org>
Reviewed-by: Liming Gao <liming.gao@intel.com>
Reviewed-by: Star Zeng <star.zeng@intel.com>
Reviewed-by: Feng Tian <feng.tian@intel.com>
Reviewed-by: He Junjie <junjie.he@intel.com>
Reviewed-by: Fu Siyuan <siyuan.fu@intel.com>
Reviewed-by: Wu Jiaxin <jiaxin.wu@intel.com>
commit 24648548886af2563f7a0c2f42da18bb89e40b2d
Author: Liming Gao <liming.gao@intel.com>
Date: Wed Feb 8 14:48:02 2017 +0800
MdeModulePkg: Fix some typos of "according"
Cc: Feng Tian <feng.tian@intel.com>
Cc: Star Zeng <star.zeng@intel.com>
Cc: Siyuan Fu <siyuan.fu@intel.com>
Cc: Jiaxin Wu <jiaxin.wu@intel.com>
Cc: Liming Gao <liming.gao@intel.com>
Contributed-under: TianoCore Contribution Agreement 1.0
Signed-off-by: Rebecca Cran <rebecca@bluestop.org>
Reviewed-by: Liming Gao <liming.gao@intel.com>
Reviewed-by: Star Zeng <star.zeng@intel.com>
Reviewed-by: Feng Tian <feng.tian@intel.com>
Reviewed-by: He Junjie <junjie.he@intel.com>
Reviewed-by: Fu Siyuan <siyuan.fu@intel.com>
Reviewed-by: Wu Jiaxin <jiaxin.wu@intel.com>
_______________________________________________
Xen-devel mailing list
Xen-devel@lists.xen.org
https://lists.xen.org/xen-devel
^ permalink raw reply [flat|nested] only message in thread
only message in thread, other threads:[~2017-02-08 22:42 UTC | newest]
Thread overview: (only message) (download: mbox.gz follow: Atom feed
-- links below jump to the message on this page --
2017-02-08 22:42 [ovmf baseline-only test] 68538: all pass Platform Team regression test user
This is a public inbox, see mirroring instructions
for how to clone and mirror all data and code used for this inbox;
as well as URLs for NNTP newsgroup(s).