From: Platform Team regression test user <citrix-osstest@xenproject.org>
To: xen-devel@lists.xensource.com, osstest-admin@xenproject.org
Subject: [ovmf baseline-only test] 68540: all pass
Date: Thu, 9 Feb 2017 04:48:33 +0000 [thread overview]
Message-ID: <osstest-68540-mainreport@xen.org> (raw)
This run is configured for baseline tests only.
flight 68540 ovmf real [real]
http://osstest.xs.citrite.net/~osstest/testlogs/logs/68540/
Perfect :-)
All tests in this flight passed as required
version targeted for testing:
ovmf ad1cd1aa09c0a8660c857de916105b1fd566ca8c
baseline version:
ovmf 9fe9cf9acb475af9317dcdaf32a93f1cb77d95ac
Last test of basis 68539 2017-02-08 22:50:35 Z 0 days
Testing same since 68540 2017-02-09 02:46:33 Z 0 days 1 attempts
------------------------------------------------------------
People who touched revisions under test:
Jiaxin Wu <jiaxin.wu@intel.com>
Wu Jiaxin <jiaxin.wu@intel.com>
jobs:
build-amd64-xsm pass
build-i386-xsm pass
build-amd64 pass
build-i386 pass
build-amd64-libvirt pass
build-i386-libvirt pass
build-amd64-pvops pass
build-i386-pvops pass
test-amd64-amd64-xl-qemuu-ovmf-amd64 pass
test-amd64-i386-xl-qemuu-ovmf-amd64 pass
------------------------------------------------------------
sg-report-flight on osstest.xs.citrite.net
logs: /home/osstest/logs
images: /home/osstest/images
Logs, config files, etc. are available at
http://osstest.xs.citrite.net/~osstest/testlogs/logs
Test harness code can be found at
http://xenbits.xensource.com/gitweb?p=osstest.git;a=summary
Push not applicable.
------------------------------------------------------------
commit ad1cd1aa09c0a8660c857de916105b1fd566ca8c
Author: Jiaxin Wu <jiaxin.wu@intel.com>
Date: Wed Feb 8 12:56:54 2017 +0800
NetworkPkg/NetworkPkg.uni: Define the prompt and help information for PcdAllowHttpConnections
Cc: Ye Ting <ting.ye@intel.com>
Cc: Fu Siyuan <siyuan.fu@intel.com>
Contributed-under: TianoCore Contribution Agreement 1.0
Signed-off-by: Wu Jiaxin <jiaxin.wu@intel.com>
Reviewed-by: Fu Siyuan <siyuan.fu@intel.com>
Reviewed-by: Ye Ting <ting.ye@intel.com>
commit 27fd61af01453b997ef1b79b91dfb7fa65d2e253
Author: Jiaxin Wu <jiaxin.wu@intel.com>
Date: Wed Feb 8 11:56:54 2017 +0800
MdeModulePkg/DxeHttpLib: Correct the return status for the HTTP Port/ContentLength
Replace AsciiStrDecimalToUintn with AsciiStrDecimalToUintnS to
return the correct status for the HTTP Port/ContentLength.
Cc: Ye Ting <ting.ye@intel.com>
Cc: Fu Siyuan <siyuan.fu@intel.com>
Contributed-under: TianoCore Contribution Agreement 1.0
Signed-off-by: Wu Jiaxin <jiaxin.wu@intel.com>
Reviewed-by: Fu Siyuan <siyuan.fu@intel.com>
Reviewed-by: Ye Ting <ting.ye@intel.com>
_______________________________________________
Xen-devel mailing list
Xen-devel@lists.xen.org
https://lists.xen.org/xen-devel
reply other threads:[~2017-02-09 4:48 UTC|newest]
Thread overview: [no followups] expand[flat|nested] mbox.gz Atom feed
Reply instructions:
You may reply publicly to this message via plain-text email
using any one of the following methods:
* Save the following mbox file, import it into your mail client,
and reply-to-all from there: mbox
Avoid top-posting and favor interleaved quoting:
https://en.wikipedia.org/wiki/Posting_style#Interleaved_style
* Reply using the --to, --cc, and --in-reply-to
switches of git-send-email(1):
git send-email \
--in-reply-to=osstest-68540-mainreport@xen.org \
--to=citrix-osstest@xenproject.org \
--cc=osstest-admin@xenproject.org \
--cc=xen-devel@lists.xensource.com \
/path/to/YOUR_REPLY
https://kernel.org/pub/software/scm/git/docs/git-send-email.html
* If your mail client supports setting the In-Reply-To header
via mailto: links, try the mailto: link
Be sure your reply has a Subject: header at the top and a blank line
before the message body.
This is a public inbox, see mirroring instructions
for how to clone and mirror all data and code used for this inbox;
as well as URLs for NNTP newsgroup(s).