* [ovmf baseline-only test] 68562: all pass
@ 2017-02-15 12:52 Platform Team regression test user
0 siblings, 0 replies; only message in thread
From: Platform Team regression test user @ 2017-02-15 12:52 UTC (permalink / raw)
To: xen-devel, osstest-admin
This run is configured for baseline tests only.
flight 68562 ovmf real [real]
http://osstest.xs.citrite.net/~osstest/testlogs/logs/68562/
Perfect :-)
All tests in this flight passed as required
version targeted for testing:
ovmf 5e9e151c2061cc10e5aa9f41c6f1d7d1b865954e
baseline version:
ovmf 5b97eb4c35316cbe8235ae526209263da818e1a4
Last test of basis 68555 2017-02-14 06:16:27 Z 1 days
Testing same since 68562 2017-02-15 10:16:47 Z 0 days 1 attempts
------------------------------------------------------------
People who touched revisions under test:
Hegde Nagaraj P <nagaraj-p.hegde@hpe.com>
hegdenag <nagaraj-p.hegde@hpe.com>
Jiaxin Wu <jiaxin.wu@intel.com>
Wu Jiaxin <jiaxin.wu@intel.com>
jobs:
build-amd64-xsm pass
build-i386-xsm pass
build-amd64 pass
build-i386 pass
build-amd64-libvirt pass
build-i386-libvirt pass
build-amd64-pvops pass
build-i386-pvops pass
test-amd64-amd64-xl-qemuu-ovmf-amd64 pass
test-amd64-i386-xl-qemuu-ovmf-amd64 pass
------------------------------------------------------------
sg-report-flight on osstest.xs.citrite.net
logs: /home/osstest/logs
images: /home/osstest/images
Logs, config files, etc. are available at
http://osstest.xs.citrite.net/~osstest/testlogs/logs
Test harness code can be found at
http://xenbits.xensource.com/gitweb?p=osstest.git;a=summary
Push not applicable.
------------------------------------------------------------
commit 5e9e151c2061cc10e5aa9f41c6f1d7d1b865954e
Author: Jiaxin Wu <jiaxin.wu@intel.com>
Date: Tue Feb 14 16:36:36 2017 +0800
NetworkPkg/HttpBootDxe: Request HTTP token notify as a DPC at TPL_CALLBACK
This patch is to update the HTTP token notify as a DPC at
TPL_CALLBACK to align with UEFI Spec.
Cc: Hegde Nagaraj P <nagaraj-p.hegde@hpe.com>
Cc: Ye Ting <ting.ye@intel.com>
Cc: Fu Siyuan <siyuan.fu@intel.com>
Contributed-under: TianoCore Contribution Agreement 1.0
Signed-off-by: Wu Jiaxin <jiaxin.wu@intel.com>
Reviewed-by: Ye Ting <ting.ye@intel.com>
Reviewed-by: Fu Siyuan <siyuan.fu@intel.com>
Reviewed-by: Sriram Subramanian <sriram-s@hpe.com>
Reviewed-by: Hegde Nagaraj P <nagaraj-p.hegde@hpe.com>
commit 483ee515205504f8c964c51621b01d611e8828e5
Author: hegdenag <nagaraj-p.hegde@hpe.com>
Date: Mon Feb 13 15:20:17 2017 +0800
NetworkPkg/iSCSIDxe: Update the condition for IScsiStart Abort
Update existing #define and add a new #define used for the
PCD PcdIScsiAIPNetworkBootPolicy. Update the code in iScsiStart
according to the #define changes in iScsiDriver.h
Contributed-under: TianoCore Contribution Agreement 1.0
Signed-off-by: Hegde Nagaraj P <nagaraj-p.hegde@hpe.com>
Reviewed-by: Wu Jiaxin <jiaxin.wu@intel.com>
Reviewed-by: Sriram Subramanian <sriram-s@hpe.com>
Reviewed-by: Zhang Lubo <lubo.zhang@intel.com>
Reviewed-by: Ye Ting <ting.ye@intel.com>
Reviewed-by: Fu Siyuan <siyuan.fu@intel.com>
commit b8b769ab8162cf0e3bc7bc3d63d47ee69542e01b
Author: hegdenag <nagaraj-p.hegde@hpe.com>
Date: Mon Feb 13 15:20:18 2017 +0800
NetworkPkg/NetworkPkg.dec: Update comments for the PCD
Update comment section for the PCD PcdIScsiAIPNetworkBootPolicy.
Contributed-under: TianoCore Contribution Agreement 1.0
Signed-off-by: Hegde Nagaraj P <nagaraj-p.hegde@hpe.com>
Reviewed-by: Wu Jiaxin <jiaxin.wu@intel.com>
Reviewed-by: Sriram Subramanian <sriram-s@hpe.com>
Reviewed-by: Zhang Lubo <lubo.zhang@intel.com>
Reviewed-by: Ye Ting <ting.ye@intel.com>
Reviewed-by: Fu Siyuan <siyuan.fu@intel.com>
_______________________________________________
Xen-devel mailing list
Xen-devel@lists.xen.org
https://lists.xen.org/xen-devel
^ permalink raw reply [flat|nested] only message in thread
only message in thread, other threads:[~2017-02-15 12:52 UTC | newest]
Thread overview: (only message) (download: mbox.gz follow: Atom feed
-- links below jump to the message on this page --
2017-02-15 12:52 [ovmf baseline-only test] 68562: all pass Platform Team regression test user
This is a public inbox, see mirroring instructions
for how to clone and mirror all data and code used for this inbox;
as well as URLs for NNTP newsgroup(s).