xen-devel.lists.xenproject.org archive mirror
 help / color / mirror / Atom feed
* [ovmf baseline-only test] 68564: all pass
@ 2017-02-15 18:31 Platform Team regression test user
  0 siblings, 0 replies; only message in thread
From: Platform Team regression test user @ 2017-02-15 18:31 UTC (permalink / raw)
  To: xen-devel, osstest-admin

This run is configured for baseline tests only.

flight 68564 ovmf real [real]
http://osstest.xs.citrite.net/~osstest/testlogs/logs/68564/

Perfect :-)
All tests in this flight passed as required
version targeted for testing:
 ovmf                 cb8674999c6bf94cdb3be18df3746131aac6386b
baseline version:
 ovmf                 5e9e151c2061cc10e5aa9f41c6f1d7d1b865954e

Last test of basis    68562  2017-02-15 10:16:47 Z    0 days
Testing same since    68564  2017-02-15 14:20:57 Z    0 days    1 attempts

------------------------------------------------------------
People who touched revisions under test:
  Hao Wu <hao.a.wu@intel.com>

jobs:
 build-amd64-xsm                                              pass    
 build-i386-xsm                                               pass    
 build-amd64                                                  pass    
 build-i386                                                   pass    
 build-amd64-libvirt                                          pass    
 build-i386-libvirt                                           pass    
 build-amd64-pvops                                            pass    
 build-i386-pvops                                             pass    
 test-amd64-amd64-xl-qemuu-ovmf-amd64                         pass    
 test-amd64-i386-xl-qemuu-ovmf-amd64                          pass    


------------------------------------------------------------
sg-report-flight on osstest.xs.citrite.net
logs: /home/osstest/logs
images: /home/osstest/images

Logs, config files, etc. are available at
    http://osstest.xs.citrite.net/~osstest/testlogs/logs

Test harness code can be found at
    http://xenbits.xensource.com/gitweb?p=osstest.git;a=summary


Push not applicable.

------------------------------------------------------------
commit cb8674999c6bf94cdb3be18df3746131aac6386b
Author: Hao Wu <hao.a.wu@intel.com>
Date:   Tue Feb 14 10:11:58 2017 +0800

    MdePkg/BaseLib: Refine logic for (Ascii)StrnLenS to handle MaxSize = 0
    
    https://bugzilla.tianocore.org/show_bug.cgi?id=378
    
    Contributed-under: TianoCore Contribution Agreement 1.0
    Signed-off-by: Hao Wu <hao.a.wu@intel.com>
    Reviewed-by: Jiewen Yao <jiewen.yao@intel.com>

_______________________________________________
Xen-devel mailing list
Xen-devel@lists.xen.org
https://lists.xen.org/xen-devel

^ permalink raw reply	[flat|nested] only message in thread

only message in thread, other threads:[~2017-02-15 18:31 UTC | newest]

Thread overview: (only message) (download: mbox.gz follow: Atom feed
-- links below jump to the message on this page --
2017-02-15 18:31 [ovmf baseline-only test] 68564: all pass Platform Team regression test user

This is a public inbox, see mirroring instructions
for how to clone and mirror all data and code used for this inbox;
as well as URLs for NNTP newsgroup(s).