From mboxrd@z Thu Jan 1 00:00:00 1970 From: Platform Team regression test user Subject: [qemu-mainline baseline-only test] 71022: trouble: blocked/broken/pass Date: Tue, 21 Mar 2017 07:59:44 +0000 Message-ID: Mime-Version: 1.0 Content-Type: multipart/mixed; boundary="===============0941117134634175827==" Return-path: List-Unsubscribe: , List-Post: List-Help: List-Subscribe: , Errors-To: xen-devel-bounces@lists.xen.org Sender: "Xen-devel" To: xen-devel@lists.xensource.com, osstest-admin@xenproject.org List-Id: xen-devel@lists.xenproject.org --===============0941117134634175827== Content-Type: text/plain This run is configured for baseline tests only. flight 71022 qemu-mainline real [real] http://osstest.xs.citrite.net/~osstest/testlogs/logs/71022/ Failures and problems with tests :-( Tests which did not succeed and are blocking, including tests which could not be run: test-amd64-amd64-libvirt-xsm 2 hosts-allocate broken REGR. vs. 68670 test-amd64-amd64-libvirt 2 hosts-allocate broken REGR. vs. 68670 test-amd64-amd64-libvirt-vhd 2 hosts-allocate broken REGR. vs. 68670 test-amd64-amd64-libvirt-qemuu-debianhvm-amd64-xsm 2 hosts-allocate broken REGR. vs. 68670 test-amd64-amd64-libvirt-pair 2 hosts-allocate broken REGR. vs. 68670 test-amd64-amd64-xl-xsm 2 hosts-allocate broken REGR. vs. 68670 test-amd64-i386-xl-qemuu-winxpsp3 2 hosts-allocate broken REGR. vs. 68670 test-amd64-amd64-amd64-pvgrub 2 hosts-allocate broken REGR. vs. 68670 test-amd64-amd64-i386-pvgrub 2 hosts-allocate broken REGR. vs. 68670 test-amd64-i386-xl-xsm 2 hosts-allocate broken REGR. vs. 68670 test-amd64-amd64-xl-qemuu-debianhvm-amd64-xsm 2 hosts-allocate broken REGR. vs. 68670 test-amd64-i386-libvirt-qemuu-debianhvm-amd64-xsm 2 hosts-allocate broken REGR. vs. 68670 test-amd64-i386-libvirt-xsm 2 hosts-allocate broken REGR. vs. 68670 test-amd64-i386-xl-qemuu-debianhvm-amd64-xsm 2 hosts-allocate broken REGR. vs. 68670 test-amd64-i386-xl-qemuu-debianhvm-amd64 2 hosts-allocate broken REGR. vs. 68670 test-amd64-i386-libvirt-pair 2 hosts-allocate broken REGR. vs. 68670 test-amd64-i386-freebsd10-amd64 2 hosts-allocate broken REGR. vs. 68670 test-amd64-i386-libvirt 2 hosts-allocate broken REGR. vs. 68670 test-amd64-i386-pair 2 hosts-allocate broken REGR. vs. 68670 test-amd64-amd64-pair 2 hosts-allocate broken REGR. vs. 68670 test-amd64-amd64-xl-qemuu-ovmf-amd64 2 hosts-allocate broken REGR. vs. 68670 test-amd64-i386-xl-qemuu-win7-amd64 2 hosts-allocate broken REGR. vs. 68670 test-amd64-amd64-xl-qemuu-debianhvm-amd64 2 hosts-allocate broken REGR. vs. 68670 test-amd64-i386-xl-qemuu-ovmf-amd64 2 hosts-allocate broken REGR. vs. 68670 test-amd64-i386-qemuu-rhel6hvm-amd 2 hosts-allocate broken REGR. vs. 68670 test-amd64-amd64-xl-qemuu-win7-amd64 2 hosts-allocate broken REGR. vs. 68670 test-amd64-i386-xl 2 hosts-allocate broken REGR. vs. 68670 test-amd64-i386-qemuu-rhel6hvm-intel 2 hosts-allocate broken REGR. vs. 68670 test-amd64-i386-xl-qemuu-winxpsp3-vcpus1 2 hosts-allocate broken REGR. vs. 68670 test-amd64-amd64-xl-qcow2 2 hosts-allocate broken REGR. vs. 68670 test-amd64-amd64-xl 2 hosts-allocate broken REGR. vs. 68670 test-amd64-i386-freebsd10-i386 2 hosts-allocate broken REGR. vs. 68670 test-amd64-amd64-pygrub 2 hosts-allocate broken REGR. vs. 68670 test-amd64-amd64-xl-qemuu-winxpsp3 2 hosts-allocate broken REGR. vs. 68670 test-amd64-amd64-xl-multivcpu 2 hosts-allocate broken REGR. vs. 68670 test-amd64-amd64-qemuu-nested-amd 2 hosts-allocate broken REGR. vs. 68670 test-amd64-amd64-qemuu-nested-intel 2 hosts-allocate broken REGR. vs. 68670 test-amd64-amd64-xl-pvh-intel 2 hosts-allocate broken REGR. vs. 68670 test-amd64-amd64-xl-credit2 2 hosts-allocate broken REGR. vs. 68670 test-amd64-amd64-xl-pvh-amd 2 hosts-allocate broken REGR. vs. 68670 test-amd64-i386-xl-raw 2 hosts-allocate broken REGR. vs. 68670 Regressions which are regarded as allowable (not blocking): test-amd64-amd64-xl-rtds 2 hosts-allocate broken REGR. vs. 68670 build-armhf-xsm 3 host-install(3) broken like 68670 build-armhf-pvops 3 host-install(3) broken like 68670 build-armhf-xsm 4 capture-logs broken like 68670 build-armhf 4 capture-logs broken like 68670 build-armhf-pvops 4 capture-logs broken like 68670 build-armhf 3 host-install(3) broken like 68670 Tests which did not succeed, but are not blocking: test-armhf-armhf-xl-midway 1 build-check(1) blocked n/a test-armhf-armhf-libvirt 1 build-check(1) blocked n/a build-arm64-libvirt 1 build-check(1) blocked n/a test-arm64-arm64-libvirt-qcow2 1 build-check(1) blocked n/a test-armhf-armhf-libvirt-raw 1 build-check(1) blocked n/a test-arm64-arm64-libvirt 1 build-check(1) blocked n/a test-armhf-armhf-xl-credit2 1 build-check(1) blocked n/a test-arm64-arm64-xl-rtds 1 build-check(1) blocked n/a test-arm64-arm64-xl-multivcpu 1 build-check(1) blocked n/a test-armhf-armhf-libvirt-xsm 1 build-check(1) blocked n/a test-arm64-arm64-libvirt-xsm 1 build-check(1) blocked n/a test-armhf-armhf-xl-multivcpu 1 build-check(1) blocked n/a test-arm64-arm64-xl 1 build-check(1) blocked n/a build-armhf-libvirt 1 build-check(1) blocked n/a test-armhf-armhf-xl 1 build-check(1) blocked n/a test-armhf-armhf-xl-vhd 1 build-check(1) blocked n/a test-arm64-arm64-xl-credit2 1 build-check(1) blocked n/a test-armhf-armhf-xl-rtds 1 build-check(1) blocked n/a test-armhf-armhf-xl-xsm 1 build-check(1) blocked n/a test-arm64-arm64-xl-xsm 1 build-check(1) blocked n/a build-arm64-pvops 2 hosts-allocate broken never pass build-arm64 2 hosts-allocate broken never pass build-arm64-xsm 2 hosts-allocate broken never pass build-arm64-pvops 3 capture-logs broken never pass build-arm64 3 capture-logs broken never pass build-arm64-xsm 3 capture-logs broken never pass version targeted for testing: qemuu ebedf0f9cd46b617df331eecc857c379d574ac62 baseline version: qemuu dd4d2578215cd380f40a38028a9904e15b135ef3 Last test of basis 68670 2017-03-11 04:48:34 Z 10 days Testing same since 71022 2017-03-20 11:18:21 Z 0 days 1 attempts ------------------------------------------------------------ People who touched revisions under test: Alex Bennée Alexander Boettcher Andrew Baumann Andrew Jones Ben Warren Changlong Xie Chao Fan Christian Borntraeger Christopher Covington Daniel P. Berrange David Gibson Dr. David Alan Gilbert Eduardo Habkost Eric Blake Fam Zheng fangying Gerd Hoffmann Greg Kurz Greg Ungerer Halil Pasic hangaohuai Jason Wang Jitendra Kolhe John Arbuckle John Snow Juan Quintela Kevin Wolf Laurent Vivier Li Qiang Li Qiang Li Zhijian Lidong Chen Lin Ma Marc-André Lureau Marc-André Lureau Marcel Apfelbaum Marek Vasut Mark Cave-Ayland Markus Armbruster Max Filippov Max Reitz Michael S. Tsirkin Nikunj A Dadhania Paolo Bonzini Peter Lieven Peter Maydell Peter Xu Philippe Mathieu-Daudé Programmingkid QingFeng Hao Stefan Hajnoczi Suramya Shah Thomas Huth Vladimir Sementsov-Ogievskiy Yongbok Kim Zhang Chen zhanghailiang jobs: build-amd64-xsm pass build-arm64-xsm broken build-armhf-xsm broken build-i386-xsm pass build-amd64 pass build-arm64 broken build-armhf broken build-i386 pass build-amd64-libvirt pass build-arm64-libvirt blocked build-armhf-libvirt blocked build-i386-libvirt pass build-amd64-pvops pass build-arm64-pvops broken build-armhf-pvops broken build-i386-pvops pass test-amd64-amd64-xl broken test-arm64-arm64-xl blocked test-armhf-armhf-xl blocked test-amd64-i386-xl broken test-amd64-amd64-libvirt-qemuu-debianhvm-amd64-xsm broken test-amd64-i386-libvirt-qemuu-debianhvm-amd64-xsm broken test-amd64-amd64-xl-qemuu-debianhvm-amd64-xsm broken test-amd64-i386-xl-qemuu-debianhvm-amd64-xsm broken test-amd64-amd64-libvirt-xsm broken test-arm64-arm64-libvirt-xsm blocked test-armhf-armhf-libvirt-xsm blocked test-amd64-i386-libvirt-xsm broken test-amd64-amd64-xl-xsm broken test-arm64-arm64-xl-xsm blocked test-armhf-armhf-xl-xsm blocked test-amd64-i386-xl-xsm broken test-amd64-amd64-qemuu-nested-amd broken test-amd64-amd64-xl-pvh-amd broken test-amd64-i386-qemuu-rhel6hvm-amd broken test-amd64-amd64-xl-qemuu-debianhvm-amd64 broken test-amd64-i386-xl-qemuu-debianhvm-amd64 broken test-amd64-i386-freebsd10-amd64 broken test-amd64-amd64-xl-qemuu-ovmf-amd64 broken test-amd64-i386-xl-qemuu-ovmf-amd64 broken test-amd64-amd64-xl-qemuu-win7-amd64 broken test-amd64-i386-xl-qemuu-win7-amd64 broken test-amd64-amd64-xl-credit2 broken test-arm64-arm64-xl-credit2 blocked test-armhf-armhf-xl-credit2 blocked test-amd64-i386-freebsd10-i386 broken test-amd64-amd64-qemuu-nested-intel broken test-amd64-amd64-xl-pvh-intel broken test-amd64-i386-qemuu-rhel6hvm-intel broken test-amd64-amd64-libvirt broken test-arm64-arm64-libvirt blocked test-armhf-armhf-libvirt blocked test-amd64-i386-libvirt broken test-armhf-armhf-xl-midway blocked test-amd64-amd64-xl-multivcpu broken test-arm64-arm64-xl-multivcpu blocked test-armhf-armhf-xl-multivcpu blocked test-amd64-amd64-pair broken test-amd64-i386-pair broken test-amd64-amd64-libvirt-pair broken test-amd64-i386-libvirt-pair broken test-amd64-amd64-amd64-pvgrub broken test-amd64-amd64-i386-pvgrub broken test-amd64-amd64-pygrub broken test-arm64-arm64-libvirt-qcow2 blocked test-amd64-amd64-xl-qcow2 broken test-armhf-armhf-libvirt-raw blocked test-amd64-i386-xl-raw broken test-amd64-amd64-xl-rtds broken test-arm64-arm64-xl-rtds blocked test-armhf-armhf-xl-rtds blocked test-amd64-i386-xl-qemuu-winxpsp3-vcpus1 broken test-amd64-amd64-libvirt-vhd broken test-armhf-armhf-xl-vhd blocked test-amd64-amd64-xl-qemuu-winxpsp3 broken test-amd64-i386-xl-qemuu-winxpsp3 broken ------------------------------------------------------------ sg-report-flight on osstest.xs.citrite.net logs: /home/osstest/logs images: /home/osstest/images Logs, config files, etc. are available at http://osstest.xs.citrite.net/~osstest/testlogs/logs Test harness code can be found at http://xenbits.xensource.com/gitweb?p=osstest.git;a=summary broken-step test-amd64-amd64-libvirt-xsm hosts-allocate broken-step test-amd64-amd64-libvirt hosts-allocate broken-step test-amd64-amd64-libvirt-vhd hosts-allocate broken-step test-amd64-amd64-libvirt-qemuu-debianhvm-amd64-xsm hosts-allocate broken-step test-amd64-amd64-libvirt-pair hosts-allocate broken-step build-arm64-pvops hosts-allocate broken-step build-arm64 hosts-allocate broken-step build-arm64-xsm hosts-allocate broken-step build-arm64-pvops capture-logs broken-step build-arm64 capture-logs broken-step build-arm64-xsm capture-logs broken-step test-amd64-amd64-xl-xsm hosts-allocate broken-step test-amd64-i386-xl-qemuu-winxpsp3 hosts-allocate broken-step test-amd64-amd64-amd64-pvgrub hosts-allocate broken-step test-amd64-amd64-i386-pvgrub hosts-allocate broken-step test-amd64-i386-xl-xsm hosts-allocate broken-step test-amd64-amd64-xl-qemuu-debianhvm-amd64-xsm hosts-allocate broken-step test-amd64-i386-libvirt-qemuu-debianhvm-amd64-xsm hosts-allocate broken-step test-amd64-i386-libvirt-xsm hosts-allocate broken-step test-amd64-i386-xl-qemuu-debianhvm-amd64-xsm hosts-allocate broken-step test-amd64-i386-xl-qemuu-debianhvm-amd64 hosts-allocate broken-step test-amd64-i386-libvirt-pair hosts-allocate broken-step test-amd64-i386-freebsd10-amd64 hosts-allocate broken-step test-amd64-i386-libvirt hosts-allocate broken-step test-amd64-i386-pair hosts-allocate broken-step test-amd64-amd64-pair hosts-allocate broken-step test-amd64-amd64-xl-qemuu-ovmf-amd64 hosts-allocate broken-step test-amd64-amd64-xl-rtds hosts-allocate broken-step test-amd64-i386-xl-qemuu-win7-amd64 hosts-allocate broken-step test-amd64-amd64-xl-qemuu-debianhvm-amd64 hosts-allocate broken-step test-amd64-i386-xl-qemuu-ovmf-amd64 hosts-allocate broken-step test-amd64-i386-qemuu-rhel6hvm-amd hosts-allocate broken-step test-amd64-amd64-xl-qemuu-win7-amd64 hosts-allocate broken-step test-amd64-i386-xl hosts-allocate broken-step test-amd64-i386-qemuu-rhel6hvm-intel hosts-allocate broken-step test-amd64-i386-xl-qemuu-winxpsp3-vcpus1 hosts-allocate broken-step test-amd64-amd64-xl-qcow2 hosts-allocate broken-step test-amd64-amd64-xl hosts-allocate broken-step test-amd64-i386-freebsd10-i386 hosts-allocate broken-step test-amd64-amd64-pygrub hosts-allocate broken-step test-amd64-amd64-xl-qemuu-winxpsp3 hosts-allocate broken-step test-amd64-amd64-xl-multivcpu hosts-allocate broken-step test-amd64-amd64-qemuu-nested-amd hosts-allocate broken-step test-amd64-amd64-qemuu-nested-intel hosts-allocate broken-step test-amd64-amd64-xl-pvh-intel hosts-allocate broken-step test-amd64-amd64-xl-credit2 hosts-allocate broken-step test-amd64-amd64-xl-pvh-amd hosts-allocate broken-step test-amd64-i386-xl-raw hosts-allocate broken-step build-armhf-xsm host-install(3) broken-step build-armhf-pvops host-install(3) broken-step build-armhf-xsm capture-logs broken-step build-armhf capture-logs broken-step build-armhf-pvops capture-logs broken-step build-armhf host-install(3) Push not applicable. (No revision log; it would be 3497 lines long.) --===============0941117134634175827== Content-Type: text/plain; charset="utf-8" MIME-Version: 1.0 Content-Transfer-Encoding: base64 Content-Disposition: inline X19fX19fX19fX19fX19fX19fX19fX19fX19fX19fX19fX19fX19fX19fX19fX18KWGVuLWRldmVs IG1haWxpbmcgbGlzdApYZW4tZGV2ZWxAbGlzdHMueGVuLm9yZwpodHRwczovL2xpc3RzLnhlbi5v cmcveGVuLWRldmVsCg== --===============0941117134634175827==--