* [seabios baseline-only test] 71025: trouble: broken/pass
@ 2017-03-21 8:21 Platform Team regression test user
0 siblings, 0 replies; only message in thread
From: Platform Team regression test user @ 2017-03-21 8:21 UTC (permalink / raw)
To: xen-devel, osstest-admin
This run is configured for baseline tests only.
flight 71025 seabios real [real]
http://osstest.xs.citrite.net/~osstest/testlogs/logs/71025/
Failures and problems with tests :-(
Tests which did not succeed and are blocking,
including tests which could not be run:
test-amd64-i386-xl-qemuu-debianhvm-amd64-xsm 2 hosts-allocate broken REGR. vs. 68632
test-amd64-amd64-libvirt-qemuu-debianhvm-amd64-xsm 2 hosts-allocate broken REGR. vs. 68632
test-amd64-amd64-xl-qemuu-debianhvm-amd64-xsm 2 hosts-allocate broken REGR. vs. 68632
test-amd64-i386-qemuu-rhel6hvm-intel 2 hosts-allocate broken REGR. vs. 68632
test-amd64-i386-xl-qemuu-win7-amd64 2 hosts-allocate broken REGR. vs. 68632
test-amd64-i386-xl-qemuu-winxpsp3-vcpus1 2 hosts-allocate broken REGR. vs. 68632
test-amd64-i386-qemuu-rhel6hvm-amd 2 hosts-allocate broken REGR. vs. 68632
test-amd64-i386-libvirt-qemuu-debianhvm-amd64-xsm 2 hosts-allocate broken REGR. vs. 68632
test-amd64-i386-xl-qemuu-winxpsp3 2 hosts-allocate broken REGR. vs. 68632
test-amd64-i386-xl-qemuu-debianhvm-amd64 2 hosts-allocate broken REGR. vs. 68632
test-amd64-amd64-xl-qemuu-debianhvm-amd64 2 hosts-allocate broken REGR. vs. 68632
test-amd64-amd64-xl-qemuu-winxpsp3 2 hosts-allocate broken REGR. vs. 68632
test-amd64-amd64-qemuu-nested-intel 2 hosts-allocate broken REGR. vs. 68632
test-amd64-amd64-qemuu-nested-amd 2 hosts-allocate broken REGR. vs. 68632
test-amd64-amd64-xl-qemuu-win7-amd64 2 hosts-allocate broken REGR. vs. 68632
version targeted for testing:
seabios c68aff57ce317d9f2d69d20eba893a10d964f316
baseline version:
seabios 1415d46dc87fd8bf1d6acd97c1ad60e893f62523
Last test of basis 68632 2017-03-03 11:20:46 Z 17 days
Testing same since 71025 2017-03-20 11:23:23 Z 0 days 1 attempts
------------------------------------------------------------
People who touched revisions under test:
Dr. David Alan Gilbert <dgilbert@redhat.com>
Kevin O'Connor <kevin@koconnor.net>
jobs:
build-amd64-xsm pass
build-i386-xsm pass
build-amd64 pass
build-i386 pass
build-amd64-libvirt pass
build-i386-libvirt pass
build-amd64-pvops pass
build-i386-pvops pass
test-amd64-amd64-libvirt-qemuu-debianhvm-amd64-xsm broken
test-amd64-i386-libvirt-qemuu-debianhvm-amd64-xsm broken
test-amd64-amd64-xl-qemuu-debianhvm-amd64-xsm broken
test-amd64-i386-xl-qemuu-debianhvm-amd64-xsm broken
test-amd64-amd64-qemuu-nested-amd broken
test-amd64-i386-qemuu-rhel6hvm-amd broken
test-amd64-amd64-xl-qemuu-debianhvm-amd64 broken
test-amd64-i386-xl-qemuu-debianhvm-amd64 broken
test-amd64-amd64-xl-qemuu-win7-amd64 broken
test-amd64-i386-xl-qemuu-win7-amd64 broken
test-amd64-amd64-qemuu-nested-intel broken
test-amd64-i386-qemuu-rhel6hvm-intel broken
test-amd64-i386-xl-qemuu-winxpsp3-vcpus1 broken
test-amd64-amd64-xl-qemuu-winxpsp3 broken
test-amd64-i386-xl-qemuu-winxpsp3 broken
------------------------------------------------------------
sg-report-flight on osstest.xs.citrite.net
logs: /home/osstest/logs
images: /home/osstest/images
Logs, config files, etc. are available at
http://osstest.xs.citrite.net/~osstest/testlogs/logs
Test harness code can be found at
http://xenbits.xensource.com/gitweb?p=osstest.git;a=summary
broken-step test-amd64-i386-xl-qemuu-debianhvm-amd64-xsm hosts-allocate
broken-step test-amd64-amd64-libvirt-qemuu-debianhvm-amd64-xsm hosts-allocate
broken-step test-amd64-amd64-xl-qemuu-debianhvm-amd64-xsm hosts-allocate
broken-step test-amd64-i386-qemuu-rhel6hvm-intel hosts-allocate
broken-step test-amd64-i386-xl-qemuu-win7-amd64 hosts-allocate
broken-step test-amd64-i386-xl-qemuu-winxpsp3-vcpus1 hosts-allocate
broken-step test-amd64-i386-qemuu-rhel6hvm-amd hosts-allocate
broken-step test-amd64-i386-libvirt-qemuu-debianhvm-amd64-xsm hosts-allocate
broken-step test-amd64-i386-xl-qemuu-winxpsp3 hosts-allocate
broken-step test-amd64-i386-xl-qemuu-debianhvm-amd64 hosts-allocate
broken-step test-amd64-amd64-xl-qemuu-debianhvm-amd64 hosts-allocate
broken-step test-amd64-amd64-xl-qemuu-winxpsp3 hosts-allocate
broken-step test-amd64-amd64-qemuu-nested-intel hosts-allocate
broken-step test-amd64-amd64-qemuu-nested-amd hosts-allocate
broken-step test-amd64-amd64-xl-qemuu-win7-amd64 hosts-allocate
Push not applicable.
------------------------------------------------------------
commit c68aff57ce317d9f2d69d20eba893a10d964f316
Author: Kevin O'Connor <kevin@koconnor.net>
Date: Fri Mar 3 10:48:45 2017 -0500
resume: Don't attempt to use generic reboot mechanisms on QEMU
On QEMU it's necessary to manually reset the BIOS memory region
between 0xc0000-0x100000 on a reboot. After this manual memory reset
is completed, it's not valid to use the generic reset mechanisms.
Rename qemu_prep_reset() to qemu_reboot() and change the function to
immediately reboot after the code memcpy.
This fixes a bug that could cause code corruption on reboots - calling
the udelay() function (as invoked by i8042_reboot and/or pci_reboot)
was not valid after the BIOS was memcpy'd.
Reported-by: "Dr. David Alan Gilbert" <dgilbert@redhat.com>
Tested-by: Dr. David Alan Gilbert <dgilbert@redhat.com>
Signed-off-by: Kevin O'Connor <kevin@koconnor.net>
_______________________________________________
Xen-devel mailing list
Xen-devel@lists.xen.org
https://lists.xen.org/xen-devel
^ permalink raw reply [flat|nested] only message in thread
only message in thread, other threads:[~2017-03-21 8:21 UTC | newest]
Thread overview: (only message) (download: mbox.gz follow: Atom feed
-- links below jump to the message on this page --
2017-03-21 8:21 [seabios baseline-only test] 71025: trouble: broken/pass Platform Team regression test user
This is a public inbox, see mirroring instructions
for how to clone and mirror all data and code used for this inbox;
as well as URLs for NNTP newsgroup(s).