* [ovmf baseline-only test] 71026: trouble: broken/pass
@ 2017-03-21 7:25 Platform Team regression test user
0 siblings, 0 replies; only message in thread
From: Platform Team regression test user @ 2017-03-21 7:25 UTC (permalink / raw)
To: xen-devel, osstest-admin
[-- Attachment #1: Type: text/plain, Size: 3524 bytes --]
This run is configured for baseline tests only.
flight 71026 ovmf real [real]
http://osstest.xs.citrite.net/~osstest/testlogs/logs/71026/
Failures and problems with tests :-(
Tests which did not succeed and are blocking,
including tests which could not be run:
test-amd64-i386-xl-qemuu-ovmf-amd64 2 hosts-allocate broken REGR. vs. 68602
test-amd64-amd64-xl-qemuu-ovmf-amd64 2 hosts-allocate broken REGR. vs. 68602
version targeted for testing:
ovmf 3df29b5d16d39b335b7daca625b3781e1da9920c
baseline version:
ovmf e0307a7dad02aa8c0cd8b3b0b9edce8ddb3fef2e
Last test of basis 68602 2017-02-22 10:16:50 Z 26 days
Testing same since 71026 2017-03-20 11:23:09 Z 0 days 1 attempts
------------------------------------------------------------
People who touched revisions under test:
Anthony PERARD <anthony.perard@citrix.com>
Ard Biesheuvel <ard.biesheuvel@linaro.org>
Bi, Dandan <dandan.bi@intel.com>
Brijesh Singh <brijesh.singh@amd.com>
Chao Zhang <chao.b.zhang@intel.com>
Chen A Chen <chen.a.chen@intel.com>
Dandan Bi <dandan.bi@intel.com>
edk2-devel On Behalf Of rthomaiy <[mailto:edk2-devel-bounces@lists.01.org]>
Feng Tian <feng.tian@intel.com>
Fu Siyuan <siyuan.fu@intel.com>
Hao Wu <hao.a.wu@intel.com>
Hegde Nagaraj P <nagaraj-p.hegde@hpe.com>
Hess Chen <hesheng.chen@intel.com>
Jeff Fan <jeff.fan@intel.com>
Jeff Westfahl <jeff.westfahl@ni.com>
Jiaxin Wu <jiaxin.wu@intel.com>
Jiewen Yao <jiewen.yao@intel.com>
Jordan Justen <jordan.l.justen@intel.com>
Laszlo Ersek <lersek@redhat.com>
Leo Duran <leo.duran@amd.com>
Marvin Haeuser <Marvin.Haeuser@outlook.com>
Marvin Häuser <Marvin.Haeuser@outlook.com>
Michael Zimmermann <sigmaepsilon92@gmail.com>
Paolo Bonzini <pbonzini@redhat.com>
Qin Long <qin.long@intel.com>
Richard Thomaiyar <richard.marian.thomaiyar@intel.com>
Ruiyu Ni <ruiyu.ni@intel.com>
Ryan Harkin <ryan.harkin@linaro.org>
Star Zeng <star.zeng@intel.com>
Thomaiyar, Richard Marian <richard.marian.thomaiyar@intel.com>
Wu Jiaxin <jiaxin.wu@intel.com>
Yonghong Zhu <yonghong.zhu@intel.com>
Zhang Lubo <lubo.zhang@intel.com>
Zhang, Chao B <chao.b.zhang@intel.com>
Zhang, Lubo <lubo.zhang@intel.com>
jobs:
build-amd64-xsm pass
build-i386-xsm pass
build-amd64 pass
build-i386 pass
build-amd64-libvirt pass
build-i386-libvirt pass
build-amd64-pvops pass
build-i386-pvops pass
test-amd64-amd64-xl-qemuu-ovmf-amd64 broken
test-amd64-i386-xl-qemuu-ovmf-amd64 broken
------------------------------------------------------------
sg-report-flight on osstest.xs.citrite.net
logs: /home/osstest/logs
images: /home/osstest/images
Logs, config files, etc. are available at
http://osstest.xs.citrite.net/~osstest/testlogs/logs
Test harness code can be found at
http://xenbits.xensource.com/gitweb?p=osstest.git;a=summary
broken-step test-amd64-i386-xl-qemuu-ovmf-amd64 hosts-allocate
broken-step test-amd64-amd64-xl-qemuu-ovmf-amd64 hosts-allocate
Push not applicable.
(No revision log; it would be 4897 lines long.)
[-- Attachment #2: Type: text/plain, Size: 127 bytes --]
_______________________________________________
Xen-devel mailing list
Xen-devel@lists.xen.org
https://lists.xen.org/xen-devel
^ permalink raw reply [flat|nested] only message in thread
only message in thread, other threads:[~2017-03-21 7:25 UTC | newest]
Thread overview: (only message) (download: mbox.gz follow: Atom feed
-- links below jump to the message on this page --
2017-03-21 7:25 [ovmf baseline-only test] 71026: trouble: broken/pass Platform Team regression test user
This is a public inbox, see mirroring instructions
for how to clone and mirror all data and code used for this inbox;
as well as URLs for NNTP newsgroup(s).