* [qemu-upstream-4.5-testing baseline-only test] 71106: trouble: blocked/broken
@ 2017-03-27 20:06 Platform Team regression test user
0 siblings, 0 replies; only message in thread
From: Platform Team regression test user @ 2017-03-27 20:06 UTC (permalink / raw)
To: xen-devel, osstest-admin
This run is configured for baseline tests only.
flight 71106 qemu-upstream-4.5-testing real [real]
http://osstest.xs.citrite.net/~osstest/testlogs/logs/71106/
Failures and problems with tests :-(
Tests which did not succeed and are blocking,
including tests which could not be run:
build-armhf 3 host-install(3) broken REGR. vs. 68606
build-armhf-pvops 3 host-install(3) broken REGR. vs. 68606
build-amd64 3 host-install(3) broken REGR. vs. 68606
build-amd64-pvops 3 host-install(3) broken REGR. vs. 68606
build-i386 3 host-install(3) broken REGR. vs. 68606
build-i386-pvops 3 host-install(3) broken REGR. vs. 68606
Tests which did not succeed, but are not blocking:
test-amd64-amd64-xl-qemuu-ovmf-amd64 1 build-check(1) blocked n/a
test-amd64-amd64-libvirt-vhd 1 build-check(1) blocked n/a
test-amd64-amd64-xl-credit2 1 build-check(1) blocked n/a
test-amd64-amd64-xl-qemuu-debianhvm-amd64 1 build-check(1) blocked n/a
test-armhf-armhf-xl-multivcpu 1 build-check(1) blocked n/a
test-amd64-i386-freebsd10-i386 1 build-check(1) blocked n/a
test-amd64-amd64-qemuu-nested-intel 1 build-check(1) blocked n/a
build-amd64-libvirt 1 build-check(1) blocked n/a
test-amd64-amd64-xl-pvh-intel 1 build-check(1) blocked n/a
test-amd64-i386-xl-qemuu-ovmf-amd64 1 build-check(1) blocked n/a
test-amd64-i386-xl-raw 1 build-check(1) blocked n/a
test-amd64-amd64-i386-pvgrub 1 build-check(1) blocked n/a
test-amd64-i386-qemuu-rhel6hvm-amd 1 build-check(1) blocked n/a
test-armhf-armhf-xl-midway 1 build-check(1) blocked n/a
test-armhf-armhf-libvirt 1 build-check(1) blocked n/a
build-armhf-libvirt 1 build-check(1) blocked n/a
test-amd64-i386-xl-qemuu-winxpsp3-vcpus1 1 build-check(1) blocked n/a
test-amd64-amd64-libvirt-pair 1 build-check(1) blocked n/a
test-amd64-i386-libvirt 1 build-check(1) blocked n/a
test-armhf-armhf-libvirt-raw 1 build-check(1) blocked n/a
test-armhf-armhf-xl 1 build-check(1) blocked n/a
test-amd64-amd64-xl-multivcpu 1 build-check(1) blocked n/a
test-amd64-i386-xl-qemuu-winxpsp3 1 build-check(1) blocked n/a
test-amd64-amd64-libvirt 1 build-check(1) blocked n/a
test-amd64-i386-qemuu-rhel6hvm-intel 1 build-check(1) blocked n/a
test-armhf-armhf-xl-vhd 1 build-check(1) blocked n/a
test-amd64-i386-xl-qemuu-win7-amd64 1 build-check(1) blocked n/a
test-amd64-amd64-xl 1 build-check(1) blocked n/a
test-amd64-amd64-xl-pvh-amd 1 build-check(1) blocked n/a
test-amd64-i386-freebsd10-amd64 1 build-check(1) blocked n/a
test-amd64-i386-pair 1 build-check(1) blocked n/a
test-amd64-amd64-pair 1 build-check(1) blocked n/a
test-armhf-armhf-xl-credit2 1 build-check(1) blocked n/a
test-amd64-amd64-qemuu-nested-amd 1 build-check(1) blocked n/a
test-amd64-amd64-xl-qemuu-win7-amd64 1 build-check(1) blocked n/a
test-amd64-amd64-pygrub 1 build-check(1) blocked n/a
test-amd64-amd64-xl-qemuu-winxpsp3 1 build-check(1) blocked n/a
test-amd64-amd64-xl-qcow2 1 build-check(1) blocked n/a
test-amd64-amd64-amd64-pvgrub 1 build-check(1) blocked n/a
test-armhf-armhf-xl-rtds 1 build-check(1) blocked n/a
test-amd64-i386-xl-qemuu-debianhvm-amd64 1 build-check(1) blocked n/a
test-amd64-i386-xl 1 build-check(1) blocked n/a
build-i386-libvirt 1 build-check(1) blocked n/a
test-amd64-i386-libvirt-pair 1 build-check(1) blocked n/a
test-amd64-amd64-xl-rtds 1 build-check(1) blocked n/a
version targeted for testing:
qemuu 6b0966a4422a6374db0f250b181bb4276c9e7a10
baseline version:
qemuu ad0d3c66fa90fabc988311fd654f79c3131a4027
Last test of basis 68606 2017-02-22 23:45:40 Z 32 days
Testing same since 71106 2017-03-27 05:53:24 Z 0 days 1 attempts
------------------------------------------------------------
People who touched revisions under test:
Gerd Hoffmann <kraxel@redhat.com>
Stefano Stabellini <sstabellini@kernel.org>
jobs:
build-amd64 broken
build-armhf broken
build-i386 broken
build-amd64-libvirt blocked
build-armhf-libvirt blocked
build-i386-libvirt blocked
build-amd64-pvops broken
build-armhf-pvops broken
build-i386-pvops broken
test-amd64-amd64-xl blocked
test-armhf-armhf-xl blocked
test-amd64-i386-xl blocked
test-amd64-amd64-qemuu-nested-amd blocked
test-amd64-amd64-xl-pvh-amd blocked
test-amd64-i386-qemuu-rhel6hvm-amd blocked
test-amd64-amd64-xl-qemuu-debianhvm-amd64 blocked
test-amd64-i386-xl-qemuu-debianhvm-amd64 blocked
test-amd64-i386-freebsd10-amd64 blocked
test-amd64-amd64-xl-qemuu-ovmf-amd64 blocked
test-amd64-i386-xl-qemuu-ovmf-amd64 blocked
test-amd64-amd64-xl-qemuu-win7-amd64 blocked
test-amd64-i386-xl-qemuu-win7-amd64 blocked
test-amd64-amd64-xl-credit2 blocked
test-armhf-armhf-xl-credit2 blocked
test-amd64-i386-freebsd10-i386 blocked
test-amd64-amd64-qemuu-nested-intel blocked
test-amd64-amd64-xl-pvh-intel blocked
test-amd64-i386-qemuu-rhel6hvm-intel blocked
test-amd64-amd64-libvirt blocked
test-armhf-armhf-libvirt blocked
test-amd64-i386-libvirt blocked
test-armhf-armhf-xl-midway blocked
test-amd64-amd64-xl-multivcpu blocked
test-armhf-armhf-xl-multivcpu blocked
test-amd64-amd64-pair blocked
test-amd64-i386-pair blocked
test-amd64-amd64-libvirt-pair blocked
test-amd64-i386-libvirt-pair blocked
test-amd64-amd64-amd64-pvgrub blocked
test-amd64-amd64-i386-pvgrub blocked
test-amd64-amd64-pygrub blocked
test-amd64-amd64-xl-qcow2 blocked
test-armhf-armhf-libvirt-raw blocked
test-amd64-i386-xl-raw blocked
test-amd64-amd64-xl-rtds blocked
test-armhf-armhf-xl-rtds blocked
test-amd64-i386-xl-qemuu-winxpsp3-vcpus1 blocked
test-amd64-amd64-libvirt-vhd blocked
test-armhf-armhf-xl-vhd blocked
test-amd64-amd64-xl-qemuu-winxpsp3 blocked
test-amd64-i386-xl-qemuu-winxpsp3 blocked
------------------------------------------------------------
sg-report-flight on osstest.xs.citrite.net
logs: /home/osstest/logs
images: /home/osstest/images
Logs, config files, etc. are available at
http://osstest.xs.citrite.net/~osstest/testlogs/logs
Test harness code can be found at
http://xenbits.xensource.com/gitweb?p=osstest.git;a=summary
broken-step build-armhf host-install(3)
broken-step build-armhf-pvops host-install(3)
broken-step build-amd64 host-install(3)
broken-step build-amd64-pvops host-install(3)
broken-step build-i386 host-install(3)
broken-step build-i386-pvops host-install(3)
Push not applicable.
------------------------------------------------------------
commit 6b0966a4422a6374db0f250b181bb4276c9e7a10
Author: Gerd Hoffmann <kraxel@redhat.com>
Date: Tue Feb 14 19:09:59 2017 +0100
cirrus/vnc: zap bitblit support from console code.
There is a special code path (dpy_gfx_copy) to allow graphic emulation
notify user interface code about bitblit operations carryed out by
guests. It is supported by cirrus and vnc server. The intended purpose
is to optimize display scrolls and just send over the scroll op instead
of a full display update.
This is rarely used these days though because modern guests simply don't
use the cirrus blitter any more. Any linux guest using the cirrus drm
driver doesn't. Any windows guest newer than winxp doesn't ship with a
cirrus driver any more and thus uses the cirrus as simple framebuffer.
So this code tends to bitrot and bugs can go unnoticed for a long time.
See for example commit "3e10c3e vnc: fix qemu crash because of SIGSEGV"
which fixes a bug lingering in the code for almost a year, added by
commit "c7628bf vnc: only alloc server surface with clients connected".
Also the vnc server will throttle the frame rate in case it figures the
network can't keep up (send buffers are full). This doesn't work with
dpy_gfx_copy, for any copy operation sent to the vnc client we have to
send all outstanding updates beforehand, otherwise the vnc client might
run the client side blit on outdated data and thereby corrupt the
display. So this dpy_gfx_copy "optimization" might even make things
worse on slow network links.
Lets kill it once for all.
This is XSA-211.
Signed-off-by: Gerd Hoffmann <kraxel@redhat.com>
Signed-off-by: Stefano Stabellini <sstabellini@kernel.org>
_______________________________________________
Xen-devel mailing list
Xen-devel@lists.xen.org
https://lists.xen.org/xen-devel
^ permalink raw reply [flat|nested] only message in thread
only message in thread, other threads:[~2017-03-27 20:06 UTC | newest]
Thread overview: (only message) (download: mbox.gz follow: Atom feed
-- links below jump to the message on this page --
2017-03-27 20:06 [qemu-upstream-4.5-testing baseline-only test] 71106: trouble: blocked/broken Platform Team regression test user
This is a public inbox, see mirroring instructions
for how to clone and mirror all data and code used for this inbox;
as well as URLs for NNTP newsgroup(s).