* [ovmf baseline-only test] 71111: tolerable trouble: blocked/broken
@ 2017-03-28 10:20 Platform Team regression test user
0 siblings, 0 replies; only message in thread
From: Platform Team regression test user @ 2017-03-28 10:20 UTC (permalink / raw)
To: xen-devel, osstest-admin
This run is configured for baseline tests only.
flight 71111 ovmf real [real]
http://osstest.xs.citrite.net/~osstest/testlogs/logs/71111/
Failures :-/ but no regressions.
Regressions which are regarded as allowable (not blocking):
build-amd64-xsm 3 host-install(3) broken baseline untested
build-amd64-pvops 3 host-install(3) broken baseline untested
build-amd64 3 host-install(3) broken baseline untested
build-i386 3 host-install(3) broken baseline untested
build-i386-pvops 3 host-install(3) broken baseline untested
build-i386-xsm 3 host-install(3) broken baseline untested
Tests which did not succeed, but are not blocking:
test-amd64-amd64-xl-qemuu-ovmf-amd64 1 build-check(1) blocked n/a
build-amd64-libvirt 1 build-check(1) blocked n/a
test-amd64-i386-xl-qemuu-ovmf-amd64 1 build-check(1) blocked n/a
build-i386-libvirt 1 build-check(1) blocked n/a
version targeted for testing:
ovmf 2d120489583a23386bec454a8a01f3ee1bc11e1e
baseline version:
ovmf 0b36d8fa73072382a4ad36e6c64d26f43cb81bc6
Last test of basis 71110 2017-03-27 14:46:28 Z 0 days
Testing same since 71111 2017-03-27 21:16:38 Z 0 days 1 attempts
------------------------------------------------------------
People who touched revisions under test:
Ard Biesheuvel <ard.biesheuvel@linaro.org>
jobs:
build-amd64-xsm broken
build-i386-xsm broken
build-amd64 broken
build-i386 broken
build-amd64-libvirt blocked
build-i386-libvirt blocked
build-amd64-pvops broken
build-i386-pvops broken
test-amd64-amd64-xl-qemuu-ovmf-amd64 blocked
test-amd64-i386-xl-qemuu-ovmf-amd64 blocked
------------------------------------------------------------
sg-report-flight on osstest.xs.citrite.net
logs: /home/osstest/logs
images: /home/osstest/images
Logs, config files, etc. are available at
http://osstest.xs.citrite.net/~osstest/testlogs/logs
Test harness code can be found at
http://xenbits.xensource.com/gitweb?p=osstest.git;a=summary
broken-step build-amd64-xsm host-install(3)
broken-step build-amd64-pvops host-install(3)
broken-step build-amd64 host-install(3)
broken-step build-i386 host-install(3)
broken-step build-i386-pvops host-install(3)
broken-step build-i386-xsm host-install(3)
Push not applicable.
------------------------------------------------------------
commit 2d120489583a23386bec454a8a01f3ee1bc11e1e
Author: Ard Biesheuvel <ard.biesheuvel@linaro.org>
Date: Wed Mar 15 16:26:41 2017 +0000
ArmPkg/ArmExceptionLib: use EL0 stack for synchronous exceptions
In order to be able to produce meaningful diagnostic output when taking
synchronous exceptions that have been caused by corruption of the stack
pointer, prepare the EL0 stack pointer and switch to it when handling the
'Sync exception using SPx' exception class.
Contributed-under: TianoCore Contribution Agreement 1.0
Signed-off-by: Ard Biesheuvel <ard.biesheuvel@linaro.org>
Reviewed-by: Leif Lindholm <leif.lindholm@linaro.org>
_______________________________________________
Xen-devel mailing list
Xen-devel@lists.xen.org
https://lists.xen.org/xen-devel
^ permalink raw reply [flat|nested] only message in thread
only message in thread, other threads:[~2017-03-28 10:20 UTC | newest]
Thread overview: (only message) (download: mbox.gz follow: Atom feed
-- links below jump to the message on this page --
2017-03-28 10:20 [ovmf baseline-only test] 71111: tolerable trouble: blocked/broken Platform Team regression test user
This is a public inbox, see mirroring instructions
for how to clone and mirror all data and code used for this inbox;
as well as URLs for NNTP newsgroup(s).