xen-devel.lists.xenproject.org archive mirror
 help / color / mirror / Atom feed
* [ovmf baseline-only test] 71114: all pass
@ 2017-03-28 19:38 Platform Team regression test user
  0 siblings, 0 replies; only message in thread
From: Platform Team regression test user @ 2017-03-28 19:38 UTC (permalink / raw)
  To: xen-devel, osstest-admin

This run is configured for baseline tests only.

flight 71114 ovmf real [real]
http://osstest.xs.citrite.net/~osstest/testlogs/logs/71114/

Perfect :-)
All tests in this flight passed as required
version targeted for testing:
 ovmf                 89ad870fbff03a511102c73773000f2bea2017d2
baseline version:
 ovmf                 3efa3f3d05ea3fef964e59aea9b5792cfec348ed

Last test of basis    71113  2017-03-28 15:20:06 Z    0 days
Testing same since    71114  2017-03-28 17:46:51 Z    0 days    1 attempts

------------------------------------------------------------
People who touched revisions under test:
  Laszlo Ersek <lersek@redhat.com>

jobs:
 build-amd64-xsm                                              pass    
 build-i386-xsm                                               pass    
 build-amd64                                                  pass    
 build-i386                                                   pass    
 build-amd64-libvirt                                          pass    
 build-i386-libvirt                                           pass    
 build-amd64-pvops                                            pass    
 build-i386-pvops                                             pass    
 test-amd64-amd64-xl-qemuu-ovmf-amd64                         pass    
 test-amd64-i386-xl-qemuu-ovmf-amd64                          pass    


------------------------------------------------------------
sg-report-flight on osstest.xs.citrite.net
logs: /home/osstest/logs
images: /home/osstest/images

Logs, config files, etc. are available at
    http://osstest.xs.citrite.net/~osstest/testlogs/logs

Test harness code can be found at
    http://xenbits.xensource.com/gitweb?p=osstest.git;a=summary


Push not applicable.

(No revision log; it would be 310 lines long.)

_______________________________________________
Xen-devel mailing list
Xen-devel@lists.xen.org
https://lists.xen.org/xen-devel

^ permalink raw reply	[flat|nested] only message in thread

only message in thread, other threads:[~2017-03-28 19:38 UTC | newest]

Thread overview: (only message) (download: mbox.gz follow: Atom feed
-- links below jump to the message on this page --
2017-03-28 19:38 [ovmf baseline-only test] 71114: all pass Platform Team regression test user

This is a public inbox, see mirroring instructions
for how to clone and mirror all data and code used for this inbox;
as well as URLs for NNTP newsgroup(s).