xen-devel.lists.xenproject.org archive mirror
 help / color / mirror / Atom feed
From: Platform Team regression test user <citrix-osstest@xenproject.org>
To: xen-devel@lists.xensource.com, osstest-admin@xenproject.org
Subject: [ovmf baseline-only test] 71129: all pass
Date: Fri, 31 Mar 2017 08:19:28 +0100	[thread overview]
Message-ID: <osstest-71129-mainreport@xen.org> (raw)

This run is configured for baseline tests only.

flight 71129 ovmf real [real]
http://osstest.xs.citrite.net/~osstest/testlogs/logs/71129/

Perfect :-)
All tests in this flight passed as required
version targeted for testing:
 ovmf                 251779fca719bf9ea00505ee7629c08b452c150d
baseline version:
 ovmf                 072060a6f81b3e43473b9e5dcba7049ad9de4b18

Last test of basis    71128  2017-03-30 23:47:27 Z    0 days
Testing same since    71129  2017-03-31 05:17:20 Z    0 days    1 attempts

------------------------------------------------------------
People who touched revisions under test:
  Jiewen Yao <jiewen.yao@intel.com>

jobs:
 build-amd64-xsm                                              pass    
 build-i386-xsm                                               pass    
 build-amd64                                                  pass    
 build-i386                                                   pass    
 build-amd64-libvirt                                          pass    
 build-i386-libvirt                                           pass    
 build-amd64-pvops                                            pass    
 build-i386-pvops                                             pass    
 test-amd64-amd64-xl-qemuu-ovmf-amd64                         pass    
 test-amd64-i386-xl-qemuu-ovmf-amd64                          pass    


------------------------------------------------------------
sg-report-flight on osstest.xs.citrite.net
logs: /home/osstest/logs
images: /home/osstest/images

Logs, config files, etc. are available at
    http://osstest.xs.citrite.net/~osstest/testlogs/logs

Test harness code can be found at
    http://xenbits.xensource.com/gitweb?p=osstest.git;a=summary


Push not applicable.

------------------------------------------------------------
commit 251779fca719bf9ea00505ee7629c08b452c150d
Author: Jiewen Yao <jiewen.yao@intel.com>
Date:   Mon Mar 27 23:01:02 2017 +0800

    MdeModulePkg/SmmCore: Fix memory leak on Profile unregistered.
    
    Issue reported at bugzillar 445.
    
    Cc: Jeff Fan <jeff.fan@intel.com>
    Cc: Feng Tian <feng.tian@intel.com>
    Cc: Star Zeng <star.zeng@intel.com>
    Cc: Bret Barkelew <Bret.Barkelew@microsoft.com>
    Contributed-under: TianoCore Contribution Agreement 1.0
    Signed-off-by: Jiewen Yao <jiewen.yao@intel.com>
    Reviewed-by: Jeff Fan <jeff.fan@intel.com>

_______________________________________________
Xen-devel mailing list
Xen-devel@lists.xen.org
https://lists.xen.org/xen-devel

                 reply	other threads:[~2017-03-31  7:19 UTC|newest]

Thread overview: [no followups] expand[flat|nested]  mbox.gz  Atom feed

Reply instructions:

You may reply publicly to this message via plain-text email
using any one of the following methods:

* Save the following mbox file, import it into your mail client,
  and reply-to-all from there: mbox

  Avoid top-posting and favor interleaved quoting:
  https://en.wikipedia.org/wiki/Posting_style#Interleaved_style

* Reply using the --to, --cc, and --in-reply-to
  switches of git-send-email(1):

  git send-email \
    --in-reply-to=osstest-71129-mainreport@xen.org \
    --to=citrix-osstest@xenproject.org \
    --cc=osstest-admin@xenproject.org \
    --cc=xen-devel@lists.xensource.com \
    /path/to/YOUR_REPLY

  https://kernel.org/pub/software/scm/git/docs/git-send-email.html

* If your mail client supports setting the In-Reply-To header
  via mailto: links, try the mailto: link
Be sure your reply has a Subject: header at the top and a blank line before the message body.
This is a public inbox, see mirroring instructions
for how to clone and mirror all data and code used for this inbox;
as well as URLs for NNTP newsgroup(s).