xen-devel.lists.xenproject.org archive mirror
 help / color / mirror / Atom feed
From: Platform Team regression test user <citrix-osstest@xenproject.org>
To: xen-devel@lists.xensource.com, osstest-admin@xenproject.org
Subject: [ovmf baseline-only test] 71131: all pass
Date: Fri, 31 Mar 2017 12:33:53 +0100	[thread overview]
Message-ID: <osstest-71131-mainreport@xen.org> (raw)

This run is configured for baseline tests only.

flight 71131 ovmf real [real]
http://osstest.xs.citrite.net/~osstest/testlogs/logs/71131/

Perfect :-)
All tests in this flight passed as required
version targeted for testing:
 ovmf                 de87f23291620d36d69ec55ea53a1c38b8780f0b
baseline version:
 ovmf                 251779fca719bf9ea00505ee7629c08b452c150d

Last test of basis    71129  2017-03-31 05:17:20 Z    0 days
Testing same since    71131  2017-03-31 09:18:57 Z    0 days    1 attempts

------------------------------------------------------------
People who touched revisions under test:
  Bell Song <binx.song@intel.com>
  Song, BinX <binx.song@intel.com>

jobs:
 build-amd64-xsm                                              pass    
 build-i386-xsm                                               pass    
 build-amd64                                                  pass    
 build-i386                                                   pass    
 build-amd64-libvirt                                          pass    
 build-i386-libvirt                                           pass    
 build-amd64-pvops                                            pass    
 build-i386-pvops                                             pass    
 test-amd64-amd64-xl-qemuu-ovmf-amd64                         pass    
 test-amd64-i386-xl-qemuu-ovmf-amd64                          pass    


------------------------------------------------------------
sg-report-flight on osstest.xs.citrite.net
logs: /home/osstest/logs
images: /home/osstest/images

Logs, config files, etc. are available at
    http://osstest.xs.citrite.net/~osstest/testlogs/logs

Test harness code can be found at
    http://xenbits.xensource.com/gitweb?p=osstest.git;a=summary


Push not applicable.

------------------------------------------------------------
commit de87f23291620d36d69ec55ea53a1c38b8780f0b
Author: Song, BinX <binx.song@intel.com>
Date:   Thu Mar 30 16:23:10 2017 +0800

    BaseTools: Update Brotli and BrotliCompress mode and format
    
    V2:
    - Update correct patch info
    
    V1:
    - Add x mode for Brotli and BrotliCompress
    - Change Brotli and BrotliCompress format from DOS to UNIX
    
    Cc: Liming Gao <liming.gao@intel.com>
    Contributed-under: TianoCore Contribution Agreement 1.0
    Signed-off-by: Bell Song <binx.song@intel.com>
    Reviewed-by: Liming Gao <liming.gao@intel.com>

_______________________________________________
Xen-devel mailing list
Xen-devel@lists.xen.org
https://lists.xen.org/xen-devel

                 reply	other threads:[~2017-03-31 11:33 UTC|newest]

Thread overview: [no followups] expand[flat|nested]  mbox.gz  Atom feed

Reply instructions:

You may reply publicly to this message via plain-text email
using any one of the following methods:

* Save the following mbox file, import it into your mail client,
  and reply-to-all from there: mbox

  Avoid top-posting and favor interleaved quoting:
  https://en.wikipedia.org/wiki/Posting_style#Interleaved_style

* Reply using the --to, --cc, and --in-reply-to
  switches of git-send-email(1):

  git send-email \
    --in-reply-to=osstest-71131-mainreport@xen.org \
    --to=citrix-osstest@xenproject.org \
    --cc=osstest-admin@xenproject.org \
    --cc=xen-devel@lists.xensource.com \
    /path/to/YOUR_REPLY

  https://kernel.org/pub/software/scm/git/docs/git-send-email.html

* If your mail client supports setting the In-Reply-To header
  via mailto: links, try the mailto: link
Be sure your reply has a Subject: header at the top and a blank line before the message body.
This is a public inbox, see mirroring instructions
for how to clone and mirror all data and code used for this inbox;
as well as URLs for NNTP newsgroup(s).