xen-devel.lists.xenproject.org archive mirror
 help / color / mirror / Atom feed
* [ovmf baseline-only test] 71225: all pass
@ 2017-04-24 17:04 Platform Team regression test user
  0 siblings, 0 replies; only message in thread
From: Platform Team regression test user @ 2017-04-24 17:04 UTC (permalink / raw)
  To: xen-devel, osstest-admin

This run is configured for baseline tests only.

flight 71225 ovmf real [real]
http://osstest.xs.citrite.net/~osstest/testlogs/logs/71225/

Perfect :-)
All tests in this flight passed as required
version targeted for testing:
 ovmf                 dd29d8b3565ba8ae2e71c097a95b22af5d1d90a4
baseline version:
 ovmf                 f6b139bde7e0a39f83ffad30af58136d5b0738a7

Last test of basis    71222  2017-04-24 05:19:41 Z    0 days
Testing same since    71225  2017-04-24 07:46:50 Z    0 days    1 attempts

------------------------------------------------------------
People who touched revisions under test:
  Fu Siyuan <siyuan.fu@intel.com>

jobs:
 build-amd64-xsm                                              pass    
 build-i386-xsm                                               pass    
 build-amd64                                                  pass    
 build-i386                                                   pass    
 build-amd64-libvirt                                          pass    
 build-i386-libvirt                                           pass    
 build-amd64-pvops                                            pass    
 build-i386-pvops                                             pass    
 test-amd64-amd64-xl-qemuu-ovmf-amd64                         pass    
 test-amd64-i386-xl-qemuu-ovmf-amd64                          pass    


------------------------------------------------------------
sg-report-flight on osstest.xs.citrite.net
logs: /home/osstest/logs
images: /home/osstest/images

Logs, config files, etc. are available at
    http://osstest.xs.citrite.net/~osstest/testlogs/logs

Test harness code can be found at
    http://xenbits.xensource.com/gitweb?p=osstest.git;a=summary


Push not applicable.

------------------------------------------------------------
commit dd29d8b3565ba8ae2e71c097a95b22af5d1d90a4
Author: Fu Siyuan <siyuan.fu@intel.com>
Date:   Fri Apr 21 09:48:09 2017 +0800

    MdeModulePkg: Discard received broadcast message in DxeIpIoLib.
    
    Contributed-under: TianoCore Contribution Agreement 1.0
    Signed-off-by: Fu Siyuan <siyuan.fu@intel.com>
    Reviewed-by: Ye Ting <ting.ye@intel.com>
    Reviewed-by: Wu Jiaxin <jiaxin.wu@intel.com>

commit 176eb3a17e79644a4abf1d2612e03166c4692e17
Author: Fu Siyuan <siyuan.fu@intel.com>
Date:   Fri Apr 21 09:31:14 2017 +0800

    OptionRomPkg: Fix calling convention issue for UndiRuntiumeDxe driver.
    
    Add "EFIAPI" to UNDI command entry point function according to UEFI calling
    convention.
    
    Contributed-under: TianoCore Contribution Agreement 1.0
    Signed-off-by: Fu Siyuan <siyuan.fu@intel.com>
    Reviewed-by: Ye Ting <ting.ye@intel.com>
    Reviewed-by: Wu Jiaxin <jiaxin.wu@intel.com>

_______________________________________________
Xen-devel mailing list
Xen-devel@lists.xen.org
https://lists.xen.org/xen-devel

^ permalink raw reply	[flat|nested] only message in thread

only message in thread, other threads:[~2017-04-24 17:04 UTC | newest]

Thread overview: (only message) (download: mbox.gz follow: Atom feed
-- links below jump to the message on this page --
2017-04-24 17:04 [ovmf baseline-only test] 71225: all pass Platform Team regression test user

This is a public inbox, see mirroring instructions
for how to clone and mirror all data and code used for this inbox;
as well as URLs for NNTP newsgroup(s).