From: Platform Team regression test user <citrix-osstest@xenproject.org>
To: xen-devel@lists.xensource.com, osstest-admin@xenproject.org
Subject: [ovmf baseline-only test] 71226: all pass
Date: Tue, 25 Apr 2017 08:02:29 +0100 [thread overview]
Message-ID: <osstest-71226-mainreport@xen.org> (raw)
This run is configured for baseline tests only.
flight 71226 ovmf real [real]
http://osstest.xs.citrite.net/~osstest/testlogs/logs/71226/
Perfect :-)
All tests in this flight passed as required
version targeted for testing:
ovmf 1a5ae661754625b8f4bba39214006e87216747e9
baseline version:
ovmf dd29d8b3565ba8ae2e71c097a95b22af5d1d90a4
Last test of basis 71225 2017-04-24 07:46:50 Z 0 days
Testing same since 71226 2017-04-25 05:19:33 Z 0 days 1 attempts
------------------------------------------------------------
People who touched revisions under test:
Hao Wu <hao.a.wu@intel.com>
Jeff Westfahl <jeff.westfahl@ni.com>
jobs:
build-amd64-xsm pass
build-i386-xsm pass
build-amd64 pass
build-i386 pass
build-amd64-libvirt pass
build-i386-libvirt pass
build-amd64-pvops pass
build-i386-pvops pass
test-amd64-amd64-xl-qemuu-ovmf-amd64 pass
test-amd64-i386-xl-qemuu-ovmf-amd64 pass
------------------------------------------------------------
sg-report-flight on osstest.xs.citrite.net
logs: /home/osstest/logs
images: /home/osstest/images
Logs, config files, etc. are available at
http://osstest.xs.citrite.net/~osstest/testlogs/logs
Test harness code can be found at
http://xenbits.xensource.com/gitweb?p=osstest.git;a=summary
Push not applicable.
------------------------------------------------------------
commit 1a5ae661754625b8f4bba39214006e87216747e9
Author: Hao Wu <hao.a.wu@intel.com>
Date: Mon Apr 24 13:32:04 2017 +0800
MdeModulePkg/UfsPciHc: Avoid overriding return value in BindingStart
In function UfsHcDriverBindingStart(), the return value 'Status' may be
overridden during the original PCI attributes restore process.
This commit refines the logic to avoid such override.
Contributed-under: TianoCore Contribution Agreement 1.0
Signed-off-by: Hao Wu <hao.a.wu@intel.com>
Reviewed-by: Star Zeng <star.zeng@intel.com>
commit c36ea72ebd4c0fd2c73f881d4708fa623c20c320
Author: Hao Wu <hao.a.wu@intel.com>
Date: Mon Apr 24 13:22:29 2017 +0800
MdeModulePkg/UfsPciHc: Remove unused field in UfsHc private struct
The commit removes the unused field 'EFI_HANDLE Handle' in Ufs host
controller private data structure 'UFS_HOST_CONTROLLER_PRIVATE_DATA'.
Contributed-under: TianoCore Contribution Agreement 1.0
Signed-off-by: Hao Wu <hao.a.wu@intel.com>
Reviewed-by: Star Zeng <star.zeng@intel.com>
commit fed709deb444084594c2e11a1886819fa54afc00
Author: Jeff Westfahl <jeff.westfahl@ni.com>
Date: Sat Apr 22 05:25:07 2017 +0800
ShellPkg SmbiosView: Display Type 0 BIOS segment in hexadecimal
The SMBIOS Type 0 BIOS segment field is currently displayed in decimal.
Since this field is likely to have a value like 0xE800 or 0xF000, using
hexadecimal seems like a better choice.
Cc: Ruiyu Ni <ruiyu.ni@intel.com>
Cc: Jaben Carsey <jaben.carsey@intel.com>
Contributed-under: TianoCore Contribution Agreement 1.0
Signed-off-by: Jeff Westfahl <jeff.westfahl@ni.com>
Reviewed-by: Star Zeng <star.zeng@intel.com>
_______________________________________________
Xen-devel mailing list
Xen-devel@lists.xen.org
https://lists.xen.org/xen-devel
reply other threads:[~2017-04-25 7:02 UTC|newest]
Thread overview: [no followups] expand[flat|nested] mbox.gz Atom feed
Reply instructions:
You may reply publicly to this message via plain-text email
using any one of the following methods:
* Save the following mbox file, import it into your mail client,
and reply-to-all from there: mbox
Avoid top-posting and favor interleaved quoting:
https://en.wikipedia.org/wiki/Posting_style#Interleaved_style
* Reply using the --to, --cc, and --in-reply-to
switches of git-send-email(1):
git send-email \
--in-reply-to=osstest-71226-mainreport@xen.org \
--to=citrix-osstest@xenproject.org \
--cc=osstest-admin@xenproject.org \
--cc=xen-devel@lists.xensource.com \
/path/to/YOUR_REPLY
https://kernel.org/pub/software/scm/git/docs/git-send-email.html
* If your mail client supports setting the In-Reply-To header
via mailto: links, try the mailto: link
Be sure your reply has a Subject: header at the top and a blank line
before the message body.
This is a public inbox, see mirroring instructions
for how to clone and mirror all data and code used for this inbox;
as well as URLs for NNTP newsgroup(s).