* [ovmf baseline-only test] 71229: all pass
@ 2017-04-25 13:38 Platform Team regression test user
0 siblings, 0 replies; only message in thread
From: Platform Team regression test user @ 2017-04-25 13:38 UTC (permalink / raw)
To: xen-devel, osstest-admin
This run is configured for baseline tests only.
flight 71229 ovmf real [real]
http://osstest.xs.citrite.net/~osstest/testlogs/logs/71229/
Perfect :-)
All tests in this flight passed as required
version targeted for testing:
ovmf d5a67b3da18f815c83593d9329a353ec3a739d66
baseline version:
ovmf 1a5ae661754625b8f4bba39214006e87216747e9
Last test of basis 71226 2017-04-25 05:19:33 Z 0 days
Testing same since 71229 2017-04-25 10:19:58 Z 0 days 1 attempts
------------------------------------------------------------
People who touched revisions under test:
Liming Gao <liming.gao@intel.com>
jobs:
build-amd64-xsm pass
build-i386-xsm pass
build-amd64 pass
build-i386 pass
build-amd64-libvirt pass
build-i386-libvirt pass
build-amd64-pvops pass
build-i386-pvops pass
test-amd64-amd64-xl-qemuu-ovmf-amd64 pass
test-amd64-i386-xl-qemuu-ovmf-amd64 pass
------------------------------------------------------------
sg-report-flight on osstest.xs.citrite.net
logs: /home/osstest/logs
images: /home/osstest/images
Logs, config files, etc. are available at
http://osstest.xs.citrite.net/~osstest/testlogs/logs
Test harness code can be found at
http://xenbits.xensource.com/gitweb?p=osstest.git;a=summary
Push not applicable.
------------------------------------------------------------
commit d5a67b3da18f815c83593d9329a353ec3a739d66
Author: Liming Gao <liming.gao@intel.com>
Date: Mon Apr 24 14:39:10 2017 +0800
MdeModulePkg: Update PiSmmCore to set correct ImageAddress into LoadedImage
Cc: Star Zeng <star.zeng@intel.com>
Contributed-under: TianoCore Contribution Agreement 1.0
Signed-off-by: Liming Gao <liming.gao@intel.com>
Reviewed-by: Star Zeng <star.zeng@intel.com>
commit c2aeb66fff90e7326d095aed0876d1f67f94f75e
Author: Liming Gao <liming.gao@intel.com>
Date: Wed Apr 12 16:34:13 2017 +0800
MdeModulePkg PiSmmIpl: Fix the issue in LMFA feature
SmramBase should be got from mLMFAConfigurationTable.
Cc: Star Zeng <star.zeng@intel.com>
Contributed-under: TianoCore Contribution Agreement 1.0
Signed-off-by: Liming Gao <liming.gao@intel.com>
Reviewed-by: Star Zeng <star.zeng@intel.com>
_______________________________________________
Xen-devel mailing list
Xen-devel@lists.xen.org
https://lists.xen.org/xen-devel
^ permalink raw reply [flat|nested] only message in thread
only message in thread, other threads:[~2017-04-25 13:38 UTC | newest]
Thread overview: (only message) (download: mbox.gz follow: Atom feed
-- links below jump to the message on this page --
2017-04-25 13:38 [ovmf baseline-only test] 71229: all pass Platform Team regression test user
This is a public inbox, see mirroring instructions
for how to clone and mirror all data and code used for this inbox;
as well as URLs for NNTP newsgroup(s).