From: Platform Team regression test user <citrix-osstest@xenproject.org>
To: xen-devel@lists.xensource.com, osstest-admin@xenproject.org
Subject: [ovmf baseline-only test] 71661: all pass
Date: Fri, 7 Jul 2017 03:32:30 +0100 [thread overview]
Message-ID: <osstest-71661-mainreport@xen.org> (raw)
This run is configured for baseline tests only.
flight 71661 ovmf real [real]
http://osstest.xs.citrite.net/~osstest/testlogs/logs/71661/
Perfect :-)
All tests in this flight passed as required
version targeted for testing:
ovmf 60e85a39fe49071683f3ac5e208f1582511d26bf
baseline version:
ovmf 49be9c3c20cea7477b9c9e390c9f97735760e216
Last test of basis 71645 2017-07-05 07:18:33 Z 1 days
Testing same since 71661 2017-07-06 15:22:04 Z 0 days 1 attempts
------------------------------------------------------------
People who touched revisions under test:
Ard Biesheuvel <ard.biesheuvel@linaro.org>
Hao Wu <hao.a.wu@intel.com>
Jordan Justen <jordan.l.justen@intel.com>
Jun Nie <jun.nie@linaro.org>
Laszlo Ersek <lersek@redhat.com>
Leif Lindholm <leif.lindholm@linaro.org>
Liming Gao <liming.gao@intel.com>
Ryan Harkin <ryan.harkin@linaro.org>
Wu Jiaxin <jiaxin.wu@intel.com>
jobs:
build-amd64-xsm pass
build-i386-xsm pass
build-amd64 pass
build-i386 pass
build-amd64-libvirt pass
build-i386-libvirt pass
build-amd64-pvops pass
build-i386-pvops pass
test-amd64-amd64-xl-qemuu-ovmf-amd64 pass
test-amd64-i386-xl-qemuu-ovmf-amd64 pass
------------------------------------------------------------
sg-report-flight on osstest.xs.citrite.net
logs: /home/osstest/logs
images: /home/osstest/images
Logs, config files, etc. are available at
http://osstest.xs.citrite.net/~osstest/testlogs/logs
Test harness code can be found at
http://xenbits.xensource.com/gitweb?p=osstest.git;a=summary
Push not applicable.
(No revision log; it would be 497 lines long.)
_______________________________________________
Xen-devel mailing list
Xen-devel@lists.xen.org
https://lists.xen.org/xen-devel
reply other threads:[~2017-07-07 2:32 UTC|newest]
Thread overview: [no followups] expand[flat|nested] mbox.gz Atom feed
Reply instructions:
You may reply publicly to this message via plain-text email
using any one of the following methods:
* Save the following mbox file, import it into your mail client,
and reply-to-all from there: mbox
Avoid top-posting and favor interleaved quoting:
https://en.wikipedia.org/wiki/Posting_style#Interleaved_style
* Reply using the --to, --cc, and --in-reply-to
switches of git-send-email(1):
git send-email \
--in-reply-to=osstest-71661-mainreport@xen.org \
--to=citrix-osstest@xenproject.org \
--cc=osstest-admin@xenproject.org \
--cc=xen-devel@lists.xensource.com \
/path/to/YOUR_REPLY
https://kernel.org/pub/software/scm/git/docs/git-send-email.html
* If your mail client supports setting the In-Reply-To header
via mailto: links, try the mailto: link
Be sure your reply has a Subject: header at the top and a blank line
before the message body.
This is a public inbox, see mirroring instructions
for how to clone and mirror all data and code used for this inbox;
as well as URLs for NNTP newsgroup(s).