xen-devel.lists.xenproject.org archive mirror
 help / color / mirror / Atom feed
* [ovmf baseline-only test] 71663: all pass
@ 2017-07-07 10:12 Platform Team regression test user
  0 siblings, 0 replies; only message in thread
From: Platform Team regression test user @ 2017-07-07 10:12 UTC (permalink / raw)
  To: xen-devel, osstest-admin

This run is configured for baseline tests only.

flight 71663 ovmf real [real]
http://osstest.xs.citrite.net/~osstest/testlogs/logs/71663/

Perfect :-)
All tests in this flight passed as required
version targeted for testing:
 ovmf                 5e72dacc83bb47d1fae99c4d1200bd12b96273f3
baseline version:
 ovmf                 60e85a39fe49071683f3ac5e208f1582511d26bf

Last test of basis    71661  2017-07-06 15:22:04 Z    0 days
Testing same since    71663  2017-07-07 08:18:30 Z    0 days    1 attempts

------------------------------------------------------------
People who touched revisions under test:
  Eric Dong <eric.dong@intel.com>

jobs:
 build-amd64-xsm                                              pass    
 build-i386-xsm                                               pass    
 build-amd64                                                  pass    
 build-i386                                                   pass    
 build-amd64-libvirt                                          pass    
 build-i386-libvirt                                           pass    
 build-amd64-pvops                                            pass    
 build-i386-pvops                                             pass    
 test-amd64-amd64-xl-qemuu-ovmf-amd64                         pass    
 test-amd64-i386-xl-qemuu-ovmf-amd64                          pass    


------------------------------------------------------------
sg-report-flight on osstest.xs.citrite.net
logs: /home/osstest/logs
images: /home/osstest/images

Logs, config files, etc. are available at
    http://osstest.xs.citrite.net/~osstest/testlogs/logs

Test harness code can be found at
    http://xenbits.xensource.com/gitweb?p=osstest.git;a=summary


Push not applicable.

------------------------------------------------------------
commit 5e72dacc83bb47d1fae99c4d1200bd12b96273f3
Author: Eric Dong <eric.dong@intel.com>
Date:   Thu Jul 6 09:25:37 2017 +0800

    UefiCpuPkg MpInitLib: Update return status to follow spec.
    
    Contributed-under: TianoCore Contribution Agreement 1.0
    Signed-off-by: Eric Dong <eric.dong@intel.com>
    Reviewed-by: Jeff Fan <jeff.fan@intel.com>

commit e3ae7f52738667c7540486d91eff47efd0906fee
Author: Eric Dong <eric.dong@intel.com>
Date:   Thu Jul 6 09:25:19 2017 +0800

    UefiCpuPkg CpuMpPei: Update return status to follow spec.
    
    Contributed-under: TianoCore Contribution Agreement 1.0
    Signed-off-by: Eric Dong <eric.dong@intel.com>
    Reviewed-by: Jeff Fan <jeff.fan@intel.com>

commit 29b237f848de37c2049255a8c966bbc564257761
Author: Eric Dong <eric.dong@intel.com>
Date:   Thu Jul 6 09:24:49 2017 +0800

    UefiCpuPkg CpuDxe: Update return status to follow spec.
    
    Contributed-under: TianoCore Contribution Agreement 1.0
    Signed-off-by: Eric Dong <eric.dong@intel.com>
    Reviewed-by: Jeff Fan <jeff.fan@intel.com>

commit da71a637bdc6f81e55c3d105cd4aaf494c09b046
Author: Eric Dong <eric.dong@intel.com>
Date:   Thu Jul 6 09:23:29 2017 +0800

    MdePkg MpServices: Update return status to follow spec.
    
    Contributed-under: TianoCore Contribution Agreement 1.0
    Signed-off-by: Eric Dong <eric.dong@intel.com>
    Reviewed-by: Jeff Fan <jeff.fan@intel.com>

_______________________________________________
Xen-devel mailing list
Xen-devel@lists.xen.org
https://lists.xen.org/xen-devel

^ permalink raw reply	[flat|nested] only message in thread

only message in thread, other threads:[~2017-07-07 10:12 UTC | newest]

Thread overview: (only message) (download: mbox.gz follow: Atom feed
-- links below jump to the message on this page --
2017-07-07 10:12 [ovmf baseline-only test] 71663: all pass Platform Team regression test user

This is a public inbox, see mirroring instructions
for how to clone and mirror all data and code used for this inbox;
as well as URLs for NNTP newsgroup(s).