* [ovmf baseline-only test] 71670: all pass
@ 2017-07-08 7:44 Platform Team regression test user
0 siblings, 0 replies; only message in thread
From: Platform Team regression test user @ 2017-07-08 7:44 UTC (permalink / raw)
To: xen-devel, osstest-admin
This run is configured for baseline tests only.
flight 71670 ovmf real [real]
http://osstest.xs.citrite.net/~osstest/testlogs/logs/71670/
Perfect :-)
All tests in this flight passed as required
version targeted for testing:
ovmf 401d1343cb0279908a748fd0ff27609ccc300b43
baseline version:
ovmf 5e72dacc83bb47d1fae99c4d1200bd12b96273f3
Last test of basis 71663 2017-07-07 08:18:30 Z 0 days
Testing same since 71670 2017-07-07 15:50:16 Z 0 days 1 attempts
------------------------------------------------------------
People who touched revisions under test:
Jiewen Yao <jiewen.yao@intel.com>
Supreeth Venkatesh <supreeth.venkatesh@arm.com>
jobs:
build-amd64-xsm pass
build-i386-xsm pass
build-amd64 pass
build-i386 pass
build-amd64-libvirt pass
build-i386-libvirt pass
build-amd64-pvops pass
build-i386-pvops pass
test-amd64-amd64-xl-qemuu-ovmf-amd64 pass
test-amd64-i386-xl-qemuu-ovmf-amd64 pass
------------------------------------------------------------
sg-report-flight on osstest.xs.citrite.net
logs: /home/osstest/logs
images: /home/osstest/images
Logs, config files, etc. are available at
http://osstest.xs.citrite.net/~osstest/testlogs/logs
Test harness code can be found at
http://xenbits.xensource.com/gitweb?p=osstest.git;a=summary
Push not applicable.
------------------------------------------------------------
commit 401d1343cb0279908a748fd0ff27609ccc300b43
Author: Supreeth Venkatesh <supreeth.venkatesh@arm.com>
Date: Tue Jun 27 00:47:46 2017 +0800
BaseTools/Eot: register MM Module types with FFS class.
This patch registers MM_STANDALONE and MM_CORE_STANDALONE with Ffs class.
Contributed-under: TianoCore Contribution Agreement 1.0
Signed-off-by: Jiewen Yao <jiewen.yao@intel.com>
Signed-off-by: Supreeth Venkatesh <supreeth.venkatesh@arm.com>
Reviewed-by: Liming Gao <liming.gao@intel.com>
commit aeb88bf3d130802e94387403e29d5cb2e288dc54
Author: Supreeth Venkatesh <supreeth.venkatesh@arm.com>
Date: Tue Jun 27 00:47:45 2017 +0800
BaseTools/Workspace: check MM module type compatibility with PI version.
This patch checks SUP_MODULE_MM_CORE_STANDALONE and
SUP_MODULE_MM_STANDALONE module compatibility with PI specification
version.
Contributed-under: TianoCore Contribution Agreement 1.0
Signed-off-by: Jiewen Yao <jiewen.yao@intel.com>
Signed-off-by: Supreeth Venkatesh <supreeth.venkatesh@arm.com>
Reviewed-by: Liming Gao <liming.gao@intel.com>
commit e574123c857cc8658598733b862b43f468da3a72
Author: Supreeth Venkatesh <supreeth.venkatesh@arm.com>
Date: Tue Jun 27 00:47:44 2017 +0800
BaseTools/build: register MM module types with build tools.
This patch registers MM_STANDALONE and MM_CORE_STANDALONE module type
with python build tools.
Contributed-under: TianoCore Contribution Agreement 1.0
Signed-off-by: Jiewen Yao <jiewen.yao@intel.com>
Signed-off-by: Supreeth Venkatesh <supreeth.venkatesh@arm.com>
Reviewed-by: Liming Gao <liming.gao@intel.com>
commit b19df640817fb7009968d569103eeb446ec0397b
Author: Supreeth Venkatesh <supreeth.venkatesh@arm.com>
Date: Tue Jun 27 00:47:43 2017 +0800
BaseTools/GenFds: register MM Modules and MM FV file types.
This patch verifies MM_CORE_STANDALONE module compatibility with PI
specification version.
Also, it registers MM_STANDALONE/MM_CORE_STANDALONE modules with
FdfParser class and provides mapping between MM_STANDALONE and
MM_CORE_STANDALONE module type in FDF with
EFI_FV_FILETYPE_MM_STANDALONE and EFI_FV_FILETYPE_MM_CORE_STANDALONE file types
in GenFfs.
Contributed-under: TianoCore Contribution Agreement 1.0
Signed-off-by: Jiewen Yao <jiewen.yao@intel.com>
Signed-off-by: Supreeth Venkatesh <supreeth.venkatesh@arm.com>
Reviewed-by: Liming Gao <liming.gao@intel.com>
commit 96f73940cb10914d02eade43761736bfa133c1bc
Author: Supreeth Venkatesh <supreeth.venkatesh@arm.com>
Date: Tue Jun 27 00:47:42 2017 +0800
BaseTools/CommonDataClass: register MM Modules.
This patch registers MM_STANDALONE and MM_CORE_STANDALONE module types
with CommonClass and PackageIncludePkgHeaderClass in CommonDataClass.
Contributed-under: TianoCore Contribution Agreement 1.0
Signed-off-by: Jiewen Yao <jiewen.yao@intel.com>
Signed-off-by: Supreeth Venkatesh <supreeth.venkatesh@arm.com>
Reviewed-by: Liming Gao <liming.gao@intel.com>
commit 15fb5ba81c343919457f63b529943c5a5f806518
Author: Supreeth Venkatesh <supreeth.venkatesh@arm.com>
Date: Tue Jun 27 00:47:41 2017 +0800
BaseTools/Common: add support in FDF Parser to parse MM Modules.
This patch adds support for FdfParser tool to parse MM_STANDALONE and
MM_CORE_STANDALONE modules.
Contributed-under: TianoCore Contribution Agreement 1.0
Signed-off-by: Jiewen Yao <jiewen.yao@intel.com>
Signed-off-by: Supreeth Venkatesh <supreeth.venkatesh@arm.com>
Reviewed-by: Liming Gao <liming.gao@intel.com>
commit 584e5cbb3350f988b60feaba0b4264872d228e51
Author: Supreeth Venkatesh <supreeth.venkatesh@arm.com>
Date: Tue Jun 27 00:47:40 2017 +0800
BaseTools/Common: add MM Module data types.
This patch adds SUP_MODULE_MM_STANDALONE and
SUP_MODULE_MM_CORE_STANDALONE data types and includes it in
SUP_MODULE_LIST.
Contributed-under: TianoCore Contribution Agreement 1.0
Signed-off-by: Jiewen Yao <jiewen.yao@intel.com>
Signed-off-by: Supreeth Venkatesh <supreeth.venkatesh@arm.com>
Reviewed-by: Liming Gao <liming.gao@intel.com>
commit 5a9c3e3e588007d3256877f4834a22bde68cae7b
Author: Supreeth Venkatesh <supreeth.venkatesh@arm.com>
Date: Tue Jun 27 00:47:39 2017 +0800
BaseTools/AutoGen: auto generate MM template APIs and dependencies.
This patch adds changes to auto generate MM_CORE_STANDALONE and
MM_STANDALONE Entry Point templates.
Also, it adds changes to help auto generate dependency expressions for
MM_STANDALONE modules.
PI Specification v1.5 specifies Management Mode System Table (MMST)
which is a collection of common services for managing
MMRAM allocation and providing basic I/O services. MMST is similar to
the UEFI System Table. (Currently, EFI_SMM_SYSTEM_TABLE2 defines
Management Mode System Table)
Some of auto generated MM_CORE_STANDALONE and MM_STANDALONE template
APIs use MMST as parameter.
Contributed-under: TianoCore Contribution Agreement 1.0
Signed-off-by: Jiewen Yao <jiewen.yao@intel.com>
Signed-off-by: Supreeth Venkatesh <supreeth.venkatesh@arm.com>
Reviewed-by: Liming Gao <liming.gao@intel.com>
commit 87d9a2b3160ee93c111b419c477ae85dfc3d18dd
Author: Supreeth Venkatesh <supreeth.venkatesh@arm.com>
Date: Tue Jun 27 00:47:38 2017 +0800
BaseTools/GenFw: recognize MM file types as EFI Boot Service Drivers.
PI v1.5 Specification Volume 4 defines Management Mode Core Interface.
In order to support Management Mode Core Interface, Module Types
MM_STANDALONE, MM_CORE_STANDALONE are needed.
This patch ensures that MM_STANDALONE, MM_CORE_STANDALONE Modules are
treated as EFI Boot Service Driver in GenFw tool.
Contributed-under: TianoCore Contribution Agreement 1.0
Signed-off-by: Jiewen Yao <jiewen.yao@intel.com>
Signed-off-by: Supreeth Venkatesh <supreeth.venkatesh@arm.com>
Reviewed-by: Liming Gao <liming.gao@intel.com>
commit 116f23e8b22001249212f1ed945920994584c220
Author: Supreeth Venkatesh <supreeth.venkatesh@arm.com>
Date: Tue Jun 27 00:47:37 2017 +0800
BaseTools/GenFfs: add FFS file types for MM modules.
PI specification v1.5 defines new firmware volume file types
for Management Mode (MM).
This patch adds the new file type EFI_FV_FILETYPE_MM_STANDALONE and
EFI_FV_FILETYPE_MM_CORE_STANDALONE in GenFfs tool.
Contributed-under: TianoCore Contribution Agreement 1.0
Signed-off-by: Jiewen Yao <jiewen.yao@intel.com>
Signed-off-by: Supreeth Venkatesh <supreeth.venkatesh@arm.com>
Reviewed-by: Liming Gao <liming.gao@intel.com>
_______________________________________________
Xen-devel mailing list
Xen-devel@lists.xen.org
https://lists.xen.org/xen-devel
^ permalink raw reply [flat|nested] only message in thread
only message in thread, other threads:[~2017-07-08 7:44 UTC | newest]
Thread overview: (only message) (download: mbox.gz follow: Atom feed
-- links below jump to the message on this page --
2017-07-08 7:44 [ovmf baseline-only test] 71670: all pass Platform Team regression test user
This is a public inbox, see mirroring instructions
for how to clone and mirror all data and code used for this inbox;
as well as URLs for NNTP newsgroup(s).