xen-devel.lists.xenproject.org archive mirror
 help / color / mirror / Atom feed
* [ovmf baseline-only test] 71674: all pass
@ 2017-07-08 13:31 Platform Team regression test user
  0 siblings, 0 replies; only message in thread
From: Platform Team regression test user @ 2017-07-08 13:31 UTC (permalink / raw)
  To: xen-devel, osstest-admin

This run is configured for baseline tests only.

flight 71674 ovmf real [real]
http://osstest.xs.citrite.net/~osstest/testlogs/logs/71674/

Perfect :-)
All tests in this flight passed as required
version targeted for testing:
 ovmf                 e9651c12721d882f384ef10b7467af4ba56387c3
baseline version:
 ovmf                 401d1343cb0279908a748fd0ff27609ccc300b43

Last test of basis    71670  2017-07-07 15:50:16 Z    0 days
Testing same since    71674  2017-07-08 07:48:55 Z    0 days    1 attempts

------------------------------------------------------------
People who touched revisions under test:
  Jordan Justen <jordan.l.justen@intel.com>

jobs:
 build-amd64-xsm                                              pass    
 build-i386-xsm                                               pass    
 build-amd64                                                  pass    
 build-i386                                                   pass    
 build-amd64-libvirt                                          pass    
 build-i386-libvirt                                           pass    
 build-amd64-pvops                                            pass    
 build-i386-pvops                                             pass    
 test-amd64-amd64-xl-qemuu-ovmf-amd64                         pass    
 test-amd64-i386-xl-qemuu-ovmf-amd64                          pass    


------------------------------------------------------------
sg-report-flight on osstest.xs.citrite.net
logs: /home/osstest/logs
images: /home/osstest/images

Logs, config files, etc. are available at
    http://osstest.xs.citrite.net/~osstest/testlogs/logs

Test harness code can be found at
    http://xenbits.xensource.com/gitweb?p=osstest.git;a=summary


Push not applicable.

------------------------------------------------------------
commit e9651c12721d882f384ef10b7467af4ba56387c3
Author: Jordan Justen <jordan.l.justen@intel.com>
Date:   Thu Jun 1 16:39:37 2017 -0700

    EmulatorPkg/Unix/Host: Add GCC5 CC/DLINK commands (for GCC >= 5)
    
    These flags are based on the flags from the GCC5 toolchain in
    tools_def.template. Since the GCC5 toolchain uses link-time
    optimizations (LTO), we must compile and link the 'Host' files with
    LTO enabled so we can link to other modules.
    
    Contributed-under: TianoCore Contribution Agreement 1.0
    Signed-off-by: Jordan Justen <jordan.l.justen@intel.com>
    Cc: Laszlo Ersek <lersek@redhat.com>
    Cc: Ard Biesheuvel <ard.biesheuvel@linaro.org>
    Reviewed-by: Laszlo Ersek <lersek@redhat.com>

_______________________________________________
Xen-devel mailing list
Xen-devel@lists.xen.org
https://lists.xen.org/xen-devel

^ permalink raw reply	[flat|nested] only message in thread

only message in thread, other threads:[~2017-07-08 13:31 UTC | newest]

Thread overview: (only message) (download: mbox.gz follow: Atom feed
-- links below jump to the message on this page --
2017-07-08 13:31 [ovmf baseline-only test] 71674: all pass Platform Team regression test user

This is a public inbox, see mirroring instructions
for how to clone and mirror all data and code used for this inbox;
as well as URLs for NNTP newsgroup(s).