* [ovmf baseline-only test] 71676: all pass
@ 2017-07-10 8:38 Platform Team regression test user
0 siblings, 0 replies; only message in thread
From: Platform Team regression test user @ 2017-07-10 8:38 UTC (permalink / raw)
To: xen-devel, osstest-admin
This run is configured for baseline tests only.
flight 71676 ovmf real [real]
http://osstest.xs.citrite.net/~osstest/testlogs/logs/71676/
Perfect :-)
All tests in this flight passed as required
version targeted for testing:
ovmf c82fc2b555285306904c9c1ed6524a85bee8841a
baseline version:
ovmf e9651c12721d882f384ef10b7467af4ba56387c3
Last test of basis 71674 2017-07-08 07:48:55 Z 2 days
Testing same since 71676 2017-07-10 06:24:48 Z 0 days 1 attempts
------------------------------------------------------------
People who touched revisions under test:
Yunhua Feng <yunhuax.feng@intel.com>
jobs:
build-amd64-xsm pass
build-i386-xsm pass
build-amd64 pass
build-i386 pass
build-amd64-libvirt pass
build-i386-libvirt pass
build-amd64-pvops pass
build-i386-pvops pass
test-amd64-amd64-xl-qemuu-ovmf-amd64 pass
test-amd64-i386-xl-qemuu-ovmf-amd64 pass
------------------------------------------------------------
sg-report-flight on osstest.xs.citrite.net
logs: /home/osstest/logs
images: /home/osstest/images
Logs, config files, etc. are available at
http://osstest.xs.citrite.net/~osstest/testlogs/logs
Test harness code can be found at
http://xenbits.xensource.com/gitweb?p=osstest.git;a=summary
Push not applicable.
------------------------------------------------------------
commit c82fc2b555285306904c9c1ed6524a85bee8841a
Author: Yunhua Feng <yunhuax.feng@intel.com>
Date: Tue Jul 4 11:27:35 2017 +0800
BaseTools: Report Fd File Path in build log
At the end of build, Report Fd image path in build log
Cc: Liming Gao <liming.gao@intel.com>
Cc: Yonghong Zhu <yonghong.zhu@intel.com>
Contributed-under: TianoCore Contribution Agreement 1.0
Signed-off-by: Yunhua Feng <yunhuax.feng@intel.com>
Reviewed-by: Yonghong Zhu <yonghong.zhu@intel.com>
commit 47a29bc7072b20d465ccfd634b74121a67368c4f
Author: Yunhua Feng <yunhuax.feng@intel.com>
Date: Wed Jun 28 18:29:18 2017 +0800
BaseTools: Fix FDF file parse !include file issue
when FDF file use "!include" format to include the other file,
and the end line of the file not end with '\n', the include
file parse error.
Cc: Liming Gao <liming.gao@intel.com>
Cc: Yonghong Zhu <yonghong.zhu@intel.com>
Contributed-under: TianoCore Contribution Agreement 1.0
Signed-off-by: Yunhua Feng <yunhuax.feng@intel.com>
Reviewed-by: Yonghong Zhu <yonghong.zhu@intel.com>
commit bc0d7233925e82ddb8423532b2b90a3ad1ef1e49
Author: Yunhua Feng <yunhuax.feng@intel.com>
Date: Wed May 31 13:33:49 2017 +0800
BaseTools: Add PCDs conditional operator function
Parse PCDS value like A >B ? C :D
if A > B is True, the result is C, else the result is D
Cc: Liming Gao <liming.gao@intel.com>
Cc: Yonghong Zhu <yonghong.zhu@intel.com>
Contributed-under: TianoCore Contribution Agreement 1.0
Signed-off-by: Yunhua Feng <yunhuax.feng@intel.com>
Reviewed-by: Yonghong Zhu <yonghong.zhu@intel.com>
_______________________________________________
Xen-devel mailing list
Xen-devel@lists.xen.org
https://lists.xen.org/xen-devel
^ permalink raw reply [flat|nested] only message in thread
only message in thread, other threads:[~2017-07-10 8:38 UTC | newest]
Thread overview: (only message) (download: mbox.gz follow: Atom feed
-- links below jump to the message on this page --
2017-07-10 8:38 [ovmf baseline-only test] 71676: all pass Platform Team regression test user
This is a public inbox, see mirroring instructions
for how to clone and mirror all data and code used for this inbox;
as well as URLs for NNTP newsgroup(s).