xen-devel.lists.xenproject.org archive mirror
 help / color / mirror / Atom feed
* [ovmf baseline-only test] 71678: all pass
@ 2017-07-11  9:20 Platform Team regression test user
  0 siblings, 0 replies; only message in thread
From: Platform Team regression test user @ 2017-07-11  9:20 UTC (permalink / raw)
  To: xen-devel, osstest-admin

This run is configured for baseline tests only.

flight 71678 ovmf real [real]
http://osstest.xs.citrite.net/~osstest/testlogs/logs/71678/

Perfect :-)
All tests in this flight passed as required
version targeted for testing:
 ovmf                 3a3d62d2e66d7bec1b97f51c26eac5326e30ad94
baseline version:
 ovmf                 c82fc2b555285306904c9c1ed6524a85bee8841a

Last test of basis    71676  2017-07-10 06:24:48 Z    1 days
Testing same since    71678  2017-07-11 06:23:46 Z    0 days    1 attempts

------------------------------------------------------------
People who touched revisions under test:
  Bret Barkelew <brbarkel@microsoft.com>
  Hao Wu <hao.a.wu@intel.com>

jobs:
 build-amd64-xsm                                              pass    
 build-i386-xsm                                               pass    
 build-amd64                                                  pass    
 build-i386                                                   pass    
 build-amd64-libvirt                                          pass    
 build-i386-libvirt                                           pass    
 build-amd64-pvops                                            pass    
 build-i386-pvops                                             pass    
 test-amd64-amd64-xl-qemuu-ovmf-amd64                         pass    
 test-amd64-i386-xl-qemuu-ovmf-amd64                          pass    


------------------------------------------------------------
sg-report-flight on osstest.xs.citrite.net
logs: /home/osstest/logs
images: /home/osstest/images

Logs, config files, etc. are available at
    http://osstest.xs.citrite.net/~osstest/testlogs/logs

Test harness code can be found at
    http://xenbits.xensource.com/gitweb?p=osstest.git;a=summary


Push not applicable.

------------------------------------------------------------
commit 3a3d62d2e66d7bec1b97f51c26eac5326e30ad94
Author: Hao Wu <hao.a.wu@intel.com>
Date:   Tue Jun 20 10:51:53 2017 +0800

    MdeModulePkg/PartitionDxe: Add impl of Partition Information Protocol
    
    Contributed-under: TianoCore Contribution Agreement 1.0
    Signed-off-by: Bret Barkelew <brbarkel@microsoft.com>
    Signed-off-by: Hao Wu <hao.a.wu@intel.com>
    Reviewed-by: Ruiyu Ni <ruiyu.ni@intel.com>

commit bce72b5837a58348295b34b562a55499371ba8de
Author: Hao Wu <hao.a.wu@intel.com>
Date:   Mon Jun 19 16:23:33 2017 +0800

    MdePkg: Add EFI Partition Information Protocol definitions
    
    Contributed-under: TianoCore Contribution Agreement 1.0
    Signed-off-by: Hao Wu <hao.a.wu@intel.com>
    Reviewed-by: Ruiyu Ni <ruiyu.ni@intel.com>

_______________________________________________
Xen-devel mailing list
Xen-devel@lists.xen.org
https://lists.xen.org/xen-devel

^ permalink raw reply	[flat|nested] only message in thread

only message in thread, other threads:[~2017-07-11  9:20 UTC | newest]

Thread overview: (only message) (download: mbox.gz follow: Atom feed
-- links below jump to the message on this page --
2017-07-11  9:20 [ovmf baseline-only test] 71678: all pass Platform Team regression test user

This is a public inbox, see mirroring instructions
for how to clone and mirror all data and code used for this inbox;
as well as URLs for NNTP newsgroup(s).