xen-devel.lists.xenproject.org archive mirror
 help / color / mirror / Atom feed
* [ovmf baseline-only test] 71682: all pass
@ 2017-07-12  5:02 Platform Team regression test user
  0 siblings, 0 replies; only message in thread
From: Platform Team regression test user @ 2017-07-12  5:02 UTC (permalink / raw)
  To: xen-devel, osstest-admin

This run is configured for baseline tests only.

flight 71682 ovmf real [real]
http://osstest.xs.citrite.net/~osstest/testlogs/logs/71682/

Perfect :-)
All tests in this flight passed as required
version targeted for testing:
 ovmf                 e508e069a809ba895230ef6ea5c8d43c471d0de4
baseline version:
 ovmf                 9750503a116be3c246b249b1e7d7d9c51aae2a03

Last test of basis    71680  2017-07-11 12:19:35 Z    0 days
Testing same since    71682  2017-07-12 03:20:15 Z    0 days    1 attempts

------------------------------------------------------------
People who touched revisions under test:
  Brijesh Singh <brijesh.singh@amd.com>
  Jordan Justen <jordan.l.justen@intel.com>
  Laszlo Ersek <lersek@redhat.com>
  Liming Gao <liming.gao@intel.com>

jobs:
 build-amd64-xsm                                              pass    
 build-i386-xsm                                               pass    
 build-amd64                                                  pass    
 build-i386                                                   pass    
 build-amd64-libvirt                                          pass    
 build-i386-libvirt                                           pass    
 build-amd64-pvops                                            pass    
 build-i386-pvops                                             pass    
 test-amd64-amd64-xl-qemuu-ovmf-amd64                         pass    
 test-amd64-i386-xl-qemuu-ovmf-amd64                          pass    


------------------------------------------------------------
sg-report-flight on osstest.xs.citrite.net
logs: /home/osstest/logs
images: /home/osstest/images

Logs, config files, etc. are available at
    http://osstest.xs.citrite.net/~osstest/testlogs/logs

Test harness code can be found at
    http://xenbits.xensource.com/gitweb?p=osstest.git;a=summary


Push not applicable.

(No revision log; it would be 391 lines long.)

_______________________________________________
Xen-devel mailing list
Xen-devel@lists.xen.org
https://lists.xen.org/xen-devel

^ permalink raw reply	[flat|nested] only message in thread

only message in thread, other threads:[~2017-07-12  5:02 UTC | newest]

Thread overview: (only message) (download: mbox.gz follow: Atom feed
-- links below jump to the message on this page --
2017-07-12  5:02 [ovmf baseline-only test] 71682: all pass Platform Team regression test user

This is a public inbox, see mirroring instructions
for how to clone and mirror all data and code used for this inbox;
as well as URLs for NNTP newsgroup(s).