xen-devel.lists.xenproject.org archive mirror
 help / color / mirror / Atom feed
From: Platform Team regression test user <citrix-osstest@xenproject.org>
To: xen-devel@lists.xensource.com, osstest-admin@xenproject.org
Subject: [ovmf baseline-only test] 71729: all pass
Date: Sat, 22 Jul 2017 07:11:23 +0100	[thread overview]
Message-ID: <osstest-71729-mainreport@xen.org> (raw)

[-- Attachment #1: Type: text/plain, Size: 2899 bytes --]

This run is configured for baseline tests only.

flight 71729 ovmf real [real]
http://osstest.xs.citrite.net/~osstest/testlogs/logs/71729/

Perfect :-)
All tests in this flight passed as required
version targeted for testing:
 ovmf                 1683ecec41a7c944783c51efa75375f1e0a71d08
baseline version:
 ovmf                 79aac4dd756bb2809cdcb74f7d2ae8a630457c99

Last test of basis    71705  2017-07-20 08:18:01 Z    1 days
Testing same since    71729  2017-07-21 16:59:51 Z    0 days    1 attempts

------------------------------------------------------------
People who touched revisions under test:
  Star Zeng <star.zeng@intel.com>

jobs:
 build-amd64-xsm                                              pass    
 build-i386-xsm                                               pass    
 build-amd64                                                  pass    
 build-i386                                                   pass    
 build-amd64-libvirt                                          pass    
 build-i386-libvirt                                           pass    
 build-amd64-pvops                                            pass    
 build-i386-pvops                                             pass    
 test-amd64-amd64-xl-qemuu-ovmf-amd64                         pass    
 test-amd64-i386-xl-qemuu-ovmf-amd64                          pass    


------------------------------------------------------------
sg-report-flight on osstest.xs.citrite.net
logs: /home/osstest/logs
images: /home/osstest/images

Logs, config files, etc. are available at
    http://osstest.xs.citrite.net/~osstest/testlogs/logs

Test harness code can be found at
    http://xenbits.xensource.com/gitweb?p=osstest.git;a=summary


Push not applicable.

------------------------------------------------------------
commit 1683ecec41a7c944783c51efa75375f1e0a71d08
Author: Star Zeng <star.zeng@intel.com>
Date:   Wed Jul 19 18:16:31 2017 +0800

    MdePkg UsbFunctionIo.h: Update comments for GetDeviceInfo return status
    
    UEFI spec 2.6 errata B update Status Codes Returned table of the
    EFI_USBFN_IO_PROTOCOL.GetDeviceInfo function as follows:
    
    1. Update EFI_INVALID_PARAMETER description:
    Original text:
    A parameter is invalid.
    New text:
    One or more of the following conditions is TRUE:
    BufferSize is NULL.
    *BufferSize is not 0 and Buffer is NULL.
    Id in invalid.
    
    2. Update EFI_BUFFER_TOO_SMALL description:
    Original text:
    Supplied buffer isn’t large enough to hold the request string.
    New text:
    The buffer is too small to hold the buffer.
    *BufferSize has been updated with the size needed to hold the
    request string.
    
    Cc: Liming Gao <liming.gao@intel.com>
    Contributed-under: TianoCore Contribution Agreement 1.0
    Signed-off-by: Star Zeng <star.zeng@intel.com>
    Reviewed-by: Liming Gao <liming.gao@intel.com>


[-- Attachment #2: Type: text/plain, Size: 127 bytes --]

_______________________________________________
Xen-devel mailing list
Xen-devel@lists.xen.org
https://lists.xen.org/xen-devel

                 reply	other threads:[~2017-07-22  6:11 UTC|newest]

Thread overview: [no followups] expand[flat|nested]  mbox.gz  Atom feed

Reply instructions:

You may reply publicly to this message via plain-text email
using any one of the following methods:

* Save the following mbox file, import it into your mail client,
  and reply-to-all from there: mbox

  Avoid top-posting and favor interleaved quoting:
  https://en.wikipedia.org/wiki/Posting_style#Interleaved_style

* Reply using the --to, --cc, and --in-reply-to
  switches of git-send-email(1):

  git send-email \
    --in-reply-to=osstest-71729-mainreport@xen.org \
    --to=citrix-osstest@xenproject.org \
    --cc=osstest-admin@xenproject.org \
    --cc=xen-devel@lists.xensource.com \
    /path/to/YOUR_REPLY

  https://kernel.org/pub/software/scm/git/docs/git-send-email.html

* If your mail client supports setting the In-Reply-To header
  via mailto: links, try the mailto: link
Be sure your reply has a Subject: header at the top and a blank line before the message body.
This is a public inbox, see mirroring instructions
for how to clone and mirror all data and code used for this inbox;
as well as URLs for NNTP newsgroup(s).