From mboxrd@z Thu Jan 1 00:00:00 1970 From: Platform Team regression test user Subject: [linux-3.18 baseline-only test] 71731: trouble: blocked/broken Date: Sat, 22 Jul 2017 20:18:33 +0100 Message-ID: Mime-Version: 1.0 Content-Type: multipart/mixed; boundary="===============3613959621636337053==" Return-path: List-Unsubscribe: , List-Post: List-Help: List-Subscribe: , Errors-To: xen-devel-bounces@lists.xen.org Sender: "Xen-devel" To: xen-devel@lists.xensource.com, osstest-admin@xenproject.org List-Id: xen-devel@lists.xenproject.org --===============3613959621636337053== Content-Type: text/plain This run is configured for baseline tests only. flight 71731 linux-3.18 real [real] http://osstest.xs.citrite.net/~osstest/testlogs/logs/71731/ Failures and problems with tests :-( Tests which did not succeed and are blocking, including tests which could not be run: build-armhf-pvops 4 host-install(4) broken REGR. vs. 71696 build-armhf 4 host-install(4) broken REGR. vs. 71696 build-armhf-xsm 4 host-install(4) broken REGR. vs. 71696 build-amd64-pvops 4 host-install(4) broken REGR. vs. 71696 build-amd64 4 host-install(4) broken REGR. vs. 71696 build-i386 4 host-install(4) broken REGR. vs. 71696 build-amd64-xsm 4 host-install(4) broken REGR. vs. 71696 build-i386-pvops 4 host-install(4) broken REGR. vs. 71696 build-i386-xsm 4 host-install(4) broken REGR. vs. 71696 Tests which did not succeed, but are not blocking: test-amd64-amd64-xl-qemuu-debianhvm-amd64 1 build-check(1) blocked n/a test-amd64-i386-freebsd10-i386 1 build-check(1) blocked n/a test-amd64-amd64-qemuu-nested-intel 1 build-check(1) blocked n/a test-amd64-i386-libvirt-qemuu-debianhvm-amd64-xsm 1 build-check(1) blocked n/a test-armhf-armhf-xl-midway 1 build-check(1) blocked n/a test-armhf-armhf-libvirt 1 build-check(1) blocked n/a test-amd64-i386-xl-qemuu-debianhvm-amd64-xsm 1 build-check(1) blocked n/a test-amd64-i386-xl-qemut-debianhvm-amd64-xsm 1 build-check(1) blocked n/a build-arm64-libvirt 1 build-check(1) blocked n/a test-amd64-i386-xl-qemut-win10-i386 1 build-check(1) blocked n/a test-amd64-amd64-xl-qemut-stubdom-debianhvm-amd64-xsm 1 build-check(1) blocked n/a test-amd64-i386-xl-qemuu-win10-i386 1 build-check(1) blocked n/a test-armhf-armhf-libvirt-raw 1 build-check(1) blocked n/a test-arm64-arm64-examine 1 build-check(1) blocked n/a test-amd64-i386-libvirt-xsm 1 build-check(1) blocked n/a test-amd64-amd64-xl-multivcpu 1 build-check(1) blocked n/a test-amd64-i386-examine 1 build-check(1) blocked n/a test-amd64-amd64-libvirt 1 build-check(1) blocked n/a test-amd64-i386-xl-qemut-ws16-amd64 1 build-check(1) blocked n/a test-amd64-amd64-xl-pvh-amd 1 build-check(1) blocked n/a test-amd64-amd64-xl-qemut-win10-i386 1 build-check(1) blocked n/a test-amd64-i386-xl-qemut-debianhvm-amd64 1 build-check(1) blocked n/a test-amd64-i386-qemut-rhel6hvm-intel 1 build-check(1) blocked n/a test-amd64-i386-freebsd10-amd64 1 build-check(1) blocked n/a test-amd64-amd64-pair 1 build-check(1) blocked n/a test-armhf-armhf-xl-credit2 1 build-check(1) blocked n/a build-i386-rumprun 1 build-check(1) blocked n/a test-amd64-amd64-xl-qemuu-win10-i386 1 build-check(1) blocked n/a test-amd64-amd64-xl-qemuu-win7-amd64 1 build-check(1) blocked n/a test-amd64-amd64-libvirt-qemuu-debianhvm-amd64-xsm 1 build-check(1) blocked n/a test-amd64-amd64-pygrub 1 build-check(1) blocked n/a test-amd64-i386-xl-qemuu-ws16-amd64 1 build-check(1) blocked n/a test-amd64-amd64-xl-qcow2 1 build-check(1) blocked n/a test-amd64-amd64-amd64-pvgrub 1 build-check(1) blocked n/a test-amd64-amd64-xl-qemut-win7-amd64 1 build-check(1) blocked n/a test-amd64-i386-xl-qemuu-debianhvm-amd64 1 build-check(1) blocked n/a test-armhf-armhf-libvirt-xsm 1 build-check(1) blocked n/a build-amd64-rumprun 1 build-check(1) blocked n/a build-i386-libvirt 1 build-check(1) blocked n/a test-amd64-i386-xl 1 build-check(1) blocked n/a test-amd64-i386-libvirt-pair 1 build-check(1) blocked n/a test-amd64-amd64-xl-qemuu-ovmf-amd64 1 build-check(1) blocked n/a test-amd64-amd64-libvirt-vhd 1 build-check(1) blocked n/a test-arm64-arm64-libvirt-xsm 1 build-check(1) blocked n/a test-amd64-amd64-xl-credit2 1 build-check(1) blocked n/a test-armhf-armhf-xl-multivcpu 1 build-check(1) blocked n/a test-amd64-i386-xl-xsm 1 build-check(1) blocked n/a build-amd64-libvirt 1 build-check(1) blocked n/a test-amd64-amd64-xl-qemuu-debianhvm-amd64-xsm 1 build-check(1) blocked n/a test-amd64-amd64-rumprun-amd64 1 build-check(1) blocked n/a test-amd64-amd64-xl-pvh-intel 1 build-check(1) blocked n/a test-amd64-i386-xl-qemuu-ovmf-amd64 1 build-check(1) blocked n/a test-amd64-i386-xl-raw 1 build-check(1) blocked n/a test-amd64-amd64-i386-pvgrub 1 build-check(1) blocked n/a test-amd64-i386-qemuu-rhel6hvm-amd 1 build-check(1) blocked n/a test-amd64-amd64-xl-qemut-ws16-amd64 1 build-check(1) blocked n/a test-arm64-arm64-xl 1 build-check(1) blocked n/a build-armhf-libvirt 1 build-check(1) blocked n/a test-amd64-amd64-xl-qemuu-ws16-amd64 1 build-check(1) blocked n/a test-amd64-amd64-libvirt-pair 1 build-check(1) blocked n/a test-amd64-i386-libvirt 1 build-check(1) blocked n/a test-armhf-armhf-examine 1 build-check(1) blocked n/a test-armhf-armhf-xl 1 build-check(1) blocked n/a test-amd64-amd64-libvirt-xsm 1 build-check(1) blocked n/a test-amd64-amd64-xl-xsm 1 build-check(1) blocked n/a test-amd64-i386-qemuu-rhel6hvm-intel 1 build-check(1) blocked n/a test-armhf-armhf-xl-vhd 1 build-check(1) blocked n/a test-amd64-i386-xl-qemuu-win7-amd64 1 build-check(1) blocked n/a test-amd64-amd64-xl 1 build-check(1) blocked n/a test-arm64-arm64-xl-credit2 1 build-check(1) blocked n/a test-amd64-i386-pair 1 build-check(1) blocked n/a test-amd64-i386-rumprun-i386 1 build-check(1) blocked n/a test-amd64-amd64-qemuu-nested-amd 1 build-check(1) blocked n/a test-amd64-i386-xl-qemut-stubdom-debianhvm-amd64-xsm 1 build-check(1) blocked n/a test-amd64-i386-xl-qemut-win7-amd64 1 build-check(1) blocked n/a test-amd64-i386-qemut-rhel6hvm-amd 1 build-check(1) blocked n/a test-amd64-amd64-examine 1 build-check(1) blocked n/a test-armhf-armhf-xl-rtds 1 build-check(1) blocked n/a test-amd64-amd64-xl-qemut-debianhvm-amd64-xsm 1 build-check(1) blocked n/a test-amd64-amd64-xl-qemut-debianhvm-amd64 1 build-check(1) blocked n/a test-armhf-armhf-xl-xsm 1 build-check(1) blocked n/a test-amd64-amd64-xl-rtds 1 build-check(1) blocked n/a test-arm64-arm64-xl-xsm 1 build-check(1) blocked n/a build-arm64-pvops 2 hosts-allocate broken never pass build-arm64-xsm 2 hosts-allocate broken never pass build-arm64 2 hosts-allocate broken never pass build-arm64-xsm 3 capture-logs broken never pass build-arm64-pvops 3 capture-logs broken never pass build-arm64 3 capture-logs broken never pass version targeted for testing: linux dd8b674caeef9381345a6369fba29d425ff433f3 baseline version: linux 4d29e8c0e9319ce9d391c57d3133306c05b6cef5 Last test of basis 71696 2017-07-17 20:22:21 Z 4 days Testing same since 71731 2017-07-22 14:18:14 Z 0 days 1 attempts ------------------------------------------------------------ People who touched revisions under test: Adam Borowski Amit Pundir Andrew Morton Andrey Konovalov Arend van Spriel Ben Hutchings Cong Wang Cyril Bur Dan Carpenter David Ahern David S. Miller Eric Biggers Eric Dumazet Gilad Ben-Yossef Greg Kroah-Hartman Helge Deller Herbert Xu Horia Geantă Ingo Molnar Joe Perches Johannes Berg Jouni Malinen Kees Cook Lauro Ramos Venancio Linus Torvalds Marc Zyngier Marcin Nowakowski Martin Hicks Pavankumar Kondeti Pavel Machek Peter Zijlstra (Intel) Peter Zijlstra Rafael J. Wysocki Sabrina Dubroca Sahitya Tummala Sasha Levin Srinivas Dasari Steven Rostedt Suzuki K Poulose Thomas Bogendoerfer Vladimir Davydov WANG Cong jobs: build-amd64-xsm broken build-arm64-xsm broken build-armhf-xsm broken build-i386-xsm broken build-amd64 broken build-arm64 broken build-armhf broken build-i386 broken build-amd64-libvirt blocked build-arm64-libvirt blocked build-armhf-libvirt blocked build-i386-libvirt blocked build-amd64-pvops broken build-arm64-pvops broken build-armhf-pvops broken build-i386-pvops broken build-amd64-rumprun blocked build-i386-rumprun blocked test-amd64-amd64-xl blocked test-arm64-arm64-xl blocked test-armhf-armhf-xl blocked test-amd64-i386-xl blocked test-amd64-amd64-xl-qemut-debianhvm-amd64-xsm blocked test-amd64-i386-xl-qemut-debianhvm-amd64-xsm blocked test-amd64-amd64-libvirt-qemuu-debianhvm-amd64-xsm blocked test-amd64-i386-libvirt-qemuu-debianhvm-amd64-xsm blocked test-amd64-amd64-xl-qemuu-debianhvm-amd64-xsm blocked test-amd64-i386-xl-qemuu-debianhvm-amd64-xsm blocked test-amd64-amd64-xl-qemut-stubdom-debianhvm-amd64-xsm blocked test-amd64-i386-xl-qemut-stubdom-debianhvm-amd64-xsm blocked test-amd64-amd64-libvirt-xsm blocked test-arm64-arm64-libvirt-xsm blocked test-armhf-armhf-libvirt-xsm blocked test-amd64-i386-libvirt-xsm blocked test-amd64-amd64-xl-xsm blocked test-arm64-arm64-xl-xsm blocked test-armhf-armhf-xl-xsm blocked test-amd64-i386-xl-xsm blocked test-amd64-amd64-qemuu-nested-amd blocked test-amd64-amd64-xl-pvh-amd blocked test-amd64-i386-qemut-rhel6hvm-amd blocked test-amd64-i386-qemuu-rhel6hvm-amd blocked test-amd64-amd64-xl-qemut-debianhvm-amd64 blocked test-amd64-i386-xl-qemut-debianhvm-amd64 blocked test-amd64-amd64-xl-qemuu-debianhvm-amd64 blocked test-amd64-i386-xl-qemuu-debianhvm-amd64 blocked test-amd64-i386-freebsd10-amd64 blocked test-amd64-amd64-xl-qemuu-ovmf-amd64 blocked test-amd64-i386-xl-qemuu-ovmf-amd64 blocked test-amd64-amd64-rumprun-amd64 blocked test-amd64-amd64-xl-qemut-win7-amd64 blocked test-amd64-i386-xl-qemut-win7-amd64 blocked test-amd64-amd64-xl-qemuu-win7-amd64 blocked test-amd64-i386-xl-qemuu-win7-amd64 blocked test-amd64-amd64-xl-qemut-ws16-amd64 blocked test-amd64-i386-xl-qemut-ws16-amd64 blocked test-amd64-amd64-xl-qemuu-ws16-amd64 blocked test-amd64-i386-xl-qemuu-ws16-amd64 blocked test-amd64-amd64-xl-credit2 blocked test-arm64-arm64-xl-credit2 blocked test-armhf-armhf-xl-credit2 blocked test-amd64-amd64-examine blocked test-arm64-arm64-examine blocked test-armhf-armhf-examine blocked test-amd64-i386-examine blocked test-amd64-i386-freebsd10-i386 blocked test-amd64-i386-rumprun-i386 blocked test-amd64-amd64-xl-qemut-win10-i386 blocked test-amd64-i386-xl-qemut-win10-i386 blocked test-amd64-amd64-xl-qemuu-win10-i386 blocked test-amd64-i386-xl-qemuu-win10-i386 blocked test-amd64-amd64-qemuu-nested-intel blocked test-amd64-amd64-xl-pvh-intel blocked test-amd64-i386-qemut-rhel6hvm-intel blocked test-amd64-i386-qemuu-rhel6hvm-intel blocked test-amd64-amd64-libvirt blocked test-armhf-armhf-libvirt blocked test-amd64-i386-libvirt blocked test-armhf-armhf-xl-midway blocked test-amd64-amd64-xl-multivcpu blocked test-armhf-armhf-xl-multivcpu blocked test-amd64-amd64-pair blocked test-amd64-i386-pair blocked test-amd64-amd64-libvirt-pair blocked test-amd64-i386-libvirt-pair blocked test-amd64-amd64-amd64-pvgrub blocked test-amd64-amd64-i386-pvgrub blocked test-amd64-amd64-pygrub blocked test-amd64-amd64-xl-qcow2 blocked test-armhf-armhf-libvirt-raw blocked test-amd64-i386-xl-raw blocked test-amd64-amd64-xl-rtds blocked test-armhf-armhf-xl-rtds blocked test-amd64-amd64-libvirt-vhd blocked test-armhf-armhf-xl-vhd blocked ------------------------------------------------------------ sg-report-flight on osstest.xs.citrite.net logs: /home/osstest/logs images: /home/osstest/images Logs, config files, etc. are available at http://osstest.xs.citrite.net/~osstest/testlogs/logs Test harness code can be found at http://xenbits.xensource.com/gitweb?p=osstest.git;a=summary broken-step build-arm64-pvops hosts-allocate broken-step build-arm64-xsm hosts-allocate broken-step build-arm64 hosts-allocate broken-step build-arm64-xsm capture-logs broken-step build-arm64-pvops capture-logs broken-step build-arm64 capture-logs broken-step build-armhf-pvops host-install(4) broken-step build-armhf host-install(4) broken-step build-armhf-xsm host-install(4) broken-step build-amd64-pvops host-install(4) broken-step build-amd64 host-install(4) broken-step build-i386 host-install(4) broken-step build-amd64-xsm host-install(4) broken-step build-i386-pvops host-install(4) broken-step build-i386-xsm host-install(4) Push not applicable. (No revision log; it would be 816 lines long.) --===============3613959621636337053== Content-Type: text/plain; charset="utf-8" MIME-Version: 1.0 Content-Transfer-Encoding: base64 Content-Disposition: inline X19fX19fX19fX19fX19fX19fX19fX19fX19fX19fX19fX19fX19fX19fX19fX18KWGVuLWRldmVs IG1haWxpbmcgbGlzdApYZW4tZGV2ZWxAbGlzdHMueGVuLm9yZwpodHRwczovL2xpc3RzLnhlbi5v cmcveGVuLWRldmVsCg== --===============3613959621636337053==--