xen-devel.lists.xenproject.org archive mirror
 help / color / mirror / Atom feed
* [ovmf baseline-only test] 71950: all pass
@ 2017-08-08 10:42 Platform Team regression test user
  0 siblings, 0 replies; only message in thread
From: Platform Team regression test user @ 2017-08-08 10:42 UTC (permalink / raw)
  To: xen-devel, osstest-admin

This run is configured for baseline tests only.

flight 71950 ovmf real [real]
http://osstest.xs.citrite.net/~osstest/testlogs/logs/71950/

Perfect :-)
All tests in this flight passed as required
version targeted for testing:
 ovmf                 6e414300b5f19d3045a0d21ad90ac2fe965478a5
baseline version:
 ovmf                 8853c2afc51c2cab862acbef308f2588264e188b

Last test of basis    71947  2017-08-07 17:47:20 Z    0 days
Testing same since    71950  2017-08-08 08:17:55 Z    0 days    1 attempts

------------------------------------------------------------
People who touched revisions under test:
  Eric Dong <eric.dong@intel.com>
  Fan, Jeff <jeff.fan@intel.com>
  Jun Nie <jun.nie@linaro.org>

jobs:
 build-amd64-xsm                                              pass    
 build-i386-xsm                                               pass    
 build-amd64                                                  pass    
 build-i386                                                   pass    
 build-amd64-libvirt                                          pass    
 build-i386-libvirt                                           pass    
 build-amd64-pvops                                            pass    
 build-i386-pvops                                             pass    
 test-amd64-amd64-xl-qemuu-ovmf-amd64                         pass    
 test-amd64-i386-xl-qemuu-ovmf-amd64                          pass    


------------------------------------------------------------
sg-report-flight on osstest.xs.citrite.net
logs: /home/osstest/logs
images: /home/osstest/images

Logs, config files, etc. are available at
    http://osstest.xs.citrite.net/~osstest/testlogs/logs

Test harness code can be found at
    http://xenbits.xensource.com/gitweb?p=osstest.git;a=summary


Push not applicable.

------------------------------------------------------------
commit 6e414300b5f19d3045a0d21ad90ac2fe965478a5
Author: Jun Nie <jun.nie@linaro.org>
Date:   Wed Aug 2 22:03:40 2017 +0800

    EmbeddedPkg/AndroidFastboot: split android boot header
    
    Split android boot header definition to share code among
    different applications and libraries.
    
    Contributed-under: TianoCore Contribution Agreement 1.0
    Signed-off-by: Jun Nie <jun.nie@linaro.org>
    Reviewed-by: Leif Lindholm <leif.lindholm@linaro.org>

commit dba1521c3d620b1ee8404591436fae8f69c83267
Author: Fan, Jeff <jeff.fan@intel.com>
Date:   Fri Aug 4 22:40:55 2017 +0800

    Edk2: Update UefiCpuPkg owner.
    
    Cc: Jeff Fan <jeff.fan@intel.com>
    Contributed-under: TianoCore Contribution Agreement 1.0
    Signed-off-by: Eric Dong <eric.dong@intel.com>
    Reviewed-by: Jeff Fan <jeff.fan@intel.com>

commit e25352c207ccbd0a0caa964f3c74ba9860d08d24
Author: Eric Dong <eric.dong@intel.com>
Date:   Thu Aug 3 16:52:52 2017 +0800

    UefiCpuPkg MtrrLib: Remove deprecated micro.
    
    Cc: Jeff Fan <jeff.fan@intel.com>
    Cc: Ruiyu Ni <ruiyu.ni@intel.com>
    Contributed-under: TianoCore Contribution Agreement 1.0
    Signed-off-by: Eric Dong <eric.dong@intel.com>
    Reviewed-by: Ruiyu Ni <ruiyu.ni@intel.com>

commit 1382ffb6291a29fba2adedec3bce5d4a56cd3762
Author: Eric Dong <eric.dong@intel.com>
Date:   Fri Aug 4 13:55:18 2017 +0800

    Vlv2TbltDevicePkg: Remove reference deprecated macro.
    
    Cc: Jeff Fan <jeff.fan@intel.com>
    Cc: Ruiyu Ni <ruiyu.ni@intel.com>
    Cc: David Wei <david.wei@intel.com>
    Contributed-under: TianoCore Contribution Agreement 1.0
    Signed-off-by: Eric Dong <eric.dong@intel.com>
    Reviewed-by: Ruiyu Ni <ruiyu.ni@intel.com>

commit 309e799ba13c913ad6b9be3492abf8f8b57b8a8c
Author: Eric Dong <eric.dong@intel.com>
Date:   Thu Aug 3 17:32:03 2017 +0800

    QuarkSocPkg MtrrLib: Remove reference deprecated macro.
    
    Cc: Jeff Fan <jeff.fan@intel.com>
    Cc: Ruiyu Ni <ruiyu.ni@intel.com>
    Cc: Michael D Kinney <michael.d.kinney@intel.com>
    Contributed-under: TianoCore Contribution Agreement 1.0
    Signed-off-by: Eric Dong <eric.dong@intel.com>
    Reviewed-by: Ruiyu Ni <ruiyu.ni@intel.com>

commit b1bd0d7474f6d3e4162da0dcc8a934eb743e7572
Author: Eric Dong <eric.dong@intel.com>
Date:   Thu Aug 3 16:41:19 2017 +0800

    UefiCpuPkg CpuDxe: Remove reference deprecated macro.
    
    Cc: Jeff Fan <jeff.fan@intel.com>
    Cc: Ruiyu Ni <ruiyu.ni@intel.com>
    Contributed-under: TianoCore Contribution Agreement 1.0
    Signed-off-by: Eric Dong <eric.dong@intel.com>
    Reviewed-by: Ruiyu Ni <ruiyu.ni@intel.com>

commit ff481bc5c60f05149f1679ab657bf610afc55f37
Author: Eric Dong <eric.dong@intel.com>
Date:   Wed Aug 2 18:28:00 2017 +0800

    Vlv2TbltDevicePkg: Enhance get mtrr mask logic.
    
    In order to not use the deprecated macro, refine
    get mtrr mask value logic.
    
    Cc: Jeff Fan <jeff.fan@intel.com>
    Cc: Ruiyu Ni <ruiyu.ni@intel.com>
    Cc: David Wei <david.wei@intel.com>
    Contributed-under: TianoCore Contribution Agreement 1.0
    Signed-off-by: Eric Dong <eric.dong@intel.com>
    Reviewed-by: Ruiyu Ni <ruiyu.ni@intel.com>

commit c894f83fe35948f02b38fcc57c35998d1b88c14d
Author: Eric Dong <eric.dong@intel.com>
Date:   Wed Aug 2 18:29:09 2017 +0800

    UefiCpuPkg CpuDxe: Enhance get mtrr mask logic.
    
    In order to not use the deprecated macro, refine
    get mtrr mask value logic.
    
    Cc: Jeff Fan <jeff.fan@intel.com>
    Cc: Ruiyu Ni <ruiyu.ni@intel.com>
    Contributed-under: TianoCore Contribution Agreement 1.0
    Signed-off-by: Eric Dong <eric.dong@intel.com>
    Reviewed-by: Ruiyu Ni <ruiyu.ni@intel.com>

commit 055fa1c6661dfb421568ab73ca6a7e4f723f60de
Author: Eric Dong <eric.dong@intel.com>
Date:   Wed Aug 2 18:26:43 2017 +0800

    QuarkSocPkg MtrrLib: Enhance get mtrr mask logic.
    
    In order to not use the deprecated macro, refine
    get mtrr mask value logic.
    
    Cc: Jeff Fan <jeff.fan@intel.com>
    Cc: Ruiyu Ni <ruiyu.ni@intel.com>
    Cc: Michael D Kinney <michael.d.kinney@intel.com>
    Contributed-under: TianoCore Contribution Agreement 1.0
    Signed-off-by: Eric Dong <eric.dong@intel.com>
    Reviewed-by: Ruiyu Ni <ruiyu.ni@intel.com>

_______________________________________________
Xen-devel mailing list
Xen-devel@lists.xen.org
https://lists.xen.org/xen-devel

^ permalink raw reply	[flat|nested] only message in thread

only message in thread, other threads:[~2017-08-08 10:42 UTC | newest]

Thread overview: (only message) (download: mbox.gz follow: Atom feed
-- links below jump to the message on this page --
2017-08-08 10:42 [ovmf baseline-only test] 71950: all pass Platform Team regression test user

This is a public inbox, see mirroring instructions
for how to clone and mirror all data and code used for this inbox;
as well as URLs for NNTP newsgroup(s).