* [ovmf baseline-only test] 72000: all pass
@ 2017-08-21 17:24 Platform Team regression test user
0 siblings, 0 replies; only message in thread
From: Platform Team regression test user @ 2017-08-21 17:24 UTC (permalink / raw)
To: xen-devel, osstest-admin
This run is configured for baseline tests only.
flight 72000 ovmf real [real]
http://osstest.xs.citrite.net/~osstest/testlogs/logs/72000/
Perfect :-)
All tests in this flight passed as required
version targeted for testing:
ovmf fa74dd2217aebe6930890e55d58d35e639b18c2e
baseline version:
ovmf ce13d2d8c81f0ba77ac15d1e9a395ef1b8e57a82
Last test of basis 71996 2017-08-20 15:19:31 Z 1 days
Testing same since 72000 2017-08-21 12:32:45 Z 0 days 1 attempts
------------------------------------------------------------
People who touched revisions under test:
Jun Nie <jun.nie@linaro.org>
jobs:
build-amd64-xsm pass
build-i386-xsm pass
build-amd64 pass
build-i386 pass
build-amd64-libvirt pass
build-i386-libvirt pass
build-amd64-pvops pass
build-i386-pvops pass
test-amd64-amd64-xl-qemuu-ovmf-amd64 pass
test-amd64-i386-xl-qemuu-ovmf-amd64 pass
------------------------------------------------------------
sg-report-flight on osstest.xs.citrite.net
logs: /home/osstest/logs
images: /home/osstest/images
Logs, config files, etc. are available at
http://osstest.xs.citrite.net/~osstest/testlogs/logs
Test harness code can be found at
http://xenbits.xensource.com/gitweb?p=osstest.git;a=summary
Push not applicable.
------------------------------------------------------------
commit fa74dd2217aebe6930890e55d58d35e639b18c2e
Author: Jun Nie <jun.nie@linaro.org>
Date: Thu Aug 17 20:58:59 2017 +0800
EmbeddedPkg/AndroidBoot: boot android kernel from storage
Add an android kernel loader that could load kernel from storage
device.
This android boot image BDS add addtitional cmdline/dtb/ramfs
support besides kernel that is introduced by Android boot header.
This patch is derived from Haojian's code as below link.
https://patches.linaro.org/patch/94683/
Contributed-under: TianoCore Contribution Agreement 1.0
Signed-off-by: Jun Nie <jun.nie@linaro.org>
Reviewed-by: Leif Lindholm <leif.lindholm@linaro.org>
_______________________________________________
Xen-devel mailing list
Xen-devel@lists.xen.org
https://lists.xen.org/xen-devel
^ permalink raw reply [flat|nested] only message in thread
only message in thread, other threads:[~2017-08-21 17:24 UTC | newest]
Thread overview: (only message) (download: mbox.gz follow: Atom feed
-- links below jump to the message on this page --
2017-08-21 17:24 [ovmf baseline-only test] 72000: all pass Platform Team regression test user
This is a public inbox, see mirroring instructions
for how to clone and mirror all data and code used for this inbox;
as well as URLs for NNTP newsgroup(s).