xen-devel.lists.xenproject.org archive mirror
 help / color / mirror / Atom feed
* [ovmf baseline-only test] 72003: all pass
@ 2017-08-22 10:13 Platform Team regression test user
  0 siblings, 0 replies; only message in thread
From: Platform Team regression test user @ 2017-08-22 10:13 UTC (permalink / raw)
  To: xen-devel, osstest-admin

This run is configured for baseline tests only.

flight 72003 ovmf real [real]
http://osstest.xs.citrite.net/~osstest/testlogs/logs/72003/

Perfect :-)
All tests in this flight passed as required
version targeted for testing:
 ovmf                 bb3d1a6198cc5a8f2672927295c9f8d5ede9187c
baseline version:
 ovmf                 fa74dd2217aebe6930890e55d58d35e639b18c2e

Last test of basis    72000  2017-08-21 12:32:45 Z    0 days
Testing same since    72003  2017-08-22 08:20:08 Z    0 days    1 attempts

------------------------------------------------------------
People who touched revisions under test:
  Huajing Li <huajing.li@intel.com>

jobs:
 build-amd64-xsm                                              pass    
 build-i386-xsm                                               pass    
 build-amd64                                                  pass    
 build-i386                                                   pass    
 build-amd64-libvirt                                          pass    
 build-i386-libvirt                                           pass    
 build-amd64-pvops                                            pass    
 build-i386-pvops                                             pass    
 test-amd64-amd64-xl-qemuu-ovmf-amd64                         pass    
 test-amd64-i386-xl-qemuu-ovmf-amd64                          pass    


------------------------------------------------------------
sg-report-flight on osstest.xs.citrite.net
logs: /home/osstest/logs
images: /home/osstest/images

Logs, config files, etc. are available at
    http://osstest.xs.citrite.net/~osstest/testlogs/logs

Test harness code can be found at
    http://xenbits.xensource.com/gitweb?p=osstest.git;a=summary


Push not applicable.

------------------------------------------------------------
commit bb3d1a6198cc5a8f2672927295c9f8d5ede9187c
Author: Huajing Li <huajing.li@intel.com>
Date:   Tue Aug 15 11:45:29 2017 +0800

    ShellPkg/mkdir: support creating nested directories
    
    Contributed-under: TianoCore Contribution Agreement 1.0
    Signed-off-by: Huajing Li <huajing.li@intel.com>
    Reviewed-by: Ruiyu Ni <ruiyu.ni@intel.com>

commit 88f9acd6cc5f53083207f4c00010ee0cf365c11c
Author: Huajing Li <huajing.li@intel.com>
Date:   Wed Aug 9 16:33:15 2017 +0800

    Shell/mkdir: Modify the help content to align to spec.
    
    Contributed-under: TianoCore Contribution Agreement 1.0
    Signed-off-by: Huajing Li <huajing.li@intel.com>
    Reviewed-by: Ruiyu Ni <ruiyu.ni@intel.com>

_______________________________________________
Xen-devel mailing list
Xen-devel@lists.xen.org
https://lists.xen.org/xen-devel

^ permalink raw reply	[flat|nested] only message in thread

only message in thread, other threads:[~2017-08-22 10:13 UTC | newest]

Thread overview: (only message) (download: mbox.gz follow: Atom feed
-- links below jump to the message on this page --
2017-08-22 10:13 [ovmf baseline-only test] 72003: all pass Platform Team regression test user

This is a public inbox, see mirroring instructions
for how to clone and mirror all data and code used for this inbox;
as well as URLs for NNTP newsgroup(s).