* [ovmf baseline-only test] 72030: all pass
@ 2017-08-26 23:46 Platform Team regression test user
0 siblings, 0 replies; only message in thread
From: Platform Team regression test user @ 2017-08-26 23:46 UTC (permalink / raw)
To: xen-devel, osstest-admin
This run is configured for baseline tests only.
flight 72030 ovmf real [real]
http://osstest.xs.citrite.net/~osstest/testlogs/logs/72030/
Perfect :-)
All tests in this flight passed as required
version targeted for testing:
ovmf 9f3a38cdfb354a5a074312783a43b7bd21cc90e2
baseline version:
ovmf 656ac0c7d8ea9912f23355d0e907bfe4173256fc
Last test of basis 72029 2017-08-26 12:23:32 Z 0 days
Testing same since 72030 2017-08-26 21:51:26 Z 0 days 1 attempts
------------------------------------------------------------
People who touched revisions under test:
Daniel Verkamp <daniel.verkamp@intel.com>
jobs:
build-amd64-xsm pass
build-i386-xsm pass
build-amd64 pass
build-i386 pass
build-amd64-libvirt pass
build-i386-libvirt pass
build-amd64-pvops pass
build-i386-pvops pass
test-amd64-amd64-xl-qemuu-ovmf-amd64 pass
test-amd64-i386-xl-qemuu-ovmf-amd64 pass
------------------------------------------------------------
sg-report-flight on osstest.xs.citrite.net
logs: /home/osstest/logs
images: /home/osstest/images
Logs, config files, etc. are available at
http://osstest.xs.citrite.net/~osstest/testlogs/logs
Test harness code can be found at
http://xenbits.xensource.com/gitweb?p=osstest.git;a=summary
Push not applicable.
------------------------------------------------------------
commit 9f3a38cdfb354a5a074312783a43b7bd21cc90e2
Author: Daniel Verkamp <daniel.verkamp@intel.com>
Date: Mon Aug 21 16:26:26 2017 +0800
BaseTools/EfiRom: Add multiple device id support
This is a patch to implement writing and dumping of PCI 3.0 Device ID
lists in EFI option ROMs in the EfiRom tool.
Using this modification, multiple space-delimited device IDs can be
specified after -i. The first device in the list is used for the main
PCI ROM header Device ID field and is also written in the list. The
list is only written when more than one device ID has been specified;
when only one device ID is given on the command line, the EfiRom output
should be identical to the current code.
Fixes: https://bugzilla.tianocore.org/show_bug.cgi?id=666
Cc: Liming Gao <liming.gao@intel.com>
Cc: Tomas Pilar <tpilar@solarflare.com>
Contributed-under: TianoCore Contribution Agreement 1.0
Signed-off-by: Daniel Verkamp <daniel.verkamp@intel.com>
Reviewed-by: Liming Gao <liming.gao@intel.com>
_______________________________________________
Xen-devel mailing list
Xen-devel@lists.xen.org
https://lists.xen.org/xen-devel
^ permalink raw reply [flat|nested] only message in thread
only message in thread, other threads:[~2017-08-26 23:46 UTC | newest]
Thread overview: (only message) (download: mbox.gz follow: Atom feed
-- links below jump to the message on this page --
2017-08-26 23:46 [ovmf baseline-only test] 72030: all pass Platform Team regression test user
This is a public inbox, see mirroring instructions
for how to clone and mirror all data and code used for this inbox;
as well as URLs for NNTP newsgroup(s).