* [ovmf baseline-only test] 72041: all pass
@ 2017-08-30 23:56 Platform Team regression test user
0 siblings, 0 replies; only message in thread
From: Platform Team regression test user @ 2017-08-30 23:56 UTC (permalink / raw)
To: xen-devel, osstest-admin
This run is configured for baseline tests only.
flight 72041 ovmf real [real]
http://osstest.xs.citrite.net/~osstest/testlogs/logs/72041/
Perfect :-)
All tests in this flight passed as required
version targeted for testing:
ovmf c1d799b915096b79b5c5d035b134ffbccc6d1469
baseline version:
ovmf 2f208e59e4b994978a1a24affc306eb694a00327
Last test of basis 72036 2017-08-29 20:17:43 Z 1 days
Testing same since 72041 2017-08-30 12:19:22 Z 0 days 1 attempts
------------------------------------------------------------
People who touched revisions under test:
Ard Biesheuvel <ard.biesheuvel@linaro.org>
Bi, Dandan <dandan.bi@intel.com>
Dandan Bi <dandan.bi@intel.com>
jobs:
build-amd64-xsm pass
build-i386-xsm pass
build-amd64 pass
build-i386 pass
build-amd64-libvirt pass
build-i386-libvirt pass
build-amd64-pvops pass
build-i386-pvops pass
test-amd64-amd64-xl-qemuu-ovmf-amd64 pass
test-amd64-i386-xl-qemuu-ovmf-amd64 pass
------------------------------------------------------------
sg-report-flight on osstest.xs.citrite.net
logs: /home/osstest/logs
images: /home/osstest/images
Logs, config files, etc. are available at
http://osstest.xs.citrite.net/~osstest/testlogs/logs
Test harness code can be found at
http://xenbits.xensource.com/gitweb?p=osstest.git;a=summary
Push not applicable.
------------------------------------------------------------
commit c1d799b915096b79b5c5d035b134ffbccc6d1469
Author: Ard Biesheuvel <ard.biesheuvel@linaro.org>
Date: Thu Aug 24 20:41:01 2017 +0100
Omap35xxPkg: remove bogus UncachedMemoryAllocationLib dependency
Remove a false dependency on UncachedMemoryAllocationLib, and fix the
broken build while we're at it.
Contributed-under: TianoCore Contribution Agreement 1.1
Signed-off-by: Ard Biesheuvel <ard.biesheuvel@linaro.org>
Reviewed-by: Leif Lindholm <leif.lindholm@linaro.org>
commit b56397ba9f67b246fcb42b082f1465b1455f7550
Author: Ard Biesheuvel <ard.biesheuvel@linaro.org>
Date: Thu Aug 24 20:40:10 2017 +0100
BeagleBoardPkg: remove UncachedMemoryAllocationLib resolutions
ArmDmaLib no longer depends on UncachedMemoryAllocationLib, so we can
remove the library class resolutions for it.
Contributed-under: TianoCore Contribution Agreement 1.1
Signed-off-by: Ard Biesheuvel <ard.biesheuvel@linaro.org>
Reviewed-by: Leif Lindholm <leif.lindholm@linaro.org>
commit 4b4104d87e28a56a14d89289e960a92618ce5621
Author: Ard Biesheuvel <ard.biesheuvel@linaro.org>
Date: Thu Aug 24 20:13:10 2017 +0100
ArmPkg/ArmDmaLib: implement DmaAllocateAlignedBuffer()
Implement the new DmaLib routine that returns DMA'able buffers
at a specified minimum alignment.
Contributed-under: TianoCore Contribution Agreement 1.1
Signed-off-by: Ard Biesheuvel <ard.biesheuvel@linaro.org>
Reviewed-by: Leif Lindholm <leif.lindholm@linaro.org>
commit deef290f95e0df80549d2a6cbd7edae104c82709
Author: Ard Biesheuvel <ard.biesheuvel@linaro.org>
Date: Thu Aug 24 20:05:48 2017 +0100
EmbeddedPkg/DmaLib: add routine to allocate aligned buffers
DmaLib's purpose is to manage memory that is shared between the host
and DMA capable devices. In some cases, this requires a larger alignment
than page size, and we currently don't cater for that in DmaLib. So add
a variant of DmaAllocateBuffer () that takes an alignment parameter.
Contributed-under: TianoCore Contribution Agreement 1.1
Signed-off-by: Ard Biesheuvel <ard.biesheuvel@linaro.org>
Reviewed-by: Leif Lindholm <leif.lindholm@linaro.org>
commit 1696b221b15e439162cfccd6bd04132e425dd2ff
Author: Bi, Dandan <dandan.bi@intel.com>
Date: Tue Aug 29 14:44:37 2017 +0800
MdeModulePkg/UefiHiiLib: Fix incorrect check for string length
REF: https://bugzilla.tianocore.org/show_bug.cgi?id=681
For string opcode,when checking the valid string length,
it should exclude the Null-terminated character.
And for string in NameValue storage, need to exclude
the varname and also need to convert the Config string
length to Unicode string length.
Cc: Eric Dong <eric.dong@intel.com>
Cc: Liming Gao <liming.gao@intel.com>
Contributed-under: TianoCore Contribution Agreement 1.0
Signed-off-by: Dandan Bi <dandan.bi@intel.com>
Reviewed-by: Eric Dong <eric.dong@intel.com>
_______________________________________________
Xen-devel mailing list
Xen-devel@lists.xen.org
https://lists.xen.org/xen-devel
^ permalink raw reply [flat|nested] only message in thread
only message in thread, other threads:[~2017-08-30 23:56 UTC | newest]
Thread overview: (only message) (download: mbox.gz follow: Atom feed
-- links below jump to the message on this page --
2017-08-30 23:56 [ovmf baseline-only test] 72041: all pass Platform Team regression test user
This is a public inbox, see mirroring instructions
for how to clone and mirror all data and code used for this inbox;
as well as URLs for NNTP newsgroup(s).