From: Platform Team regression test user <citrix-osstest@xenproject.org>
To: xen-devel@lists.xensource.com, osstest-admin@xenproject.org
Subject: [ovmf baseline-only test] 72074: all pass
Date: Fri, 8 Sep 2017 13:27:38 +0100 [thread overview]
Message-ID: <osstest-72074-mainreport@xen.org> (raw)
This run is configured for baseline tests only.
flight 72074 ovmf real [real]
http://osstest.xs.citrite.net/~osstest/testlogs/logs/72074/
Perfect :-)
All tests in this flight passed as required
version targeted for testing:
ovmf c50596a701435b62dc7e9c12b49201a17c38e17c
baseline version:
ovmf 89796c69d9fdaa9bd13d37b6b1687df5e0104ed5
Last test of basis 72072 2017-09-07 15:49:09 Z 0 days
Testing same since 72074 2017-09-08 06:34:43 Z 0 days 1 attempts
------------------------------------------------------------
People who touched revisions under test:
Jiewen Yao <jiewen.yao@intel.com>
jobs:
build-amd64-xsm pass
build-i386-xsm pass
build-amd64 pass
build-i386 pass
build-amd64-libvirt pass
build-i386-libvirt pass
build-amd64-pvops pass
build-i386-pvops pass
test-amd64-amd64-xl-qemuu-ovmf-amd64 pass
test-amd64-i386-xl-qemuu-ovmf-amd64 pass
------------------------------------------------------------
sg-report-flight on osstest.xs.citrite.net
logs: /home/osstest/logs
images: /home/osstest/images
Logs, config files, etc. are available at
http://osstest.xs.citrite.net/~osstest/testlogs/logs
Test harness code can be found at
http://xenbits.xensource.com/gitweb?p=osstest.git;a=summary
Push not applicable.
------------------------------------------------------------
commit c50596a701435b62dc7e9c12b49201a17c38e17c
Author: Jiewen Yao <jiewen.yao@intel.com>
Date: Mon Sep 4 09:50:25 2017 +0800
IntelSiliconPkg/IntelVtd: Consume VTd policy PCD
Cc: Star Zeng <star.zeng@intel.com>
Contributed-under: TianoCore Contribution Agreement 1.0
Signed-off-by: Jiewen Yao <jiewen.yao@intel.com>
Reviewed-by: Star Zeng <star.zeng@intel.com>
commit 0d12b733060930df03fca00ae1228b565481a3aa
Author: Jiewen Yao <jiewen.yao@intel.com>
Date: Mon Sep 4 09:49:55 2017 +0800
IntelSiliconPkg/dec: Add VTd policy PCD
BIT0: This is to control if a platform wants to enable VTd
based protection during boot.
BIT1: This is to control if a platform wants to keep VTd
enabled at ExitBootService.
The default configuration is BIT0:1, BIT1:0.
Cc: Star Zeng <star.zeng@intel.com>
Contributed-under: TianoCore Contribution Agreement 1.0
Signed-off-by: Jiewen Yao <jiewen.yao@intel.com>
Reviewed-by: Star Zeng <star.zeng@intel.com>
_______________________________________________
Xen-devel mailing list
Xen-devel@lists.xen.org
https://lists.xen.org/xen-devel
reply other threads:[~2017-09-08 12:27 UTC|newest]
Thread overview: [no followups] expand[flat|nested] mbox.gz Atom feed
Reply instructions:
You may reply publicly to this message via plain-text email
using any one of the following methods:
* Save the following mbox file, import it into your mail client,
and reply-to-all from there: mbox
Avoid top-posting and favor interleaved quoting:
https://en.wikipedia.org/wiki/Posting_style#Interleaved_style
* Reply using the --to, --cc, and --in-reply-to
switches of git-send-email(1):
git send-email \
--in-reply-to=osstest-72074-mainreport@xen.org \
--to=citrix-osstest@xenproject.org \
--cc=osstest-admin@xenproject.org \
--cc=xen-devel@lists.xensource.com \
/path/to/YOUR_REPLY
https://kernel.org/pub/software/scm/git/docs/git-send-email.html
* If your mail client supports setting the In-Reply-To header
via mailto: links, try the mailto: link
Be sure your reply has a Subject: header at the top and a blank line
before the message body.
This is a public inbox, see mirroring instructions
for how to clone and mirror all data and code used for this inbox;
as well as URLs for NNTP newsgroup(s).