xen-devel.lists.xenproject.org archive mirror
 help / color / mirror / Atom feed
From: Platform Team regression test user <citrix-osstest@xenproject.org>
To: xen-devel@lists.xensource.com, osstest-admin@xenproject.org
Subject: [ovmf baseline-only test] 72078: all pass
Date: Sat, 9 Sep 2017 01:27:09 +0100	[thread overview]
Message-ID: <osstest-72078-mainreport@xen.org> (raw)

This run is configured for baseline tests only.

flight 72078 ovmf real [real]
http://osstest.xs.citrite.net/~osstest/testlogs/logs/72078/

Perfect :-)
All tests in this flight passed as required
version targeted for testing:
 ovmf                 3281ebb4ae7de2a858c2e7ec4998b7e55be1a4dc
baseline version:
 ovmf                 c50596a701435b62dc7e9c12b49201a17c38e17c

Last test of basis    72074  2017-09-08 06:34:43 Z    0 days
Testing same since    72078  2017-09-08 19:19:42 Z    0 days    1 attempts

------------------------------------------------------------
People who touched revisions under test:
  Liming Gao <liming.gao@intel.com>
  Meenakshi Aggarwal <meenakshi.aggarwal@nxp.com>

jobs:
 build-amd64-xsm                                              pass    
 build-i386-xsm                                               pass    
 build-amd64                                                  pass    
 build-i386                                                   pass    
 build-amd64-libvirt                                          pass    
 build-i386-libvirt                                           pass    
 build-amd64-pvops                                            pass    
 build-i386-pvops                                             pass    
 test-amd64-amd64-xl-qemuu-ovmf-amd64                         pass    
 test-amd64-i386-xl-qemuu-ovmf-amd64                          pass    


------------------------------------------------------------
sg-report-flight on osstest.xs.citrite.net
logs: /home/osstest/logs
images: /home/osstest/images

Logs, config files, etc. are available at
    http://osstest.xs.citrite.net/~osstest/testlogs/logs

Test harness code can be found at
    http://xenbits.xensource.com/gitweb?p=osstest.git;a=summary


Push not applicable.

------------------------------------------------------------
commit 3281ebb4ae7de2a858c2e7ec4998b7e55be1a4dc
Author: Liming Gao <liming.gao@intel.com>
Date:   Tue Sep 5 14:56:28 2017 +0800

    Nt32Pkg: Clean up DSC to remove unnecessary build option in SecMain
    
    Contributed-under: TianoCore Contribution Agreement 1.1
    Signed-off-by: Liming Gao <liming.gao@intel.com>
    Cc: Ruiyu Ni <ruiyu.ni@intel.com>
    Reviewed-by: Ruiyu Ni <ruiyu.ni@intel.com>

commit ea21f1d98dcc7dd46575e89ee5a7e7a2b960fc17
Author: Meenakshi Aggarwal <meenakshi.aggarwal@nxp.com>
Date:   Thu Sep 7 19:47:53 2017 +0530

    SD : Updated CMD 6 implememtation.
    
    For setting high speed in SD card,
    First CMD 6 (Switch) is send to check if card supports High Speed and
    Second command is send to switch card to high speed mode.
    
    In current inplementation, CMD 6 was sent only once to switch the
    card into HS mode without checking if card supports HS or not, which is
    not as per specification and also we are not setting the HS i.e. 50000000
    but directly asking the card to switch to 26000000 which is incorrect as
    SD card supports either 25000000 or 50000000.
    
    Contributed-under: TianoCore Contribution Agreement 1.1
    Signed-off-by: Meenakshi Aggarwal <meenakshi.aggarwal@nxp.com>
    Reviewed-by: Jun Nie <jun.nie@linaro.org>
    Reviewed-by: Leif Lindholm <leif.lindholm@linaro.org>

commit 3d43616632763b4e68b8beaf3a8807e83b2c62f5
Author: Meenakshi Aggarwal <meenakshi.aggarwal@nxp.com>
Date:   Thu Sep 7 19:47:52 2017 +0530

    MMC : Added missing __FUNCTION__ macro.
    
    We want to print name of the function resulted in error,
    but __FUNCTION__ macro was missing.
    
    Contributed-under: TianoCore Contribution Agreement 1.1
    Signed-off-by: Meenakshi Aggarwal <meenakshi.aggarwal@nxp.com>
    Reviewed-by: Leif Lindholm <leif.lindholm@linaro.org>

_______________________________________________
Xen-devel mailing list
Xen-devel@lists.xen.org
https://lists.xen.org/xen-devel

                 reply	other threads:[~2017-09-09  0:27 UTC|newest]

Thread overview: [no followups] expand[flat|nested]  mbox.gz  Atom feed

Reply instructions:

You may reply publicly to this message via plain-text email
using any one of the following methods:

* Save the following mbox file, import it into your mail client,
  and reply-to-all from there: mbox

  Avoid top-posting and favor interleaved quoting:
  https://en.wikipedia.org/wiki/Posting_style#Interleaved_style

* Reply using the --to, --cc, and --in-reply-to
  switches of git-send-email(1):

  git send-email \
    --in-reply-to=osstest-72078-mainreport@xen.org \
    --to=citrix-osstest@xenproject.org \
    --cc=osstest-admin@xenproject.org \
    --cc=xen-devel@lists.xensource.com \
    /path/to/YOUR_REPLY

  https://kernel.org/pub/software/scm/git/docs/git-send-email.html

* If your mail client supports setting the In-Reply-To header
  via mailto: links, try the mailto: link
Be sure your reply has a Subject: header at the top and a blank line before the message body.
This is a public inbox, see mirroring instructions
for how to clone and mirror all data and code used for this inbox;
as well as URLs for NNTP newsgroup(s).