* [ovmf baseline-only test] 72132: all pass
@ 2017-09-20 23:27 Platform Team regression test user
0 siblings, 0 replies; only message in thread
From: Platform Team regression test user @ 2017-09-20 23:27 UTC (permalink / raw)
To: xen-devel, osstest-admin
This run is configured for baseline tests only.
flight 72132 ovmf real [real]
http://osstest.xs.citrite.net/~osstest/testlogs/logs/72132/
Perfect :-)
All tests in this flight passed as required
version targeted for testing:
ovmf b68c793144e8f239cf59fcc34ee6e35c1fdcd8a6
baseline version:
ovmf 70dc3ec5a72e0e3fc3ea8f63baecdeafd1110db8
Last test of basis 72131 2017-09-20 15:47:32 Z 0 days
Testing same since 72132 2017-09-20 21:47:10 Z 0 days 1 attempts
------------------------------------------------------------
People who touched revisions under test:
Hao Wu <hao.a.wu@intel.com>
jobs:
build-amd64-xsm pass
build-i386-xsm pass
build-amd64 pass
build-i386 pass
build-amd64-libvirt pass
build-i386-libvirt pass
build-amd64-pvops pass
build-i386-pvops pass
test-amd64-amd64-xl-qemuu-ovmf-amd64 pass
test-amd64-i386-xl-qemuu-ovmf-amd64 pass
------------------------------------------------------------
sg-report-flight on osstest.xs.citrite.net
logs: /home/osstest/logs
images: /home/osstest/images
Logs, config files, etc. are available at
http://osstest.xs.citrite.net/~osstest/testlogs/logs
Test harness code can be found at
http://xenbits.xensource.com/gitweb?p=osstest.git;a=summary
Push not applicable.
------------------------------------------------------------
commit b68c793144e8f239cf59fcc34ee6e35c1fdcd8a6
Author: Hao Wu <hao.a.wu@intel.com>
Date: Tue Sep 19 09:45:50 2017 +0800
NetworkPkg/IScsiDxe: Remove redundant call to StrLen
The commits utilizes a local variable to store the length of a string
which will be used right after.
Contributed-under: TianoCore Contribution Agreement 1.1
Signed-off-by: Hao Wu <hao.a.wu@intel.com>
Reviewed-by: Fu Siyuan <siyuan.fu@intel.com>
Reviewed-by: Wu Jiaxin <jiaxin.wu@intel.com>
_______________________________________________
Xen-devel mailing list
Xen-devel@lists.xen.org
https://lists.xen.org/xen-devel
^ permalink raw reply [flat|nested] only message in thread
only message in thread, other threads:[~2017-09-20 23:27 UTC | newest]
Thread overview: (only message) (download: mbox.gz follow: Atom feed
-- links below jump to the message on this page --
2017-09-20 23:27 [ovmf baseline-only test] 72132: all pass Platform Team regression test user
This is a public inbox, see mirroring instructions
for how to clone and mirror all data and code used for this inbox;
as well as URLs for NNTP newsgroup(s).