From: Platform Team regression test user <citrix-osstest@xenproject.org>
To: xen-devel@lists.xensource.com, osstest-admin@xenproject.org
Subject: [ovmf baseline-only test] 72165: all pass
Date: Thu, 28 Sep 2017 17:31:52 +0100 [thread overview]
Message-ID: <osstest-72165-mainreport@xen.org> (raw)
This run is configured for baseline tests only.
flight 72165 ovmf real [real]
http://osstest.xs.citrite.net/~osstest/testlogs/logs/72165/
Perfect :-)
All tests in this flight passed as required
version targeted for testing:
ovmf 67a6cf6dcaaab8ddd4e7dc6a7fe929b752461102
baseline version:
ovmf 1b8eca8b1affc81357c9f685ac90e5de75ba4b87
Last test of basis 72164 2017-09-26 14:47:02 Z 2 days
Testing same since 72165 2017-09-26 17:47:31 Z 1 days 1 attempts
------------------------------------------------------------
People who touched revisions under test:
Star Zeng <star.zeng@intel.com>
jobs:
build-amd64-xsm pass
build-i386-xsm pass
build-amd64 pass
build-i386 pass
build-amd64-libvirt pass
build-i386-libvirt pass
build-amd64-pvops pass
build-i386-pvops pass
test-amd64-amd64-xl-qemuu-ovmf-amd64 pass
test-amd64-i386-xl-qemuu-ovmf-amd64 pass
------------------------------------------------------------
sg-report-flight on osstest.xs.citrite.net
logs: /home/osstest/logs
images: /home/osstest/images
Logs, config files, etc. are available at
http://osstest.xs.citrite.net/~osstest/testlogs/logs
Test harness code can be found at
http://xenbits.xensource.com/gitweb?p=osstest.git;a=summary
Push not applicable.
------------------------------------------------------------
commit 67a6cf6dcaaab8ddd4e7dc6a7fe929b752461102
Author: Star Zeng <star.zeng@intel.com>
Date: Mon Sep 25 18:08:56 2017 +0800
IntelFrameworkModulePkg FwVolDxe: Support FFS_ATTRIB_DATA_ALIGNMENT_2
Follow PI 1.6 spec to support FFS_ATTRIB_DATA_ALIGNMENT_2 for
FFS alignment extended to support maximum 16MB.
Cc: Liming Gao <liming.gao@intel.com>
Contributed-under: TianoCore Contribution Agreement 1.1
Signed-off-by: Star Zeng <star.zeng@intel.com>
Reviewed-by: Liming Gao <liming.gao@intel.com>
commit e411f8ca3845aafacefe88321fdde340c88c1beb
Author: Star Zeng <star.zeng@intel.com>
Date: Thu Sep 21 18:07:11 2017 +0800
MdeModulePkg Core: Support FFS_ATTRIB_DATA_ALIGNMENT_2
Follow PI 1.6 spec to support FFS_ATTRIB_DATA_ALIGNMENT_2 for
FFS alignment extended to support maximum 16MB.
Cc: Liming Gao <liming.gao@intel.com>
Contributed-under: TianoCore Contribution Agreement 1.1
Signed-off-by: Star Zeng <star.zeng@intel.com>
Reviewed-by: Liming Gao <liming.gao@intel.com>
commit c8a9f0693aa9042eed73aec7acbdd926e583dea2
Author: Star Zeng <star.zeng@intel.com>
Date: Thu Sep 21 17:54:01 2017 +0800
MdePkg PiFirmwareFile.h: Add FFS_ATTRIB_DATA_ALIGNMENT_2 definition
Follow PI 1.6 spec to add FFS_ATTRIB_DATA_ALIGNMENT_2 definition for
FFS alignment extended to support maximum 16MB.
Cc: Liming Gao <liming.gao@intel.com>
Contributed-under: TianoCore Contribution Agreement 1.1
Signed-off-by: Star Zeng <star.zeng@intel.com>
Reviewed-by: Liming Gao <liming.gao@intel.com>
_______________________________________________
Xen-devel mailing list
Xen-devel@lists.xen.org
https://lists.xen.org/xen-devel
reply other threads:[~2017-09-28 16:31 UTC|newest]
Thread overview: [no followups] expand[flat|nested] mbox.gz Atom feed
Reply instructions:
You may reply publicly to this message via plain-text email
using any one of the following methods:
* Save the following mbox file, import it into your mail client,
and reply-to-all from there: mbox
Avoid top-posting and favor interleaved quoting:
https://en.wikipedia.org/wiki/Posting_style#Interleaved_style
* Reply using the --to, --cc, and --in-reply-to
switches of git-send-email(1):
git send-email \
--in-reply-to=osstest-72165-mainreport@xen.org \
--to=citrix-osstest@xenproject.org \
--cc=osstest-admin@xenproject.org \
--cc=xen-devel@lists.xensource.com \
/path/to/YOUR_REPLY
https://kernel.org/pub/software/scm/git/docs/git-send-email.html
* If your mail client supports setting the In-Reply-To header
via mailto: links, try the mailto: link
Be sure your reply has a Subject: header at the top and a blank line
before the message body.
This is a public inbox, see mirroring instructions
for how to clone and mirror all data and code used for this inbox;
as well as URLs for NNTP newsgroup(s).