xen-devel.lists.xenproject.org archive mirror
 help / color / mirror / Atom feed
From: Platform Team regression test user <citrix-osstest@xenproject.org>
To: xen-devel@lists.xensource.com, osstest-admin@xenproject.org
Subject: [ovmf baseline-only test] 72171: all pass
Date: Fri, 29 Sep 2017 01:14:42 +0100	[thread overview]
Message-ID: <osstest-72171-mainreport@xen.org> (raw)

This run is configured for baseline tests only.

flight 72171 ovmf real [real]
http://osstest.xs.citrite.net/~osstest/testlogs/logs/72171/

Perfect :-)
All tests in this flight passed as required
version targeted for testing:
 ovmf                 b07bbb4f73c9d2abbdab5db0b064379981db11bc
baseline version:
 ovmf                 ce9aaba64e07d7e12eb160ae32cde7b3357ce388

Last test of basis    72170  2017-09-28 16:50:40 Z    0 days
Testing same since    72171  2017-09-28 22:18:20 Z    0 days    1 attempts

------------------------------------------------------------
People who touched revisions under test:
  Chao Zhang <chao.b.zhang@intel.com>
  Chen A Chen <chen.a.chen@intel.com>
  chenc2 <chen.a.chen@intel.com>
  Fu Siyuan <siyuan.fu@intel.com>
  Ruiyu Ni <ruiyu.ni@intel.com>
  Sean Brogan <sean.brogan@microsoft.com>
  Yonghong Zhu <yonghong.zhu@intel.com>
  Zhang, Chao B <chao.b.zhang@intel.com>

jobs:
 build-amd64-xsm                                              pass    
 build-i386-xsm                                               pass    
 build-amd64                                                  pass    
 build-i386                                                   pass    
 build-amd64-libvirt                                          pass    
 build-i386-libvirt                                           pass    
 build-amd64-pvops                                            pass    
 build-i386-pvops                                             pass    
 test-amd64-amd64-xl-qemuu-ovmf-amd64                         pass    
 test-amd64-i386-xl-qemuu-ovmf-amd64                          pass    


------------------------------------------------------------
sg-report-flight on osstest.xs.citrite.net
logs: /home/osstest/logs
images: /home/osstest/images

Logs, config files, etc. are available at
    http://osstest.xs.citrite.net/~osstest/testlogs/logs

Test harness code can be found at
    http://xenbits.xensource.com/gitweb?p=osstest.git;a=summary


Push not applicable.

------------------------------------------------------------
commit b07bbb4f73c9d2abbdab5db0b064379981db11bc
Author: Fu Siyuan <siyuan.fu@intel.com>
Date:   Wed Sep 20 11:21:56 2017 +0800

    MdeModulePkg/DxeNetLib: Check the actual packet size before trim data from Nbuf.
    
    In NetbufTrim() function, the NetBuf TotalSize should be checked with 0 before
    making the trim operation, otherwise the function will fall into infinite loop.
    
    Contributed-under: TianoCore Contribution Agreement 1.0
    Signed-off-by: Fu Siyuan <siyuan.fu@intel.com>
    Reviewed-by: Wu Jiaxin <jiaxin.wu@intel.com>

commit 85974aef1332d2d8f480f121875dc57795220dd1
Author: chenc2 <chen.a.chen@intel.com>
Date:   Tue Sep 26 08:44:19 2017 +0800

    SecurityPkg/SecureBootConfigImpl.c: Secure Boot DBX UI Enhancement
    
    Use 2-level format to display signature list and signature data.
    Support batch delete operation to delete signature list or signature data.
    Display more useful information for each signature data.
    
    Contributed-under: TianoCore Contribution Agreement 1.0
    Cc: Zhang Chao B <chao.b.zhang@intel.com>
    Cc: Long Qin <qin.long@intel.com>
    Signed-off-by: Chen A Chen <chen.a.chen@intel.com>
    Reviewed-by: Long Qin <qin.long@intel.com>
    Reviewed-by: Zhang Chao B <chao.b.zhang@intel.com>

commit 5db417ed2522367290c365831f9d6628d31c346c
Author: Ruiyu Ni <ruiyu.ni@intel.com>
Date:   Wed Aug 16 10:26:49 2017 -0700

    MdeModulePkg/PciBusDxe: Enable Bus Master on P2P bridges on demand
    
    The patch dynamically enables Bus Master on P2P bridges only
    when requested by a device driver through PciIo.Attribute() to enable
    the Bus Master.
    
    Signed-off-by: Sean Brogan <sean.brogan@microsoft.com>
    Signed-off-by: Ruiyu Ni <ruiyu.ni@intel.com>
    Reviewed-by: Jiewen Yao <jiewen.yao@intel.com>
    Cc: Michael D Kinney <michael.d.kinney@intel.com>

commit 265e5c82f5b602ed9d9a6c620286d3ba6d5657a4
Author: Zhang, Chao B <chao.b.zhang@intel.com>
Date:   Fri Sep 22 14:40:12 2017 +0800

    SecurityPkg\SmmTcg2PhysicalPresenceLib.c Handle reserved or unimplemented PP Operation
    
    Several PP operations < 128(Vendor Specific) are reserved or unimplemented.
    Follow TCG PC Client Platform Physical Presence Interface Specification to return
    not implemented.
    https://trustedcomputinggroup.org/wp-content/uploads/Physical-Presence-Interface_1-30_0-52.pdf
    
    Cc: Jiewen Yao <jiewen.yao@intel.com>
    Cc: Star Zeng <star.zeng@intel.com>
    Contributed-under: TianoCore Contribution Agreement 1.0
    Signed-off-by: Chao Zhang <chao.b.zhang@intel.com>
    Reviewed-by: Jiewen Yao <jiewen.yao@intel.com>
    Reviewed-by: Star Zeng <star.zeng@intel.com>

commit 119d8c42ab8b80301d6dbbac2ab19f67a7b2e617
Author: Yonghong Zhu <yonghong.zhu@intel.com>
Date:   Wed Sep 27 21:18:00 2017 +0800

    BaseTools: Fix the regression bug to build single module
    
    The bug is introduced by 1b8eca to collect single module's build time.
    Now the fix solution is copied from Platform build.
    
    Cc: Liming Gao <liming.gao@intel.com>
    Contributed-under: TianoCore Contribution Agreement 1.1
    Signed-off-by: Yonghong Zhu <yonghong.zhu@intel.com>
    Reviewed-by: Liming Gao <liming.gao@intel.com>

_______________________________________________
Xen-devel mailing list
Xen-devel@lists.xen.org
https://lists.xen.org/xen-devel

                 reply	other threads:[~2017-09-29  0:14 UTC|newest]

Thread overview: [no followups] expand[flat|nested]  mbox.gz  Atom feed

Reply instructions:

You may reply publicly to this message via plain-text email
using any one of the following methods:

* Save the following mbox file, import it into your mail client,
  and reply-to-all from there: mbox

  Avoid top-posting and favor interleaved quoting:
  https://en.wikipedia.org/wiki/Posting_style#Interleaved_style

* Reply using the --to, --cc, and --in-reply-to
  switches of git-send-email(1):

  git send-email \
    --in-reply-to=osstest-72171-mainreport@xen.org \
    --to=citrix-osstest@xenproject.org \
    --cc=osstest-admin@xenproject.org \
    --cc=xen-devel@lists.xensource.com \
    /path/to/YOUR_REPLY

  https://kernel.org/pub/software/scm/git/docs/git-send-email.html

* If your mail client supports setting the In-Reply-To header
  via mailto: links, try the mailto: link
Be sure your reply has a Subject: header at the top and a blank line before the message body.
This is a public inbox, see mirroring instructions
for how to clone and mirror all data and code used for this inbox;
as well as URLs for NNTP newsgroup(s).