xen-devel.lists.xenproject.org archive mirror
 help / color / mirror / Atom feed
* [ovmf baseline-only test] 72174: all pass
@ 2017-09-29  8:33 Platform Team regression test user
  0 siblings, 0 replies; only message in thread
From: Platform Team regression test user @ 2017-09-29  8:33 UTC (permalink / raw)
  To: xen-devel, osstest-admin

This run is configured for baseline tests only.

flight 72174 ovmf real [real]
http://osstest.xs.citrite.net/~osstest/testlogs/logs/72174/

Perfect :-)
All tests in this flight passed as required
version targeted for testing:
 ovmf                 de15f8b6eff892be8872f14fa000e425e82f9cff
baseline version:
 ovmf                 62634215f32015888561581a5aaf4a1ccaa546b1

Last test of basis    72173  2017-09-29 00:19:47 Z    0 days
Testing same since    72174  2017-09-29 05:21:26 Z    0 days    1 attempts

------------------------------------------------------------
People who touched revisions under test:
  Jiaxin Wu <jiaxin.wu@intel.com>
  Wu Jiaxin <jiaxin.wu@intel.com>

jobs:
 build-amd64-xsm                                              pass    
 build-i386-xsm                                               pass    
 build-amd64                                                  pass    
 build-i386                                                   pass    
 build-amd64-libvirt                                          pass    
 build-i386-libvirt                                           pass    
 build-amd64-pvops                                            pass    
 build-i386-pvops                                             pass    
 test-amd64-amd64-xl-qemuu-ovmf-amd64                         pass    
 test-amd64-i386-xl-qemuu-ovmf-amd64                          pass    


------------------------------------------------------------
sg-report-flight on osstest.xs.citrite.net
logs: /home/osstest/logs
images: /home/osstest/images

Logs, config files, etc. are available at
    http://osstest.xs.citrite.net/~osstest/testlogs/logs

Test harness code can be found at
    http://xenbits.xensource.com/gitweb?p=osstest.git;a=summary


Push not applicable.

------------------------------------------------------------
commit de15f8b6eff892be8872f14fa000e425e82f9cff
Author: Jiaxin Wu <jiaxin.wu@intel.com>
Date:   Thu Sep 28 13:22:58 2017 +0800

    NetworkPkg/HttpDxe: Clarify the usage of HttpConfigData in HTTP protocol
    
    Cc: Ye Ting <ting.ye@intel.com>
    Cc: Fu Siyuan <siyuan.fu@intel.com>
    Contributed-under: TianoCore Contribution Agreement 1.0
    Signed-off-by: Wu Jiaxin <jiaxin.wu@intel.com>
    Reviewed-by: Fu Siyuan <siyuan.fu@intel.com>
    Reviewed-by: Ye Ting <ting.ye@intel.com>

commit bf06b383e64d857418abf2387ad0eca3425b4244
Author: Jiaxin Wu <jiaxin.wu@intel.com>
Date:   Thu Sep 28 13:22:29 2017 +0800

    MdePkg/Http.h: Clarify the usage of HttpConfigData in HTTP protocol
    
    Cc: Ye Ting <ting.ye@intel.com>
    Cc: Fu Siyuan <siyuan.fu@intel.com>
    Contributed-under: TianoCore Contribution Agreement 1.0
    Signed-off-by: Wu Jiaxin <jiaxin.wu@intel.com>
    Reviewed-by: Fu Siyuan <siyuan.fu@intel.com>
    Reviewed-by: Ye Ting <ting.ye@intel.com>

commit 69cc013ca5225650d7c5b11d142b4c3bb1eec042
Author: Jiaxin Wu <jiaxin.wu@intel.com>
Date:   Thu Sep 28 12:56:20 2017 +0800

    NetworkPkg/UefiPxeBcDxe: Fix the redundant condition check
    
    Cc: Santhapur Naveen <naveens@amiindia.co.in>
    Cc: Ye Ting <ting.ye@intel.com>
    Cc: Fu Siyuan <siyuan.fu@intel.com>
    Contributed-under: TianoCore Contribution Agreement 1.0
    Signed-off-by: Wu Jiaxin <jiaxin.wu@intel.com>
    Reviewed-by: Fu Siyuan <siyuan.fu@intel.com>
    Reviewed-by: Ye Ting <ting.ye@intel.com>

_______________________________________________
Xen-devel mailing list
Xen-devel@lists.xen.org
https://lists.xen.org/xen-devel

^ permalink raw reply	[flat|nested] only message in thread

only message in thread, other threads:[~2017-09-29  8:33 UTC | newest]

Thread overview: (only message) (download: mbox.gz follow: Atom feed
-- links below jump to the message on this page --
2017-09-29  8:33 [ovmf baseline-only test] 72174: all pass Platform Team regression test user

This is a public inbox, see mirroring instructions
for how to clone and mirror all data and code used for this inbox;
as well as URLs for NNTP newsgroup(s).