* [ovmf baseline-only test] 72176: all pass
@ 2017-09-29 10:38 Platform Team regression test user
0 siblings, 0 replies; only message in thread
From: Platform Team regression test user @ 2017-09-29 10:38 UTC (permalink / raw)
To: xen-devel, osstest-admin
This run is configured for baseline tests only.
flight 72176 ovmf real [real]
http://osstest.xs.citrite.net/~osstest/testlogs/logs/72176/
Perfect :-)
All tests in this flight passed as required
version targeted for testing:
ovmf 4c34a8ea191155f438901e635bd87810072b19a4
baseline version:
ovmf de15f8b6eff892be8872f14fa000e425e82f9cff
Last test of basis 72174 2017-09-29 05:21:26 Z 0 days
Testing same since 72176 2017-09-29 08:47:35 Z 0 days 1 attempts
------------------------------------------------------------
People who touched revisions under test:
Chris Ruffin <chris.ruffin@intel.com>
Dandan Bi <dandan.bi@intel.com>
Eric Dong <eric.dong@intel.com>
Hao Wu <hao.a.wu@intel.com>
jobs:
build-amd64-xsm pass
build-i386-xsm pass
build-amd64 pass
build-i386 pass
build-amd64-libvirt pass
build-i386-libvirt pass
build-amd64-pvops pass
build-i386-pvops pass
test-amd64-amd64-xl-qemuu-ovmf-amd64 pass
test-amd64-i386-xl-qemuu-ovmf-amd64 pass
------------------------------------------------------------
sg-report-flight on osstest.xs.citrite.net
logs: /home/osstest/logs
images: /home/osstest/images
Logs, config files, etc. are available at
http://osstest.xs.citrite.net/~osstest/testlogs/logs
Test harness code can be found at
http://xenbits.xensource.com/gitweb?p=osstest.git;a=summary
Push not applicable.
------------------------------------------------------------
commit 4c34a8ea191155f438901e635bd87810072b19a4
Author: Chris Ruffin <chris.ruffin@intel.com>
Date: Thu Sep 28 09:51:44 2017 +0800
UefiCpuPkg/SmmCpuFeaturesLib: replace hard-coded machine code
Replace hard-coded machine code with equivalent assembly source code.
Changes tested by checking for machine code equivalence by disassembling
the original and changed code.
Contributed-under: TianoCore Contribution Agreement 1.0
Signed-off-by: Chris Ruffin <chris.ruffin@intel.com>
Cc: Jiewen Yao <jiewen.yao@intel.com>
Cc: Michael D Kinney <michael.d.kinney@intel.com>
Reviewed-by: Eric Dong <eric.dong@intel.com>
commit 94744aa2ce31797bd74a6e579dc34bcb406d4332
Author: Eric Dong <eric.dong@intel.com>
Date: Thu Sep 28 17:12:38 2017 +0800
UefiCpuPkg/PiSmmCpuDxeSmm: Refine code to avoid duplicated code.
V2:
Change function parameter to avoid touch global info in function.
Enhance function name, make it more user friendly
V1:
Refine code to avoid duplicate code to set processor register.
Cc: Jiewen Yao <jiewen.yao@intel.com>
Cc: Ruiyu Ni <ruiyu.ni@intel.com>
Contributed-under: TianoCore Contribution Agreement 1.1
Signed-off-by: Eric Dong <eric.dong@intel.com>
Reviewed-by: Ruiyu Ni <ruiyu.ni@intel.com>
commit 7677b4db62975121a6478e8d31a314c8624cacd3
Author: Eric Dong <eric.dong@intel.com>
Date: Thu Sep 28 16:57:35 2017 +0800
UefiCpuPkg/PiSmmCpuDxeSmm: Combine INIT-SIPI-SIPI.
In S3 resume path, current implementation do 2 separate INIT-SIPI-SIPI,
this is not necessary. This change combine these 2 INIT-SIPI-SIPI to 1
and add CpuPause between them.
Cc: Jiewen Yao <jiewen.yao@intel.com>
Cc: Ruiyu Ni <ruiyu.ni@intel.com>
Contributed-under: TianoCore Contribution Agreement 1.1
Signed-off-by: Eric Dong <eric.dong@intel.com>
Reviewed-by: Ruiyu Ni <ruiyu.ni@intel.com>
commit b6e0f0c6d1f6b8e3e2f7be546c63e9387bdf3c9b
Author: Dandan Bi <dandan.bi@intel.com>
Date: Thu Sep 28 10:25:23 2017 +0800
ShellPkg/Dh: Refine variable naming style
Avoid using only lower-case characters for variable name.
Cc: Ruiyu Ni <ruiyu.ni@intel.com>
Cc: Jaben Carsey <jaben.carsey@intel.com>
Contributed-under: TianoCore Contribution Agreement 1.1
Signed-off-by: Dandan Bi <dandan.bi@intel.com>
Reviewed-by: Ruiyu Ni <ruiyu.ni@intel.com>
Reviewed-by: Jaben Carsey <jaben.carsey@intel.com>
commit 770f3f6144b47b7b52f2fb6b3f7f532630f2fc32
Author: Hao Wu <hao.a.wu@intel.com>
Date: Wed Sep 27 19:15:24 2017 +0800
ShellPkg/dh: Add the 'dh' dump support for Partition Info protocol
REF: https://bugzilla.tianocore.org/show_bug.cgi?id=655
V2 change:
Put some strings into the UNI file for localization.
The dump information will include:
a. The type of the partition (Mbr, Gpt or Other);
b. Whether the partition is an EFI System Partition.
Contributed-under: TianoCore Contribution Agreement 1.1
Signed-off-by: Hao Wu <hao.a.wu@intel.com>
Reviewed-by: Ruiyu Ni <ruiyu.ni@intel.com>
Reviewed-by: Jaben Carsey <jaben.carsey@intel.com>
_______________________________________________
Xen-devel mailing list
Xen-devel@lists.xen.org
https://lists.xen.org/xen-devel
^ permalink raw reply [flat|nested] only message in thread
only message in thread, other threads:[~2017-09-29 10:38 UTC | newest]
Thread overview: (only message) (download: mbox.gz follow: Atom feed
-- links below jump to the message on this page --
2017-09-29 10:38 [ovmf baseline-only test] 72176: all pass Platform Team regression test user
This is a public inbox, see mirroring instructions
for how to clone and mirror all data and code used for this inbox;
as well as URLs for NNTP newsgroup(s).