xen-devel.lists.xenproject.org archive mirror
 help / color / mirror / Atom feed
* [ovmf baseline-only test] 72226: all pass
@ 2017-10-11  4:21 Platform Team regression test user
  0 siblings, 0 replies; only message in thread
From: Platform Team regression test user @ 2017-10-11  4:21 UTC (permalink / raw)
  To: xen-devel, osstest-admin

This run is configured for baseline tests only.

flight 72226 ovmf real [real]
http://osstest.xs.citrite.net/~osstest/testlogs/logs/72226/

Perfect :-)
All tests in this flight passed as required
version targeted for testing:
 ovmf                 3673214c6e0eb94de9e52221cca454a3ba5976ab
baseline version:
 ovmf                 728d74973c9262b6c7b7ef4be213223d55affec3

Last test of basis    72221  2017-10-09 14:17:32 Z    1 days
Testing same since    72226  2017-10-11 02:23:02 Z    0 days    1 attempts

------------------------------------------------------------
People who touched revisions under test:
  Eric Dong <eric.dong@intel.com>
  Hao Wu <hao.a.wu@intel.com>
  Ladi Prosek <lprosek@redhat.com>
  Laszlo Ersek <lersek@redhat.com>
  Liming Gao <liming.gao@intel.com>
  Ruiyu Ni <ruiyu.ni@intel.com>
  Yonghong Zhu <yonghong.zhu@intel.com>

jobs:
 build-amd64-xsm                                              pass    
 build-i386-xsm                                               pass    
 build-amd64                                                  pass    
 build-i386                                                   pass    
 build-amd64-libvirt                                          pass    
 build-i386-libvirt                                           pass    
 build-amd64-pvops                                            pass    
 build-i386-pvops                                             pass    
 test-amd64-amd64-xl-qemuu-ovmf-amd64                         pass    
 test-amd64-i386-xl-qemuu-ovmf-amd64                          pass    


------------------------------------------------------------
sg-report-flight on osstest.xs.citrite.net
logs: /home/osstest/logs
images: /home/osstest/images

Logs, config files, etc. are available at
    http://osstest.xs.citrite.net/~osstest/testlogs/logs

Test harness code can be found at
    http://xenbits.xensource.com/gitweb?p=osstest.git;a=summary


Push not applicable.

(No revision log; it would be 498 lines long.)

_______________________________________________
Xen-devel mailing list
Xen-devel@lists.xen.org
https://lists.xen.org/xen-devel

^ permalink raw reply	[flat|nested] only message in thread

only message in thread, other threads:[~2017-10-11  4:21 UTC | newest]

Thread overview: (only message) (download: mbox.gz follow: Atom feed
-- links below jump to the message on this page --
2017-10-11  4:21 [ovmf baseline-only test] 72226: all pass Platform Team regression test user

This is a public inbox, see mirroring instructions
for how to clone and mirror all data and code used for this inbox;
as well as URLs for NNTP newsgroup(s).