xen-devel.lists.xenproject.org archive mirror
 help / color / mirror / Atom feed
* [ovmf baseline-only test] 74952: all pass
@ 2018-07-11  7:03 Platform Team regression test user
  0 siblings, 0 replies; only message in thread
From: Platform Team regression test user @ 2018-07-11  7:03 UTC (permalink / raw)
  To: xen-devel, osstest-admin

This run is configured for baseline tests only.

flight 74952 ovmf real [real]
http://osstest.xs.citrite.net/~osstest/testlogs/logs/74952/

Perfect :-)
All tests in this flight passed as required
version targeted for testing:
 ovmf                 e4e314b1b6b74c46da3c0493e7a807df28cb9aed
baseline version:
 ovmf                 9edba51f93d8e81e09f905afc994efe02dbe524e

Last test of basis    74951  2018-07-10 14:50:13 Z    0 days
Testing same since    74952  2018-07-11 05:19:50 Z    0 days    1 attempts

------------------------------------------------------------
People who touched revisions under test:
  Eric Dong <eric.dong@intel.com>

jobs:
 build-amd64-xsm                                              pass    
 build-i386-xsm                                               pass    
 build-amd64                                                  pass    
 build-i386                                                   pass    
 build-amd64-libvirt                                          pass    
 build-i386-libvirt                                           pass    
 build-amd64-pvops                                            pass    
 build-i386-pvops                                             pass    
 test-amd64-amd64-xl-qemuu-ovmf-amd64                         pass    
 test-amd64-i386-xl-qemuu-ovmf-amd64                          pass    


------------------------------------------------------------
sg-report-flight on osstest.xs.citrite.net
logs: /home/osstest/logs
images: /home/osstest/images

Logs, config files, etc. are available at
    http://osstest.xs.citrite.net/~osstest/testlogs/logs

Test harness code can be found at
    http://xenbits.xensource.com/gitweb?p=osstest.git;a=summary


Push not applicable.

------------------------------------------------------------
commit e4e314b1b6b74c46da3c0493e7a807df28cb9aed
Author: Eric Dong <eric.dong@intel.com>
Date:   Tue Jul 10 10:30:20 2018 +0800

    SecurityPkg/OpalPassword: Fixed input correct password not works issue
    
    When user input error password exceed the max allowed times, opal device
    will return Invalid type error code even user input the correct password.
    In this case, opal driver needs to force user shutdown the system before
    let user input new password.
    
    Cc: Hao Wu <hao.a.wu@intel.com>
    Contributed-under: TianoCore Contribution Agreement 1.1
    Signed-off-by: Eric Dong <eric.dong@intel.com>
    Reviewed-by: Hao Wu <hao.a.wu@intel.com>

commit 54ae532cd4fded97a2a9f55eb87fab86063a0f07
Author: Eric Dong <eric.dong@intel.com>
Date:   Tue Jul 10 10:24:30 2018 +0800

    SecurityPkg/TcgStorageOpalLib: Return AUTHORITY_LOCKED_OUT error.
    
    Caller need to known this error to handle specially, but current
    error status not has specified value for this type. In order to
    keep compatibility, here use TcgResultFailureInvalidType as an
    replacement.
    
    Cc: Hao Wu <hao.a.wu@intel.com>
    Contributed-under: TianoCore Contribution Agreement 1.1
    Signed-off-by: Eric Dong <eric.dong@intel.com>
    Reviewed-by: Hao Wu <hao.a.wu@intel.com>

_______________________________________________
Xen-devel mailing list
Xen-devel@lists.xenproject.org
https://lists.xenproject.org/mailman/listinfo/xen-devel

^ permalink raw reply	[flat|nested] only message in thread

only message in thread, other threads:[~2018-07-11  7:03 UTC | newest]

Thread overview: (only message) (download: mbox.gz follow: Atom feed
-- links below jump to the message on this page --
2018-07-11  7:03 [ovmf baseline-only test] 74952: all pass Platform Team regression test user

This is a public inbox, see mirroring instructions
for how to clone and mirror all data and code used for this inbox;
as well as URLs for NNTP newsgroup(s).