* [ovmf baseline-only test] 74962: all pass
@ 2018-07-12 20:46 Platform Team regression test user
0 siblings, 0 replies; only message in thread
From: Platform Team regression test user @ 2018-07-12 20:46 UTC (permalink / raw)
To: xen-devel, osstest-admin
This run is configured for baseline tests only.
flight 74962 ovmf real [real]
http://osstest.xs.citrite.net/~osstest/testlogs/logs/74962/
Perfect :-)
All tests in this flight passed as required
version targeted for testing:
ovmf 0a563f3fecfd9baffe8dce51bb4411d6a748a936
baseline version:
ovmf 895b87e38015e0698c6a5c0633e0156b038a56f1
Last test of basis 74959 2018-07-12 05:24:33 Z 0 days
Testing same since 74962 2018-07-12 13:27:56 Z 0 days 1 attempts
------------------------------------------------------------
People who touched revisions under test:
Bob Feng <bob.c.feng@intel.com>
bob.c.feng@intel.com <bob.c.feng@intel.com>
Laszlo Ersek <lersek@redhat.com>
Ni, Ruiyu <ruiyu.ni@intel.com>
Ruiyu Ni <ruiyu.ni@intel.com>
jobs:
build-amd64-xsm pass
build-i386-xsm pass
build-amd64 pass
build-i386 pass
build-amd64-libvirt pass
build-i386-libvirt pass
build-amd64-pvops pass
build-i386-pvops pass
test-amd64-amd64-xl-qemuu-ovmf-amd64 pass
test-amd64-i386-xl-qemuu-ovmf-amd64 pass
------------------------------------------------------------
sg-report-flight on osstest.xs.citrite.net
logs: /home/osstest/logs
images: /home/osstest/images
Logs, config files, etc. are available at
http://osstest.xs.citrite.net/~osstest/testlogs/logs
Test harness code can be found at
http://xenbits.xensource.com/gitweb?p=osstest.git;a=summary
Push not applicable.
------------------------------------------------------------
commit 0a563f3fecfd9baffe8dce51bb4411d6a748a936
Author: bob.c.feng@intel.com <bob.c.feng@intel.com>
Date: Wed Jul 11 00:19:24 2018 +0800
BaseTool: Fixed the incorrect cache key.
This patch is to fix the incorrect cache key of
skip ModuleAutoGen cache.
Contributed-under: TianoCore Contribution Agreement 1.1
Signed-off-by: Bob Feng <bob.c.feng@intel.com>
Cc: Liming Gao <liming.gao@intel.com>
Reviewed-by: Liming Gao <liming.gao@intel.com>
commit c563077a380437c114aba4c95be65eb963ebc1f3
Author: Ni, Ruiyu <ruiyu.ni@intel.com>
Date: Mon Jul 2 14:01:35 2018 +0800
UefiCpuPkg/MpInitLib: Avoid calling PEI services from AP
Today's MpInitLib PEI implementation directly calls
PeiServices->GetHobList() from AP which may cause racing issue.
This patch fixes this issue by duplicating IDT for APs.
Because CpuMpData structure is stored just after IDT, the CpuMPData
address equals to IDTR.BASE + IDTR.LIMIT + 1.
v2:
1. Add ALIGN_VALUE() on BufferSize.
2. Add ASSERT() to make sure no memory usage outside of the allocated buffer.
3. Add more comments in InitConfig path when restoring CpuData[0].VolatileRegisters.
Cc: Jeff Fan <vanjeff_919@hotmail.com>
Cc: Eric Dong <eric.dong@intel.com>
Cc: Jiewen Yao <jiewen.yao@intel.com>
Cc: Fish Andrew <afish@apple.com>
Cc: Laszlo Ersek <lersek@redhat.com>
Contributed-under: TianoCore Contribution Agreement 1.1
Signed-off-by: Ruiyu Ni <ruiyu.ni@intel.com>
Reviewed-by: Eric Dong <eric.dong@intel.com>
Acked-by: Laszlo Ersek <lersek@redhat.com>
Tested-by: Laszlo Ersek <lersek@redhat.com>
_______________________________________________
Xen-devel mailing list
Xen-devel@lists.xenproject.org
https://lists.xenproject.org/mailman/listinfo/xen-devel
^ permalink raw reply [flat|nested] only message in thread
only message in thread, other threads:[~2018-07-12 20:46 UTC | newest]
Thread overview: (only message) (download: mbox.gz follow: Atom feed
-- links below jump to the message on this page --
2018-07-12 20:46 [ovmf baseline-only test] 74962: all pass Platform Team regression test user
This is a public inbox, see mirroring instructions
for how to clone and mirror all data and code used for this inbox;
as well as URLs for NNTP newsgroup(s).