From: Platform Team regression test user <citrix-osstest@xenproject.org>
To: xen-devel@lists.xenproject.org, osstest-admin@xenproject.org
Subject: [ovmf baseline-only test] 74965: all pass
Date: Fri, 13 Jul 2018 10:52:30 +0100 [thread overview]
Message-ID: <osstest-74965-mainreport@xen.org> (raw)
This run is configured for baseline tests only.
flight 74965 ovmf real [real]
http://osstest.xs.citrite.net/~osstest/testlogs/logs/74965/
Perfect :-)
All tests in this flight passed as required
version targeted for testing:
ovmf 0c6f94dae5e3ca57fe6093ce2fa4d78fdd061857
baseline version:
ovmf 79b10d4ce4f08aab4b9548fabc4542ca78a96247
Last test of basis 74963 2018-07-13 01:20:21 Z 0 days
Testing same since 74965 2018-07-13 06:52:41 Z 0 days 1 attempts
------------------------------------------------------------
People who touched revisions under test:
Star Zeng <star.zeng@intel.com>
jobs:
build-amd64-xsm pass
build-i386-xsm pass
build-amd64 pass
build-i386 pass
build-amd64-libvirt pass
build-i386-libvirt pass
build-amd64-pvops pass
build-i386-pvops pass
test-amd64-amd64-xl-qemuu-ovmf-amd64 pass
test-amd64-i386-xl-qemuu-ovmf-amd64 pass
------------------------------------------------------------
sg-report-flight on osstest.xs.citrite.net
logs: /home/osstest/logs
images: /home/osstest/images
Logs, config files, etc. are available at
http://osstest.xs.citrite.net/~osstest/testlogs/logs
Test harness code can be found at
http://xenbits.xensource.com/gitweb?p=osstest.git;a=summary
Push not applicable.
------------------------------------------------------------
commit 0c6f94dae5e3ca57fe6093ce2fa4d78fdd061857
Author: Star Zeng <star.zeng@intel.com>
Date: Wed Jul 11 11:48:37 2018 +0800
MdeModulePkg CapsuleApp: Fix typo EFI_CAPSULE_RPORT_GUID
Cc: Michael D Kinney <michael.d.kinney@intel.com>
Cc: Jiewen Yao <jiewen.yao@intel.com>
Cc: Yonghong Zhu <yonghong.zhu@intel.com>
Contributed-under: TianoCore Contribution Agreement 1.1
Signed-off-by: Star Zeng <star.zeng@intel.com>
Reviewed-by: Jiewen Yao <jiewen.yao@intel.com>
commit 045bb323647c8a2e2f3b319ec5aedff34a730ab0
Author: Star Zeng <star.zeng@intel.com>
Date: Wed Jul 11 11:47:24 2018 +0800
MdeModulePkg CapsuleApp: Refine -D option help information
Cc: Michael D Kinney <michael.d.kinney@intel.com>
Cc: Jiewen Yao <jiewen.yao@intel.com>
Cc: Yonghong Zhu <yonghong.zhu@intel.com>
Contributed-under: TianoCore Contribution Agreement 1.1
Signed-off-by: Star Zeng <star.zeng@intel.com>
Reviewed-by: Jiewen Yao <jiewen.yao@intel.com>
commit 1c6dd45b9b3359d5c9d4d2a09ec05f81ad9ccaef
Author: Star Zeng <star.zeng@intel.com>
Date: Wed Jul 11 11:45:50 2018 +0800
MdeModulePkg CapsuleApp: Check Arg count for -D option
Cc: Michael D Kinney <michael.d.kinney@intel.com>
Cc: Jiewen Yao <jiewen.yao@intel.com>
Cc: Yonghong Zhu <yonghong.zhu@intel.com>
Contributed-under: TianoCore Contribution Agreement 1.1
Signed-off-by: Star Zeng <star.zeng@intel.com>
Reviewed-by: Jiewen Yao <jiewen.yao@intel.com>
_______________________________________________
Xen-devel mailing list
Xen-devel@lists.xenproject.org
https://lists.xenproject.org/mailman/listinfo/xen-devel
reply other threads:[~2018-07-13 9:52 UTC|newest]
Thread overview: [no followups] expand[flat|nested] mbox.gz Atom feed
Reply instructions:
You may reply publicly to this message via plain-text email
using any one of the following methods:
* Save the following mbox file, import it into your mail client,
and reply-to-all from there: mbox
Avoid top-posting and favor interleaved quoting:
https://en.wikipedia.org/wiki/Posting_style#Interleaved_style
* Reply using the --to, --cc, and --in-reply-to
switches of git-send-email(1):
git send-email \
--in-reply-to=osstest-74965-mainreport@xen.org \
--to=citrix-osstest@xenproject.org \
--cc=osstest-admin@xenproject.org \
--cc=xen-devel@lists.xenproject.org \
/path/to/YOUR_REPLY
https://kernel.org/pub/software/scm/git/docs/git-send-email.html
* If your mail client supports setting the In-Reply-To header
via mailto: links, try the mailto: link
Be sure your reply has a Subject: header at the top and a blank line
before the message body.
This is a public inbox, see mirroring instructions
for how to clone and mirror all data and code used for this inbox;
as well as URLs for NNTP newsgroup(s).