xen-devel.lists.xenproject.org archive mirror
 help / color / mirror / Atom feed
* [ovmf baseline-only test] 74966: all pass
@ 2018-07-13 12:30 Platform Team regression test user
  0 siblings, 0 replies; only message in thread
From: Platform Team regression test user @ 2018-07-13 12:30 UTC (permalink / raw)
  To: xen-devel, osstest-admin

This run is configured for baseline tests only.

flight 74966 ovmf real [real]
http://osstest.xs.citrite.net/~osstest/testlogs/logs/74966/

Perfect :-)
All tests in this flight passed as required
version targeted for testing:
 ovmf                 280f49b81170aee9176a47085b168ff3bc9fd3e7
baseline version:
 ovmf                 0c6f94dae5e3ca57fe6093ce2fa4d78fdd061857

Last test of basis    74965  2018-07-13 06:52:41 Z    0 days
Testing same since    74966  2018-07-13 10:22:34 Z    0 days    1 attempts

------------------------------------------------------------
People who touched revisions under test:
  Jiaxin Wu <jiaxin.wu@intel.com>
  Wu Jiaxin <jiaxin.wu@intel.com>

jobs:
 build-amd64-xsm                                              pass    
 build-i386-xsm                                               pass    
 build-amd64                                                  pass    
 build-i386                                                   pass    
 build-amd64-libvirt                                          pass    
 build-i386-libvirt                                           pass    
 build-amd64-pvops                                            pass    
 build-i386-pvops                                             pass    
 test-amd64-amd64-xl-qemuu-ovmf-amd64                         pass    
 test-amd64-i386-xl-qemuu-ovmf-amd64                          pass    


------------------------------------------------------------
sg-report-flight on osstest.xs.citrite.net
logs: /home/osstest/logs
images: /home/osstest/images

Logs, config files, etc. are available at
    http://osstest.xs.citrite.net/~osstest/testlogs/logs

Test harness code can be found at
    http://xenbits.xensource.com/gitweb?p=osstest.git;a=summary


Push not applicable.

------------------------------------------------------------
commit 280f49b81170aee9176a47085b168ff3bc9fd3e7
Author: Jiaxin Wu <jiaxin.wu@intel.com>
Date:   Thu Apr 26 14:13:57 2018 +0800

    ShellPkg/TftpDynamicCommand: Fix the potential assertion and memory leak issue.
    
    This patch is to fix the issue reported from
    https://bugzilla.tianocore.org/show_bug.cgi?id=925.
    
    DataSize variable was not assigned the value if ShellOpenFileByName returns error.
    In the such a case, it should not be used to FreePages. Instead, DataSize can be
    used to record the file size once DownloadFile successfully.
    
    Cc: Ye Ting <ting.ye@intel.com>
    Cc: Fu Siyuan <siyuan.fu@intel.com>
    Cc: Jaben Carsey <jaben.carsey@intel.com>
    Contributed-under: TianoCore Contribution Agreement 1.0
    Signed-off-by: Wu Jiaxin <jiaxin.wu@intel.com>
    Reviewed-by: Fu Siyuan <siyuan.fu@intel.com>
    Reviewed-by: Jaben Carsey <jaben.carsey@intel.com>

_______________________________________________
Xen-devel mailing list
Xen-devel@lists.xenproject.org
https://lists.xenproject.org/mailman/listinfo/xen-devel

^ permalink raw reply	[flat|nested] only message in thread

only message in thread, other threads:[~2018-07-13 12:31 UTC | newest]

Thread overview: (only message) (download: mbox.gz follow: Atom feed
-- links below jump to the message on this page --
2018-07-13 12:30 [ovmf baseline-only test] 74966: all pass Platform Team regression test user

This is a public inbox, see mirroring instructions
for how to clone and mirror all data and code used for this inbox;
as well as URLs for NNTP newsgroup(s).