From: Platform Team regression test user <citrix-osstest@xenproject.org>
To: xen-devel@lists.xenproject.org, osstest-admin@xenproject.org
Subject: [ovmf baseline-only test] 74967: all pass
Date: Fri, 13 Jul 2018 15:33:28 +0100 [thread overview]
Message-ID: <osstest-74967-mainreport@xen.org> (raw)
This run is configured for baseline tests only.
flight 74967 ovmf real [real]
http://osstest.xs.citrite.net/~osstest/testlogs/logs/74967/
Perfect :-)
All tests in this flight passed as required
version targeted for testing:
ovmf ae08ea246fe9b4a4e05b7ee6cdbd5b0fa38f3f69
baseline version:
ovmf 280f49b81170aee9176a47085b168ff3bc9fd3e7
Last test of basis 74966 2018-07-13 10:22:34 Z 0 days
Testing same since 74967 2018-07-13 12:49:38 Z 0 days 1 attempts
------------------------------------------------------------
People who touched revisions under test:
Laszlo Ersek <lersek@redhat.com>
jobs:
build-amd64-xsm pass
build-i386-xsm pass
build-amd64 pass
build-i386 pass
build-amd64-libvirt pass
build-i386-libvirt pass
build-amd64-pvops pass
build-i386-pvops pass
test-amd64-amd64-xl-qemuu-ovmf-amd64 pass
test-amd64-i386-xl-qemuu-ovmf-amd64 pass
------------------------------------------------------------
sg-report-flight on osstest.xs.citrite.net
logs: /home/osstest/logs
images: /home/osstest/images
Logs, config files, etc. are available at
http://osstest.xs.citrite.net/~osstest/testlogs/logs
Test harness code can be found at
http://xenbits.xensource.com/gitweb?p=osstest.git;a=summary
Push not applicable.
------------------------------------------------------------
commit ae08ea246fe9b4a4e05b7ee6cdbd5b0fa38f3f69
Author: Laszlo Ersek <lersek@redhat.com>
Date: Fri Jul 13 01:41:12 2018 +0200
ArmVirtPkg/ArmVirtQemu: enable the IPv6 stack
Add the IPv6 stack to ArmVirtQemu with a cumulative port of the following
OvmfPkg commits:
* 36c6413f76e5 "OvmfPkg: enable the IPv6 support", 2014-12-19
* 96302b80d90e "OvmfPkg: Enable Network2 Shell Commands for IPv6",
2016-03-08
* 6d0f8941bdc2 "OvmfPkg: always resolve OpenSslLib, IntrinsicLib and
BaseCryptLib", 2017-01-17
* 32e22f20c985 "OvmfPkg: correct the IScsiDxe module included for the IPv6
stack", 2017-01-17
The IPv6-enabled IScsiDxe driver depends on BaseCryptLib, and the
"CryptoPkg/Library/BaseCryptLib/BaseCryptLib.inf" instance depends on
IntrinsicLib and OpensslLib. This is why commit 6d0f8941bdc2 is relevant.
However, unlike in OvmfPkg, in ArmVirtPkg we'll precisely track the
firmware features that require these library classes. (The OvmfPkg
discussion was quite complex, and the OvmfPkg solution was a compromise:
<http://mid.mail-archive.com/1484569332-13440-1-git-send-email-jiaxin.wu@intel.com>.)
The ArmVirtXen platform is not extended with the relevant drivers because
currently it doesn't include any networking support.
Cc: Julien Grall <julien.grall@linaro.org>
Ref: https://bugzilla.tianocore.org/show_bug.cgi?id=1007
Contributed-under: TianoCore Contribution Agreement 1.1
Signed-off-by: Laszlo Ersek <lersek@redhat.com>
Reviewed-by: Ard Biesheuvel <ard.biesheuvel@linaro.org>
commit 77b702bfa4947caaa6b4b04730820d91bdf07b03
Author: Laszlo Ersek <lersek@redhat.com>
Date: Fri Jul 13 01:41:11 2018 +0200
ArmVirtPkg: unify HttpLib resolutions in "ArmVirt.dsc.inc"
We already resolve a number of networking-related library classes in
ArmVirt.dsc.inc; follow suit with HttpLib.
Cc: Julien Grall <julien.grall@linaro.org>
Ref: https://bugzilla.tianocore.org/show_bug.cgi?id=1007
Contributed-under: TianoCore Contribution Agreement 1.1
Signed-off-by: Laszlo Ersek <lersek@redhat.com>
Reviewed-by: Ard Biesheuvel <ard.biesheuvel@linaro.org>
_______________________________________________
Xen-devel mailing list
Xen-devel@lists.xenproject.org
https://lists.xenproject.org/mailman/listinfo/xen-devel
reply other threads:[~2018-07-13 14:34 UTC|newest]
Thread overview: [no followups] expand[flat|nested] mbox.gz Atom feed
Reply instructions:
You may reply publicly to this message via plain-text email
using any one of the following methods:
* Save the following mbox file, import it into your mail client,
and reply-to-all from there: mbox
Avoid top-posting and favor interleaved quoting:
https://en.wikipedia.org/wiki/Posting_style#Interleaved_style
* Reply using the --to, --cc, and --in-reply-to
switches of git-send-email(1):
git send-email \
--in-reply-to=osstest-74967-mainreport@xen.org \
--to=citrix-osstest@xenproject.org \
--cc=osstest-admin@xenproject.org \
--cc=xen-devel@lists.xenproject.org \
/path/to/YOUR_REPLY
https://kernel.org/pub/software/scm/git/docs/git-send-email.html
* If your mail client supports setting the In-Reply-To header
via mailto: links, try the mailto: link
Be sure your reply has a Subject: header at the top and a blank line
before the message body.
This is a public inbox, see mirroring instructions
for how to clone and mirror all data and code used for this inbox;
as well as URLs for NNTP newsgroup(s).