xen-devel.lists.xenproject.org archive mirror
 help / color / mirror / Atom feed
* [ovmf baseline-only test] 75190: trouble: blocked/broken
@ 2018-09-10 14:33 Platform Team regression test user
  0 siblings, 0 replies; only message in thread
From: Platform Team regression test user @ 2018-09-10 14:33 UTC (permalink / raw)
  To: xen-devel, osstest-admin

This run is configured for baseline tests only.

flight 75190 ovmf real [real]
http://osstest.xensource.com/osstest/logs/75190/

Failures and problems with tests :-(

Tests which did not succeed and are blocking,
including tests which could not be run:
 build-amd64-xsm                 <job status>                 broken
 build-i386                      <job status>                 broken
 build-amd64-pvops               <job status>                 broken
 build-i386-xsm                  <job status>                 broken
 build-amd64                     <job status>                 broken
 build-i386-pvops                <job status>                 broken

Tests which did not succeed, but are not blocking:
 test-amd64-amd64-xl-qemuu-ovmf-amd64  1 build-check(1)             blocked n/a
 build-amd64-libvirt           1 build-check(1)               blocked  n/a
 test-amd64-i386-xl-qemuu-ovmf-amd64  1 build-check(1)              blocked n/a
 build-i386-libvirt            1 build-check(1)               blocked  n/a
 build-i386                    4 host-install(4)       broken baseline untested
 build-i386-pvops              4 host-install(4)       broken baseline untested
 build-i386-xsm                4 host-install(4)       broken baseline untested
 build-amd64-pvops             4 host-install(4)       broken baseline untested
 build-amd64-xsm               4 host-install(4)       broken baseline untested
 build-amd64                   4 host-install(4)       broken baseline untested

version targeted for testing:
 ovmf                 4b2dc555d8a67e715d8fafab4c9131791d31a788
baseline version:
 ovmf                 40a7b235e4359b4e2eb4d379d1c543b9cae11346

Last test of basis    75178  2018-09-08 03:51:35 Z    2 days
Testing same since    75190  2018-09-10 07:50:14 Z    0 days    1 attempts

------------------------------------------------------------
People who touched revisions under test:
  Fu Siyuan <siyuan.fu@intel.com>

jobs:
 build-amd64-xsm                                              broken  
 build-i386-xsm                                               broken  
 build-amd64                                                  broken  
 build-i386                                                   broken  
 build-amd64-libvirt                                          blocked 
 build-i386-libvirt                                           blocked 
 build-amd64-pvops                                            broken  
 build-i386-pvops                                             broken  
 test-amd64-amd64-xl-qemuu-ovmf-amd64                         blocked 
 test-amd64-i386-xl-qemuu-ovmf-amd64                          blocked 


------------------------------------------------------------
sg-report-flight on osstest.xs.citrite.net
logs: /home/osstest/logs
images: /home/osstest/images

Logs, config files, etc. are available at
    http://osstest.xensource.com/osstest/logs

Test harness code can be found at
    http://xenbits.xensource.com/gitweb?p=osstest.git;a=summary

broken-job build-amd64-xsm broken
broken-job build-i386 broken
broken-job build-amd64-pvops broken
broken-job build-i386-xsm broken
broken-job build-amd64 broken
broken-job build-i386-pvops broken
broken-step build-i386 host-install(4)
broken-step build-i386-pvops host-install(4)
broken-step build-i386-xsm host-install(4)
broken-step build-amd64-pvops host-install(4)
broken-step build-amd64-xsm host-install(4)
broken-step build-amd64 host-install(4)

Push not applicable.

------------------------------------------------------------
commit 4b2dc555d8a67e715d8fafab4c9131791d31a788
Author: Fu Siyuan <siyuan.fu@intel.com>
Date:   Fri Sep 7 16:47:30 2018 +0800

    ShellPkg: Remove trailing white space
    
    REF: https://bugzilla.tianocore.org/show_bug.cgi?id=1158
    
    Cc: Ruiyu Ni <ruiyu.ni@intel.com>
    Cc: Jaben Carsey <jaben.carsey@intel.com>
    Contributed-under: TianoCore Contribution Agreement 1.1
    Signed-off-by: Fu Siyuan <siyuan.fu@intel.com>
    Reviewed-by: Ruiyu Ni <ruiyu.ni@intel.com>

_______________________________________________
Xen-devel mailing list
Xen-devel@lists.xenproject.org
https://lists.xenproject.org/mailman/listinfo/xen-devel

^ permalink raw reply	[flat|nested] only message in thread

only message in thread, other threads:[~2018-09-10 14:33 UTC | newest]

Thread overview: (only message) (download: mbox.gz follow: Atom feed
-- links below jump to the message on this page --
2018-09-10 14:33 [ovmf baseline-only test] 75190: trouble: blocked/broken Platform Team regression test user

This is a public inbox, see mirroring instructions
for how to clone and mirror all data and code used for this inbox;
as well as URLs for NNTP newsgroup(s).